Workbook
Name House_Type: #REF!

Sheet Standard HT Database
A1: Master Database - Guidance
A3: Code | B3: House Type | C3: Storey | D3: No. Beds | E3: Occupancy | F3: Unit Type | L3: Area GIA (m²) | M3: Area GIA (ft²) | N3: Area NIA (m²) | O3: Area NIA (ft²)
F4: Detached | G4: Semi | H4: Terrace | I4: FOG | J4: Apartment | K4: Maisonette
B5: 121 | C5: 2 | D5: 1 | E5: 2 | G5: P | H5: P | L5: 61.96 | M5: 666.97 | N5: 60.77 | O5: 654 | Q5: The New Vistry Collection
B6: 122 (GF) | C6: 1 | D6: 1 | E6: 2 | K6: P | L6: 55.19 | M6: 594.01 | N6: 54.36 | O6: 585
B7: 122 (FF) | C7: 1 | D7: 1 | E7: 2 | K7: P | L7: 70.37 | M7: 757.51 | N7: 69.18 | O7: 745
B8: 231 | C8: 2 | D8: 2 | E8: 3 | F8: P | I8: P | L8: 75.24 | M8: 809.91 | N8: 74.01 | O8: 797
B9: 232 | C9: 2 | D9: 2 | E9: 3 | G9: P | H9: P | L9: 72.51 | M9: 780.5 | N9: 71.25 | O9: 767
B10: 233 | C10: 1 | D10: 2 | E10: 3 | F10: P | G10: P | L10: 64.84 | M10: 697.91 | N10: 63.5 | O10: 684 | Q10: VNC has GIA value as the net sales area in most schedules which is wrong. Net sales area should be to the innter face of plasterboard. Areas taken from planning info standard HT drawings which has the correct values listed in the sheet schedule.
B11: 234 | C11: 1 | D11: 2 | E11: 3 | F11: P | G11: P | L11: 74.95 | M11: 806.78 | N11: 74.07 | O11: 797
B12: 235 | C12: 2 | D12: 2 | E12: 3 | G12: P | H12: P | L12: 106.58 | M12: 1147.19 | N12: 105.07 | O12: 1131
B13: 236 | C13: 2 | D13: 2 | E13: 3 | F13: P | G13: P | L13: 78.13 | M13: 840.99 | N13: 76.83 | O13: 827
B14: 237 | C14: 2 | D14: 2 | E14: 3 | G14: P | H14: P | L14: 65.93 | M14: 709.67 | N14: 63.71 | O14: 686
B15: 241 | C15: 2 | D15: 2 | E15: 4 | G15: P | H15: P | L15: 81.63 | M15: 878.66 | N15: 80.31 | O15: 864
B16: 242 | C16: 2 | D16: 2 | E16: 4 | G16: P | H16: P | L16: 81.63 | M16: 878.66 | N16: 80.31 | O16: 864
B17: 341 | C17: 2 | D17: 3 | E17: 4 | G17: P | H17: P | L17: 89.4 | M17: 962.33 | N17: 87.9 | O17: 946
B18: 342 | C18: 2 | D18: 3 | E18: 4 | G18: P | H18: P | L18: 88.72 | M18: 954.98 | N18: 87.35 | O18: 940
B19: 343 | C19: 2 | D19: 3 | E19: 4 | G19: P | H19: P | L19: 121.7 | M19: 1309.97 | N19: 120.07 | O19: 1292
B20: 344 | C20: 2 | D20: 3 | E20: 4 | G20: P | H20: P | L20: 78.08 | M20: 840.47 | N20: 75.63 | O20: 814
B21: 345 | C21: 2 | D21: 3 | E21: 4 | F21: P | G21: P | L21: 88.97 | M21: 957.71 | N21: 86.01 | O21: 926
B22: 351 | C22: 2 | D22: 3 | E22: 5 | G22: P | H22: P | L22: 97.16 | M22: 1045.81 | N22: 95.74 | O22: 1031
B23: 352 | C23: 2 | D23: 3 | E23: 5 | G23: P | H23: P | L23: 95.48 | M23: 1027.78 | N23: 94.05 | O23: 1012
B24: 353 | C24: 2 | D24: 3 | E24: 5 | F24: P | L24: 102.78 | M24: 1106.32 | N24: 101.09 | O24: 1088
B25: 354 | C25: 2 | D25: 3 | E25: 5 | F25: P | G25: P | L25: 110.4 | M25: 1188.39 | N25: 108.87 | O25: 1172
B26: 355 | C26: 2 | D26: 3 | E26: 5 | F26: P | G26: P | L26: 110.4 | M26: 1188.39 | N26: 108.87 | O26: 1172
B27: 356 | C27: 2.5 | D27: 3 | E27: 5 | G27: P | H27: P | L27: 108.62 | M27: 1169.2 | N27: 106.87 | O27: 1150
B28: 357 | C28: 3 | D28: 3 | E28: 5 | G28: P | H28: P | L28: 110.87 | M28: 1193.38 | N28: 108.95 | O28: 1173
B29: 361 | C29: 2 | D29: 3 | E29: 6 | G29: P | H29: P | L29: 106.12 | M29: 1142.28 | N29: 104.65 | O29: 1126
B30: 362 | C30: 2 | D30: 3 | E30: 6 | G30: P | H30: P | L30: 104.84 | M30: 1128.51 | N30: 103.38 | O30: 1113
B31: 363 | C31: 3 | D31: 3 | E31: 6 | G31: P | H31: P | L31: 122.78 | M31: 1321.6 | N31: 120.8 | O31: 1300
B32: 364 | C32: 2 | D32: 3 | E32: 6 | F32: P | L32: 111.53 | M32: 1200.51 | N32: 109.99 | O32: 1184
B33: 451 | C33: 2 | D33: 4 | E33: 5 | G33: P | L33: 110.93 | M33: 1194.02 | N33: 109.41 | O33: 1178
B34: 452 | C34: 2 | D34: 4 | E34: 5 | G34: P | L34: 110.93 | M34: 1194.02 | N34: 109.41 | O34: 1178
B35: 461 | C35: 2 | D35: 4 | E35: 6 | F35: P | L35: 122.07 | M35: 1313.98 | N35: 120.46 | O35: 1297
B36: 462 | C36: 2 | D36: 4 | E36: 6 | F36: P | L36: 132.09 | M36: 1421.77 | N36: 130.46 | O36: 1404
B37: 463 | C37: 2 | D37: 4 | E37: 6 | G37: P | L37: 110.95 | M37: 1194.22 | N37: 108.13 | O37: 1164
B38: 464 | C38: 2.5 | D38: 4 | E38: 6 | G38: P | L38: 113.9 | M38: 1226.05 | N38: 112.36 | O38: 1209
B39: 465 | C39: 3 | D39: 4 | E39: 6 | G39: P | L39: 136.22 | M39: 1466.3 | N39: 134.14 | O39: 1444
B40: 466 | C40: 2 | D40: 4 | E40: 6 | F40: P | G40: P | L40: 133.33 | M40: 1435.18 | N40: 129.81 | O40: 1397
B41: 467 | C41: 2 | D41: 4 | E41: 6 | F41: P | G41: P | L41: 139.39 | M41: 1500.38 | N41: 137.61 | O41: 1481
...

Sheet Master Database
A1: MASTER SHEET
E2: Land West Of Imberhorne Lane, East Grinstead
A3: LSE*** | E3: 46153
CB5: As | CC5: SG
BY6: Private | CB6: Opp | CC6: DG
BY7: Shared Ownership | CC7: CB
C8: Private: | D8: Private: | H8: Mandatory Information for NHQC upload to Coins | BY8: Rented | CC8: CP
C9: Rented: | D9: Rented: | Q9: (to plasterboard) | S9: (to blockwork) | BY9: First Homes | CC9: SG*
C10: Shared Ownership: | D10: Shared Ownership: | CC10: DG*
C11: Bulk: | D11: Bulk: | CC11: CB*
C12: Commercial: | D12: Commercial: | CC12: CP*
C13: Total No. Units: | D13: Total No. Units: | CC13: SG**
CC14: DG**
A15: Plot No. | B15: Brand | C15: Phase No. | D15: Block No. | E15: Tenure | F15: House Type Name | G15: Housetype Marketing Name | H15: COINS Suffix Linden: C - Standard, V - Non-standard, A - Affordable Bovis: N - Standard (Informal), V - Non-standard, A - Affordable | I15: Variant | J15: Handing | K15: Storey | L15: Floor Level (GF, FF, SF, etc) - Applicable to apartments | M15: Total no. of Storeys in Building - Applicable to apartments | N15: Total no. of units in building - Applicable to apartments | O15: Beds | P15: Persons | Q15: Net Sales Area (ft²) | R15: Net Sales Area (m²) | S15: Gross Sales Area (ft²) | T15: Gross Sales Area (m²) | U15: Rear Garden Area (m²) | V15: Single Garage (SG) / Double Garage (DG) / Carbarn (CB) / Carport (CP) * denotes power & lighting to G/CB/CP ** denotes lighting only to G/CB/CP | W15: Allocated Garage (No.) | X15: Allocated Parking Space (No.) | Y15: Allocated Parking Space (No.) | Z15: Allocated Parking Space (No.) | AA15: Allocated Parking Space (No.) | AB15: Allocated Parking Space (No.) | AC15: Allocated Parking Space (No.) | AD15: Allocated Parking Space (No.) | AE15: Allocated Parking Space (No.) | AF15: Allocated Parking Space (No.) | AG15: Allocated Parking Space (No.) | AH15: Allocated Parking Space (No.) | AI15: Allocated Parking Space (No.) | AJ15: Allocated Parking Space (No.) | AK15: Allocated Parking Space (No.) | AL15: Allocated Parking Space (No.) | AM15: Allocated Parking Space (No.) | AN15: Allocated Parking Space (No.) | AO15: Allocated Parking Space (No.) | AP15: Allocated Parking Space (No.) | AQ15: Allocated Parking Space (No.) | AR15: Allocated Parking Space (No.) | AS15: Allocated Parking Space (No.) | AT15: Allocated Parking Space (No.) | AU15: Allocated Parking Space (No.) | AV15: Allocated Parking Space (No.) | AW15: Allocated Parking Space (No.) | AX15: Allocated Parking Space (No.) | AY15: Allocated Parking Space (No.) | AZ15: Allocated Parking Space (No.) | BA15: Allocated Parking Space (No.) | BB15: Allocated Parking Space (No.) | BC15: Allocated Parking Space (No.) | BD15: Allocated Parking Space (No.) | BE15: Allocated Parking Space (No.) | BF15: Allocated Parking Space (No.) | BG15: Allocated Parking Space (No.) | BH15: Allocated Parking Space (No.) | BI15: Allocated Parking Space (No.) | BJ15: Allocated Parking Space (No.) | BK15: Allocated Parking Space (No.) | BL15: Allocated Parking Space (No.) | BM15: Allocated Parking Space (No.) | BN15: Allocated Parking Space (No.) | BO15: Allocated Parking Space (No.) | BP15: Allocated Parking Space (No.) | BQ15: Allocated Parking Space (No.) | BR15: NDSS (Y/N) | BS15: M4(2) / M4(3) | CC15: CB**
A16: 001 | B16: Linden | E16: Private | F16: 354 | I16: Detached | K16: =_xlfn.XLOOKUP($F16,'Standard HT Database'!$B$5:$B$172,'Standard HT Database'!C$5:C$172) -> 2 | O16: =_xlfn.XLOOKUP($F16,'Standard HT Database'!$B$5:$B$172,'Standard HT Database'!D$5:D$172) -> 3 | P16: =_xlfn.XLOOKUP($F16,'Standard HT Database'!$B$5:$B$172,'Standard HT Database'!E$5:E$172) -> 5 | Q16: =_xlfn.XLOOKUP($F16,'Standard HT Database'!$B$5:$B$172,'Standard HT Database'!O$5:O$172) -> 1172 | R16: =_xlfn.XLOOKUP($F16,'Standard HT Database'!$B$5:$B$172,'Standard HT Database'!N$5:N$172) -> 108.87 | S16: =_xlfn.XLOOKUP($F16,'Standard HT Database'!$B$5:$B$172,'Standard HT Database'!M$5:M$172) -> 1188.39 | T16: =_xlfn.XLOOKUP($F16,'Standard HT Database'!$B$5:$B$172,'Standard HT Database'!L$5:L$172) -> 110.4 | W16: 0 | X16: 2 | BR16: Y | BS16: M4(2) | CC16: CP**
A17: 002 | B17: Linden | E17: Private | F17: 352 | I17: Detached | K17: =_xlfn.XLOOKUP($F17,'Standard HT Database'!$B$5:$B$172,'Standard HT Database'!C$5:C$172) -> 2 | O17: =_xlfn.XLOOKUP($F17,'Standard HT Database'!$B$5:$B$172,'Standard HT Database'!D$5:D$172) -> 3 | P17: =_xlfn.XLOOKUP($F17,'Standard HT Database'!$B$5:$B$172,'Standard HT Database'!E$5:E$172) -> 5 | Q17: =_xlfn.XLOOKUP($F17,'Standard HT Database'!$B$5:$B$172,'Standard HT Database'!O$5:O$172) -> 1012 | R17: =_xlfn.XLOOKUP($F17,'Standard HT Database'!$B$5:$B$172,'Standard HT Database'!N$5:N$172) -> 94.05 | S17: =_xlfn.XLOOKUP($F17,'Standard HT Database'!$B$5:$B$172,'Standard HT Database'!M$5:M$172) -> 1027.78 | T17: =_xlfn.XLOOKUP($F17,'Standard HT Database'!$B$5:$B$172,'Standard HT Database'!L$5:L$172) -> 95.48 | W17: 1 | X17: 2 | BR17: Y | BS17: M4(2)
A18: 003 | B18: Bovis | E18: Private | F18: 462 | I18: Detached | K18: =_xlfn.XLOOKUP($F18,'Standard HT Database'!$B$5:$B$172,'Standard HT Database'!C$5:C$172) -> 2 | O18: =_xlfn.XLOOKUP($F18,'Standard HT Database'!$B$5:$B$172,'Standard HT Database'!D$5:D$172) -> 4 | P18: =_xlfn.XLOOKUP($F18,'Standard HT Database'!$B$5:$B$172,'Standard HT Database'!E$5:E$172) -> 6 | Q18: =_xlfn.XLOOKUP($F18,'Standard HT Database'!$B$5:$B$172,'Standard HT Database'!O$5:O$172) -> 1404 | R18: =_xlfn.XLOOKUP($F18,'Standard HT Database'!$B$5:$B$172,'Standard HT Database'!N$5:N$172) -> 130.46 | S18: =_xlfn.XLOOKUP($F18,'Standard HT Database'!$B$5:$B$172,'Standard HT Database'!M$5:M$172) -> 1421.77 | T18: =_xlfn.XLOOKUP($F18,'Standard HT Database'!$B$5:$B$172,'Standard HT Database'!L$5:L$172) -> 132.09 | W18: 1 | X18: 2 | BR18: Y | BS18: M4(2)
A19: 004 | B19: Bovis | E19: Private | F19: 581 | I19: Detached | K19: =_xlfn.XLOOKUP($F19,'Standard HT Database'!$B$5:$B$172,'Standard HT Database'!C$5:C$172) -> 2 | O19: =_xlfn.XLOOKUP($F19,'Standard HT Database'!$B$5:$B$172,'Standard HT Database'!D$5:D$172) -> 5 | P19: =_xlfn.XLOOKUP($F19,'Standard HT Database'!$B$5:$B$172,'Standard HT Database'!E$5:E$172) -> 8 | Q19: =_xlfn.XLOOKUP($F19,'Standard HT Database'!$B$5:$B$172,'Standard HT Database'!O$5:O$172) -> 1774 | R19: =_xlfn.XLOOKUP($F19,'Standard HT Database'!$B$5:$B$172,'Standard HT Database'!N$5:N$172) -> 164.77 | S19: =_xlfn.XLOOKUP($F19,'Standard HT Database'!$B$5:$B$172,'Standard HT Database'!M$5:M$172) -> 1793.71 | T19: =_xlfn.XLOOKUP($F19,'Standard HT Database'!$B$5:$B$172,'Standard HT Database'!L$5:L$172) -> 166.64 | W19: 1 | X19: 2 | BR19: Y | BS19: M4(2)
A20: 005 | B20: Bovis | E20: Private | F20: 466 | I20: Detached | K20: =_xlfn.XLOOKUP($F20,'Standard HT Database'!$B$5:$B$172,'Standard HT Database'!C$5:C$172) -> 2 | O20: =_xlfn.XLOOKUP($F20,'Standard HT Database'!$B$5:$B$172,'Standard HT Database'!D$5:D$172) -> 4 | P20: =_xlfn.XLOOKUP($F20,'Standard HT Database'!$B$5:$B$172,'Standard HT Database'!E$5:E$172) -> 6 | Q20: =_xlfn.XLOOKUP($F20,'Standard HT Database'!$B$5:$B$172,'Standard HT Database'!O$5:O$172) -> 1397 | R20: =_xlfn.XLOOKUP($F20,'Standard HT Database'!$B$5:$B$172,'Standard HT Database'!N$5:N$172) -> 129.81 | S20: =_xlfn.XLOOKUP($F20,'Standard HT Database'!$B$5:$B$172,'Standard HT Database'!M$5:M$172) -> 1435.18 | T20: =_xlfn.XLOOKUP($F20,'Standard HT Database'!$B$5:$B$172,'Standard HT Database'!L$5:L$172) -> 133.33 | W20: 1 | X20: 2 | BR20: Y | BS20: M4(2)
A21: 006 | B21: Bovis | E21: Private | F21: 466 | I21: Detached | K21: =_xlfn.XLOOKUP($F21,'Standard HT Database'!$B$5:$B$172,'Standard HT Database'!C$5:C$172) -> 2 | O21: =_xlfn.XLOOKUP($F21,'Standard HT Database'!$B$5:$B$172,'Standard HT Database'!D$5:D$172) -> 4 | P21: =_xlfn.XLOOKUP($F21,'Standard HT Database'!$B$5:$B$172,'Standard HT Database'!E$5:E$172) -> 6 | Q21: =_xlfn.XLOOKUP($F21,'Standard HT Database'!$B$5:$B$172,'Standard HT Database'!O$5:O$172) -> 1397 | R21: =_xlfn.XLOOKUP($F21,'Standard HT Database'!$B$5:$B$172,'Standard HT Database'!N$5:N$172) -> 129.81 | S21: =_xlfn.XLOOKUP($F21,'Standard HT Database'!$B$5:$B$172,'Standard HT Database'!M$5:M$172) -> 1435.18 | T21: =_xlfn.XLOOKUP($F21,'Standard HT Database'!$B$5:$B$172,'Standard HT Database'!L$5:L$172) -> 133.33 | W21: 1 | X21: 2 | BR21: Y | BS21: M4(2)
A22: 007 | B22: Bovis | E22: Private | F22: 462 | I22: Detached | K22: =_xlfn.XLOOKUP($F22,'Standard HT Database'!$B$5:$B$172,'Standard HT Database'!C$5:C$172) -> 2 | O22: =_xlfn.XLOOKUP($F22,'Standard HT Database'!$B$5:$B$172,'Standard HT Database'!D$5:D$172) -> 4 | P22: =_xlfn.XLOOKUP($F22,'Standard HT Database'!$B$5:$B$172,'Standard HT Database'!E$5:E$172) -> 6 | Q22: =_xlfn.XLOOKUP($F22,'Standard HT Database'!$B$5:$B$172,'Standard HT Database'!O$5:O$172) -> 1404 | R22: =_xlfn.XLOOKUP($F22,'Standard HT Database'!$B$5:$B$172,'Standard HT Database'!N$5:N$172) -> 130.46 | S22: =_xlfn.XLOOKUP($F22,'Standard HT Database'!$B$5:$B$172,'Standard HT Database'!M$5:M$172) -> 1421.77 | T22: =_xlfn.XLOOKUP($F22,'Standard HT Database'!$B$5:$B$172,'Standard HT Database'!L$5:L$172) -> 132.09 | W22: 1 | X22: 2 | BR22: Y | BS22: M4(2)
A23: 008 | B23: Bovis | E23: Private | F23: 581 | I23: Detached | K23: =_xlfn.XLOOKUP($F23,'Standard HT Database'!$B$5:$B$172,'Standard HT Database'!C$5:C$172) -> 2 | O23: =_xlfn.XLOOKUP($F23,'Standard HT Database'!$B$5:$B$172,'Standard HT Database'!D$5:D$172) -> 5 | P23: =_xlfn.XLOOKUP($F23,'Standard HT Database'!$B$5:$B$172,'Standard HT Database'!E$5:E$172) -> 8 | Q23: =_xlfn.XLOOKUP($F23,'Standard HT Database'!$B$5:$B$172,'Standard HT Database'!O$5:O$172) -> 1774 | R23: =_xlfn.XLOOKUP($F23,'Standard HT Database'!$B$5:$B$172,'Standard HT Database'!N$5:N$172) -> 164.77 | S23: =_xlfn.XLOOKUP($F23,'Standard HT Database'!$B$5:$B$172,'Standard HT Database'!M$5:M$172) -> 1793.71 | T23: =_xlfn.XLOOKUP($F23,'Standard HT Database'!$B$5:$B$172,'Standard HT Database'!L$5:L$172) -> 166.64 | W23: 1 | X23: 2 | BR23: Y | BS23: M4(2)
A24: 009 | B24: Linden | E24: Private | F24: 354 | I24: Detached | K24: =_xlfn.XLOOKUP($F24,'Standard HT Database'!$B$5:$B$172,'Standard HT Database'!C$5:C$172) -> 2 | O24: =_xlfn.XLOOKUP($F24,'Standard HT Database'!$B$5:$B$172,'Standard HT Database'!D$5:D$172) -> 3 | P24: =_xlfn.XLOOKUP($F24,'Standard HT Database'!$B$5:$B$172,'Standard HT Database'!E$5:E$172) -> 5 | Q24: =_xlfn.XLOOKUP($F24,'Standard HT Database'!$B$5:$B$172,'Standard HT Database'!O$5:O$172) -> 1172 | R24: =_xlfn.XLOOKUP($F24,'Standard HT Database'!$B$5:$B$172,'Standard HT Database'!N$5:N$172) -> 108.87 | S24: =_xlfn.XLOOKUP($F24,'Standard HT Database'!$B$5:$B$172,'Standard HT Database'!M$5:M$172) -> 1188.39 | T24: =_xlfn.XLOOKUP($F24,'Standard HT Database'!$B$5:$B$172,'Standard HT Database'!L$5:L$172) -> 110.4 | W24: 0 | X24: 2 | BR24: Y | BS24: M4(2)
A25: 010 | B25: Linden | E25: Private | F25: 352 | I25: Semi-Detached | K25: =_xlfn.XLOOKUP($F25,'Standard HT Database'!$B$5:$B$172,'Standard HT Database'!C$5:C$172) -> 2 | O25: =_xlfn.XLOOKUP($F25,'Standard HT Database'!$B$5:$B$172,'Standard HT Database'!D$5:D$172) -> 3 | P25: =_xlfn.XLOOKUP($F25,'Standard HT Database'!$B$5:$B$172,'Standard HT Database'!E$5:E$172) -> 5 | Q25: =_xlfn.XLOOKUP($F25,'Standard HT Database'!$B$5:$B$172,'Standard HT Database'!O$5:O$172) -> 1012 | R25: =_xlfn.XLOOKUP($F25,'Standard HT Database'!$B$5:$B$172,'Standard HT Database'!N$5:N$172) -> 94.05 | S25: =_xlfn.XLOOKUP($F25,'Standard HT Database'!$B$5:$B$172,'Standard HT Database'!M$5:M$172) -> 1027.78 | T25: =_xlfn.XLOOKUP($F25,'Standard HT Database'!$B$5:$B$172,'Standard HT Database'!L$5:L$172) -> 95.48 | W25: 0 | X25: 2 | BR25: Y | BS25: M4(2)
A26: 011 | B26: Linden | E26: Private | F26: 352 | I26: Semi-Detached | K26: =_xlfn.XLOOKUP($F26,'Standard HT Database'!$B$5:$B$172,'Standard HT Database'!C$5:C$172) -> 2 | O26: =_xlfn.XLOOKUP($F26,'Standard HT Database'!$B$5:$B$172,'Standard HT Database'!D$5:D$172) -> 3 | P26: =_xlfn.XLOOKUP($F26,'Standard HT Database'!$B$5:$B$172,'Standard HT Database'!E$5:E$172) -> 5 | Q26: =_xlfn.XLOOKUP($F26,'Standard HT Database'!$B$5:$B$172,'Standard HT Database'!O$5:O$172) -> 1012 | R26: =_xlfn.XLOOKUP($F26,'Standard HT Database'!$B$5:$B$172,'Standard HT Database'!N$5:N$172) -> 94.05 | S26: =_xlfn.XLOOKUP($F26,'Standard HT Database'!$B$5:$B$172,'Standard HT Database'!M$5:M$172) -> 1027.78 | T26: =_xlfn.XLOOKUP($F26,'Standard HT Database'!$B$5:$B$172,'Standard HT Database'!L$5:L$172) -> 95.48 | W26: 0 | X26: 2 | BR26: Y | BS26: M4(2)
A27: 012 | B27: Linden | E27: Rented | F27: 242 | I27: Semi-Detached | K27: =_xlfn.XLOOKUP($F27,'Standard HT Database'!$B$5:$B$172,'Standard HT Database'!C$5:C$172) -> 2 | O27: =_xlfn.XLOOKUP($F27,'Standard HT Database'!$B$5:$B$172,'Standard HT Database'!D$5:D$172) -> 2 | P27: =_xlfn.XLOOKUP($F27,'Standard HT Database'!$B$5:$B$172,'Standard HT Database'!E$5:E$172) -> 4 | Q27: =_xlfn.XLOOKUP($F27,'Standard HT Database'!$B$5:$B$172,'Standard HT Database'!O$5:O$172) -> 864 | R27: =_xlfn.XLOOKUP($F27,'Standard HT Database'!$B$5:$B$172,'Standard HT Database'!N$5:N$172) -> 80.31 | S27: =_xlfn.XLOOKUP($F27,'Standard HT Database'!$B$5:$B$172,'Standard HT Database'!M$5:M$172) -> 878.66 | T27: =_xlfn.XLOOKUP($F27,'Standard HT Database'!$B$5:$B$172,'Standard HT Database'!L$5:L$172) -> 81.63 | W27: 0 | X27: 2 | BR27: Y | BS27: M4(2)
A28: 013 | B28: Linden | E28: Rented | F28: 242 | I28: Semi-Detached | K28: =_xlfn.XLOOKUP($F28,'Standard HT Database'!$B$5:$B$172,'Standard HT Database'!C$5:C$172) -> 2 | O28: =_xlfn.XLOOKUP($F28,'Standard HT Database'!$B$5:$B$172,'Standard HT Database'!D$5:D$172) -> 2 | P28: =_xlfn.XLOOKUP($F28,'Standard HT Database'!$B$5:$B$172,'Standard HT Database'!E$5:E$172) -> 4 | Q28: =_xlfn.XLOOKUP($F28,'Standard HT Database'!$B$5:$B$172,'Standard HT Database'!O$5:O$172) -> 864 | R28: =_xlfn.XLOOKUP($F28,'Standard HT Database'!$B$5:$B$172,'Standard HT Database'!N$5:N$172) -> 80.31 | S28: =_xlfn.XLOOKUP($F28,'Standard HT Database'!$B$5:$B$172,'Standard HT Database'!M$5:M$172) -> 878.66 | T28: =_xlfn.XLOOKUP($F28,'Standard HT Database'!$B$5:$B$172,'Standard HT Database'!L$5:L$172) -> 81.63 | W28: 0 | X28: 2 | BR28: Y | BS28: M4(2)
... A61: 046 | B61: Linden | E61: Rented | F61: 242 | I61: Semi-Detached | K61: =_xlfn.XLOOKUP($F61,'Standard HT Database'!$B$5:$B$172,'Standard HT Database'!C$5:C$172) -> 2 | O61: =_xlfn.XLOOKUP($F61,'Standard HT Database'!$B$5:$B$172,'Standard HT Database'!D$5:D$172) -> 2 | P61: =_xlfn.XLOOKUP($F61,'Standard HT Database'!$B$5:$B$172,'Standard HT Database'!E$5:E$172) -> 4 | Q61: =_xlfn.XLOOKUP($F61,'Standard HT Database'!$B$5:$B$172,'Standard HT Database'!O$5:O$172) -> 864 | R61: =_xlfn.XLOOKUP($F61,'Standard HT Database'!$B$5:$B$172,'Standard HT Database'!N$5:N$172) -> 80.31 | S61: =_xlfn.XLOOKUP($F61,'Standard HT Database'!$B$5:$B$172,'Standard HT Database'!M$5:M$172) -> 878.66 | T61: =_xlfn.XLOOKUP($F61,'Standard HT Database'!$B$5:$B$172,'Standard HT Database'!L$5:L$172) -> 81.63 | W61: 0 | X61: 1 | BR61: Y | BS61: M4(2)
A62: 047 | B62: Linden | E62: Rented | F62: BLOCK E | I62: Apartment Block | L62: GF | M62: 3 | N62: 9 | O62: 1 | P62: 2 | Q62: 645 | R62: 59.92 | S62: 654 | T62: 60.76 | W62: 0 | X62: 1 | BR62: Y | BS62: M4(3)
A63: 048 | B63: Linden | E63: Rented | F63: BLOCK E | I63: Apartment Block | L63: GF | M63: 3 | N63: 9 | O63: 1 | P63: 2 | Q63: 547 | R63: 50.82 | S63: 555 | T63: 51.56 | W63: 0 | X63: 1 | BR63: Y
A64: 049 | B64: Linden | E64: Rented | F64: BLOCK E | I64: Apartment Block | L64: GF | M64: 3 | N64: 9 | O64: 2 | P64: 4 | Q64: 762 | R64: 70.79 | S64: 773 | T64: 71.81 | W64: 0 | X64: 1 | BR64: Y
A65: 050 | B65: Linden | E65: Rented | F65: BLOCK E | I65: Apartment Block | L65: FF | M65: 3 | N65: 9 | O65: 1 | P65: 2 | Q65: 645 | R65: 59.92 | S65: 654 | T65: 60.76 | W65: 0 | X65: 1 | BR65: Y
A66: 051 | B66: Linden | E66: Rented | F66: BLOCK E | I66: Apartment Block | L66: FF | M66: 3 | N66: 9 | O66: 1 | P66: 2 | Q66: 547 | R66: 50.82 | S66: 555 | T66: 51.56 | W66: 0 | X66: 1 | BR66: Y
A67: 052 | B67: Linden | E67: Rented | F67: BLOCK E | I67: Apartment Block | L67: FF | M67: 3 | N67: 9 | O67: 2 | P67: 4 | Q67: 762 | R67: 70.79 | S67: 773 | T67: 71.81 | W67: 0 | X67: 1 | BR67: Y
A68: 053 | B68: Linden | E68: Rented | F68: BLOCK E | I68: Apartment Block | L68: SF | M68: 3 | N68: 9 | O68: 1 | P68: 2 | Q68: 645 | R68: 59.92 | S68: 654 | T68: 60.76 | W68: 0 | X68: 1 | BR68: Y
A69: 054 | B69: Linden | E69: Rented | F69: BLOCK E | I69: Apartment Block | L69: SF | M69: 3 | N69: 9 | O69: 1 | P69: 2 | Q69: 547 | R69: 50.82 | S69: 555 | T69: 51.56 | W69: 0 | X69: 1 | BR69: Y
A70: 055 | B70: Linden | E70: Rented | F70: BLOCK E | I70: Apartment Block | L70: SF | M70: 3 | N70: 9 | O70: 2 | P70: 4 | Q70: 762 | R70: 70.79 | S70: 773 | T70: 71.81 | W70: 0 | X70: 1 | BR70: Y
A71: 056 | B71: Linden | E71: Private | F71: 241 | I71: Semi-Detached | K71: =_xlfn.XLOOKUP($F71,'Standard HT Database'!$B$5:$B$172,'Standard HT Database'!C$5:C$172) -> 2 | O71: =_xlfn.XLOOKUP($F71,'Standard HT Database'!$B$5:$B$172,'Standard HT Database'!D$5:D$172) -> 2 | P71: =_xlfn.XLOOKUP($F71,'Standard HT Database'!$B$5:$B$172,'Standard HT Database'!E$5:E$172) -> 4 | Q71: =_xlfn.XLOOKUP($F71,'Standard HT Database'!$B$5:$B$172,'Standard HT Database'!O$5:O$172) -> 864 | R71: =_xlfn.XLOOKUP($F71,'Standard HT Database'!$B$5:$B$172,'Standard HT Database'!N$5:N$172) -> 80.31 | S71: =_xlfn.XLOOKUP($F71,'Standard HT Database'!$B$5:$B$172,'Standard HT Database'!M$5:M$172) -> 878.66 | T71: =_xlfn.XLOOKUP($F71,'Standard HT Database'!$B$5:$B$172,'Standard HT Database'!L$5:L$172) -> 81.63 | W71: 0 | X71: 2 | BR71: Y | BS71: M4(2)
A72: 057 | B72: Linden | E72: Private | F72: 241 | I72: Semi-Detached | K72: =_xlfn.XLOOKUP($F72,'Standard HT Database'!$B$5:$B$172,'Standard HT Database'!C$5:C$172) -> 2 | O72: =_xlfn.XLOOKUP($F72,'Standard HT Database'!$B$5:$B$172,'Standard HT Database'!D$5:D$172) -> 2 | P72: =_xlfn.XLOOKUP($F72,'Standard HT Database'!$B$5:$B$172,'Standard HT Database'!E$5:E$172) -> 4 | Q72: =_xlfn.XLOOKUP($F72,'Standard HT Database'!$B$5:$B$172,'Standard HT Database'!O$5:O$172) -> 864 | R72: =_xlfn.XLOOKUP($F72,'Standard HT Database'!$B$5:$B$172,'Standard HT Database'!N$5:N$172) -> 80.31 | S72: =_xlfn.XLOOKUP($F72,'Standard HT Database'!$B$5:$B$172,'Standard HT Database'!M$5:M$172) -> 878.66 | T72: =_xlfn.XLOOKUP($F72,'Standard HT Database'!$B$5:$B$172,'Standard HT Database'!L$5:L$172) -> 81.63 | W72: 0 | X72: 2 | BR72: Y | BS72: M4(2)
A73: 058 | B73: Linden | E73: Private | F73: 354 | I73: Detached | K73: =_xlfn.XLOOKUP($F73,'Standard HT Database'!$B$5:$B$172,'Standard HT Database'!C$5:C$172) -> 2 | O73: =_xlfn.XLOOKUP($F73,'Standard HT Database'!$B$5:$B$172,'Standard HT Database'!D$5:D$172) -> 3 | P73: =_xlfn.XLOOKUP($F73,'Standard HT Database'!$B$5:$B$172,'Standard HT Database'!E$5:E$172) -> 5 | Q73: =_xlfn.XLOOKUP($F73,'Standard HT Database'!$B$5:$B$172,'Standard HT Database'!O$5:O$172) -> 1172 | R73: =_xlfn.XLOOKUP($F73,'Standard HT Database'!$B$5:$B$172,'Standard HT Database'!N$5:N$172) -> 108.87 | S73: =_xlfn.XLOOKUP($F73,'Standard HT Database'!$B$5:$B$172,'Standard HT Database'!M$5:M$172) -> 1188.39 | T73: =_xlfn.XLOOKUP($F73,'Standard HT Database'!$B$5:$B$172,'Standard HT Database'!L$5:L$172) -> 110.4 | W73: 0 | X73: 2 | BR73: Y | BS73: M4(2)
...

Sheet COINS Codes
A1: COINS UPLOAD FORM (For Commercial use)
A2: LSE*** | C2: Site Name & Address | G2: REV: | H2: ='Master Database'!W5 -> 0
A4: Plot No. | B4: COINS House Type Code | C4: COINS Code
C5: Style 1 | D5: Size 2 | E5: Size 3 | F5: Size 4 | G5: Type 5 | H5: Type 6
C6: Linden: C - Standard V - Non-standard A - Affordable Bovis: N - Standard (Informal) V - Non-standard A - Affordable | D6: House type reference/first three letters of name - refer to Guidance Example: BEC - Becket 204 - Holly ELM - Elmslie 309 - Beech MYL - Mylne 411 - Willow | G6: 00 - Detached 01 - Left Hand 02 - Mid 03 - Right Hand 04 - Apartment 05 - Variant Detached 06 - Variant Left Hand 07 - Variant Mid 08 - Variant Right Hand (Variant = Non-standard)
A7: ='Master Database'!A16 -> 001
A8: ='Master Database'!A17 -> 002
A9: ='Master Database'!A18 -> 003
A10: ='Master Database'!A19 -> 004
A11: ='Master Database'!A20 -> 005
A12: ='Master Database'!A21 -> 006
A13: ='Master Database'!A22 -> 007
A14: ='Master Database'!A23 -> 008
A15: ='Master Database'!A24 -> 009
A16: ='Master Database'!A25 -> 010
A17: ='Master Database'!A26 -> 011
A18: ='Master Database'!A27 -> 012
... A95: ='Master Database'!A104 -> 089
A96: ='Master Database'!#REF! -> #REF!
A97: ='Master Database'!A105 -> 090
A98: ='Master Database'!A106 -> 091
A99: ='Master Database'!A107 -> 092
A100: ='Master Database'!A108 -> 093
A101: ='Master Database'!A109 -> 094
A102: ='Master Database'!A110 -> 095
A103: ='Master Database'!A111 -> 096
A104: ='Master Database'!A112 -> 097
A105: ='Master Database'!A113 -> 098
A106: ='Master Database'!A114 -> 099
A107: ='Master Database'!A115 -> 100
A108: ='Master Database'!A116 -> 101
... A306: ='Master Database'!A314 -> 299

Sheet Accommodation Schedule
A1: ACCOMMODATION SCHEDULE
A2: LSE*** | E2: Site Name & Address | L2: REV: | M2: ='Master Database'!W6 -> 0
A4: Private Summary
A5: Description | C5: House Type | D5: Marketing Name | E5: Area ft² (NIA) | F5: Area m² (NIA) | G5: No. units | H5: Total Area m² (NIA) | J5: Total Area Ft.² (NIA)
A6: ??? | H6: =F6*G6 -> 0 | J6: =E6*G6 -> 0
A7: ??? | H7: =F7*G7 -> 0 | J7: =E7*G7 -> 0
A8: ??? | H8: =F8*G8 -> 0 | J8: =E8*G8 -> 0
A9: ??? | H9: =F9*G9 -> 0 | J9: =E9*G9 -> 0
A10: ??? | H10: =F10*G10 -> 0 | J10: =E10*G10 -> 0
A11: ??? | H11: =F11*G11 -> 0 | J11: =E11*G11 -> 0
A12: ??? | H12: =F12*G12 -> 0 | J12: =E12*G12 -> 0
A13: ??? | H13: =F13*G13 -> 0 | J13: =E13*G13 -> 0
A14: ??? | H14: =F14*G14 -> 0 | J14: =E14*G14 -> 0
A15: ??? | H15: =F15*G15 -> 0 | J15: =E15*G15 -> 0
A16: ??? | H16: =F16*G16 -> 0 | J16: =E16*G16 -> 0
A17: ??? | H17: =F17*G17 -> 0 | J17: =E17*G17 -> 0
... A21: ??? | H21: =F21*G21 -> 0 | J21: =E21*G21 -> 0
A22: PRIVATE TOTAL | G22: =SUM(G6:G21) -> 0 | H22: =SUM(H6:I21) -> 0 | J22: =SUM(J6:J21) -> 0
A24: Affordable Summary
A25: Description | C25: House Type | D25: Marketing Name | E25: Area ft² (NIA) | F25: Area m² (NIA) | G25: No. units | H25: Total Area m² (NIA) | J25: Total Area Ft.² (NIA)
A26: ??? | H26: =F26*G26 -> 0 | J26: =E26*G26 -> 0
A27: ??? | H27: =F27*G27 -> 0 | J27: =E27*G27 -> 0
A28: ??? | H28: =F28*G28 -> 0 | J28: =E28*G28 -> 0
A29: ??? | H29: =F29*G29 -> 0 | J29: =E29*G29 -> 0
A30: ??? | H30: =F30*G30 -> 0 | J30: =E30*G30 -> 0
A31: ??? | H31: =F31*G31 -> 0 | J31: =E31*G31 -> 0
A32: ??? | H32: =F32*G32 -> 0 | J32: =E32*G32 -> 0
A33: ??? | H33: =F33*G33 -> 0 | J33: =E33*G33 -> 0
A34: ??? | H34: =F34*G34 -> 0 | J34: =E34*G34 -> 0
A35: ??? | H35: =F35*G35 -> 0 | J35: =E35*G35 -> 0
A36: ??? | H36: =F36*G36 -> 0 | J36: =E36*G36 -> 0
A37: ??? | H37: =F37*G37 -> 0 | J37: =E37*G37 -> 0
... A41: ??? | H41: =F41*G41 -> 0 | J41: =E41*G41 -> 0
A42: Rented Total | G42: =SUM(G26:G41) -> 0 | H42: =SUM(H26:I41) -> 0 | J42: =SUM(J26:J41) -> 0
A43: ??? | H43: =F43*G43 -> 0 | J43: =F43*G43 -> 0
A44: ??? | H44: =F44*G44 -> 0 | J44: =F44*G44 -> 0
A45: SO Total | G45: =SUM(G43:G44) -> 0 | H45: =SUM(H43:I44) -> 0 | J45: =SUM(J43:J44) -> 0
A47: AFFORDABLE TOTAL | G47: =G42+G45 -> 0 | H47: =H42+H45 -> 0 | J47: =J42+J45 -> 0
F49: TOTAL | G49: =G22*G47 -> 0 | H49: =H22+H47 -> 0 | J49: =J22+J47 -> 0
A51: ='Master Database'!A15 -> Plot No. | B51: ='COINS Codes'!B4 -> COINS House Type Code | C51: House Type | D51: Marketing Name | E51: Storey | F51: Tenure | G51: Net Sales Area (ft²) | H51: Net Sales Area (m²) | J51: Floor Level (GF, FF, SF, etc) - Applicable to apartments | K51: Handing | L51: Beds
...

Sheet Ext Materials Schedule
A1: EXTERNAL MATERIALS SCHEDULE
A2: LSE*** | C2: Site Name & Address | S2: REV: | T2: ='Master Database'!W7 -> 0
A4: ='Master Database'!A15 -> Plot No. | B4: ='Master Database'!C15 -> Phase No. | C4: ='Master Database'!D15 -> Block No. | D4: ='Master Database'!F15 -> House Type Name | E4: ='Master Database'!E15 -> Tenure | F4: ='Master Database'!AE15 -> Allocated Parking Space (No.) | G4: ='Master Database'!AF15 -> Allocated Parking Space (No.) | H4: ='Master Database'!AG15 -> Allocated Parking Space (No.) | I4: ='Master Database'!AH15 -> Allocated Parking Space (No.) | J4: ='Master Database'!AI15 -> Allocated Parking Space (No.) | K4: ='Master Database'!AJ15 -> Allocated Parking Space (No.) | L4: ='Master Database'!AK15 -> Allocated Parking Space (No.) | M4: ='Master Database'!AL15 -> Allocated Parking Space (No.) | ... P4: ='Master Database'!AO15 -> Allocated Parking Space (No.) | Q4: ='Master Database'!AR15 -> Allocated Parking Space (No.) | R4: ='Master Database'!AS15 -> Allocated Parking Space (No.) | S4: ='Master Database'!AT15 -> Allocated Parking Space (No.) | T4: ='Master Database'!AU15 -> Allocated Parking Space (No.) | AB4: Sales Class
A5: ='Master Database'!A16 -> 001 | B5: ='Master Database'!C16 -> 0 | C5: ='Master Database'!D16 -> 0 | D5: ='Master Database'!F16 -> 354 | E5: ='Master Database'!E16 -> Private | F5: ='Master Database'!AE16 -> 0 | G5: ='Master Database'!AF16 -> 0 | H5: ='Master Database'!AG16 -> 0 | I5: ='Master Database'!AH16 -> 0 | J5: ='Master Database'!AI16 -> 0 | K5: ='Master Database'!AJ16 -> 0 | L5: ='Master Database'!AK16 -> 0 | M5: ='Master Database'!AL16 -> 0 | ... P5: ='Master Database'!AO16 -> 0 | Q5: ='Master Database'!AR16 -> 0 | R5: ='Master Database'!AS16 -> 0 | S5: ='Master Database'!AT16 -> 0 | T5: ='Master Database'!AU16 -> 0 | AB5: =#REF! -> #REF!
A6: ='Master Database'!A17 -> 002 | B6: ='Master Database'!C17 -> 0 | C6: ='Master Database'!D17 -> 0 | D6: ='Master Database'!F17 -> 352 | E6: ='Master Database'!E17 -> Private | F6: ='Master Database'!AE17 -> 0 | G6: ='Master Database'!AF17 -> 0 | H6: ='Master Database'!AG17 -> 0 | I6: ='Master Database'!AH17 -> 0 | J6: ='Master Database'!AI17 -> 0 | K6: ='Master Database'!AJ17 -> 0 | L6: ='Master Database'!AK17 -> 0 | M6: ='Master Database'!AL17 -> 0 | ... P6: ='Master Database'!AO17 -> 0 | Q6: ='Master Database'!AR17 -> 0 | R6: ='Master Database'!AS17 -> 0 | S6: ='Master Database'!AT17 -> 0 | T6: ='Master Database'!AU17 -> 0 | AB6: =#REF! -> #REF!
A7: ='Master Database'!A18 -> 003 | B7: ='Master Database'!C18 -> 0 | C7: ='Master Database'!D18 -> 0 | D7: ='Master Database'!F18 -> 462 | E7: ='Master Database'!E18 -> Private | F7: ='Master Database'!AE18 -> 0 | G7: ='Master Database'!AF18 -> 0 | H7: ='Master Database'!AG18 -> 0 | I7: ='Master Database'!AH18 -> 0 | J7: ='Master Database'!AI18 -> 0 | K7: ='Master Database'!AJ18 -> 0 | L7: ='Master Database'!AK18 -> 0 | M7: ='Master Database'!AL18 -> 0 | ... P7: ='Master Database'!AO18 -> 0 | Q7: ='Master Database'!AR18 -> 0 | R7: ='Master Database'!AS18 -> 0 | S7: ='Master Database'!AT18 -> 0 | T7: ='Master Database'!AU18 -> 0 | AB7: =#REF! -> #REF!
A8: ='Master Database'!A19 -> 004 | B8: ='Master Database'!C19 -> 0 | C8: ='Master Database'!D19 -> 0 | D8: ='Master Database'!F19 -> 581 | E8: ='Master Database'!E19 -> Private | F8: ='Master Database'!AE19 -> 0 | G8: ='Master Database'!AF19 -> 0 | H8: ='Master Database'!AG19 -> 0 | I8: ='Master Database'!AH19 -> 0 | J8: ='Master Database'!AI19 -> 0 | K8: ='Master Database'!AJ19 -> 0 | L8: ='Master Database'!AK19 -> 0 | M8: ='Master Database'!AL19 -> 0 | ... P8: ='Master Database'!AO19 -> 0 | Q8: ='Master Database'!AR19 -> 0 | R8: ='Master Database'!AS19 -> 0 | S8: ='Master Database'!AT19 -> 0 | T8: ='Master Database'!AU19 -> 0 | AB8: =#REF! -> #REF!
A9: ='Master Database'!A20 -> 005 | B9: ='Master Database'!C20 -> 0 | C9: ='Master Database'!D20 -> 0 | D9: ='Master Database'!F20 -> 466 | E9: ='Master Database'!E20 -> Private | F9: ='Master Database'!AE20 -> 0 | G9: ='Master Database'!AF20 -> 0 | H9: ='Master Database'!AG20 -> 0 | I9: ='Master Database'!AH20 -> 0 | J9: ='Master Database'!AI20 -> 0 | K9: ='Master Database'!AJ20 -> 0 | L9: ='Master Database'!AK20 -> 0 | M9: ='Master Database'!AL20 -> 0 | ... P9: ='Master Database'!AO20 -> 0 | Q9: ='Master Database'!AR20 -> 0 | R9: ='Master Database'!AS20 -> 0 | S9: ='Master Database'!AT20 -> 0 | T9: ='Master Database'!AU20 -> 0 | AB9: =#REF! -> #REF!
A10: ='Master Database'!A21 -> 006 | B10: ='Master Database'!C21 -> 0 | C10: ='Master Database'!D21 -> 0 | D10: ='Master Database'!F21 -> 466 | E10: ='Master Database'!E21 -> Private | F10: ='Master Database'!AE21 -> 0 | G10: ='Master Database'!AF21 -> 0 | H10: ='Master Database'!AG21 -> 0 | I10: ='Master Database'!AH21 -> 0 | J10: ='Master Database'!AI21 -> 0 | K10: ='Master Database'!AJ21 -> 0 | L10: ='Master Database'!AK21 -> 0 | M10: ='Master Database'!AL21 -> 0 | ... P10: ='Master Database'!AO21 -> 0 | Q10: ='Master Database'!AR21 -> 0 | R10: ='Master Database'!AS21 -> 0 | S10: ='Master Database'!AT21 -> 0 | T10: ='Master Database'!AU21 -> 0 | AB10: =#REF! -> #REF!
A11: ='Master Database'!A22 -> 007 | B11: ='Master Database'!C22 -> 0 | C11: ='Master Database'!D22 -> 0 | D11: ='Master Database'!F22 -> 462 | E11: ='Master Database'!E22 -> Private | F11: ='Master Database'!AE22 -> 0 | G11: ='Master Database'!AF22 -> 0 | H11: ='Master Database'!AG22 -> 0 | I11: ='Master Database'!AH22 -> 0 | J11: ='Master Database'!AI22 -> 0 | K11: ='Master Database'!AJ22 -> 0 | L11: ='Master Database'!AK22 -> 0 | M11: ='Master Database'!AL22 -> 0 | ... P11: ='Master Database'!AO22 -> 0 | Q11: ='Master Database'!AR22 -> 0 | R11: ='Master Database'!AS22 -> 0 | S11: ='Master Database'!AT22 -> 0 | T11: ='Master Database'!AU22 -> 0 | AB11: =#REF! -> #REF!
A12: ='Master Database'!A23 -> 008 | B12: ='Master Database'!C23 -> 0 | C12: ='Master Database'!D23 -> 0 | D12: ='Master Database'!F23 -> 581 | E12: ='Master Database'!E23 -> Private | F12: ='Master Database'!AE23 -> 0 | G12: ='Master Database'!AF23 -> 0 | H12: ='Master Database'!AG23 -> 0 | I12: ='Master Database'!AH23 -> 0 | J12: ='Master Database'!AI23 -> 0 | K12: ='Master Database'!AJ23 -> 0 | L12: ='Master Database'!AK23 -> 0 | M12: ='Master Database'!AL23 -> 0 | ... P12: ='Master Database'!AO23 -> 0 | Q12: ='Master Database'!AR23 -> 0 | R12: ='Master Database'!AS23 -> 0 | S12: ='Master Database'!AT23 -> 0 | T12: ='Master Database'!AU23 -> 0 | AB12: =#REF! -> #REF!
A13: ='Master Database'!A24 -> 009 | B13: ='Master Database'!C24 -> 0 | C13: ='Master Database'!D24 -> 0 | D13: ='Master Database'!F24 -> 354 | E13: ='Master Database'!E24 -> Private | F13: ='Master Database'!AE24 -> 0 | G13: ='Master Database'!AF24 -> 0 | H13: ='Master Database'!AG24 -> 0 | I13: ='Master Database'!AH24 -> 0 | J13: ='Master Database'!AI24 -> 0 | K13: ='Master Database'!AJ24 -> 0 | L13: ='Master Database'!AK24 -> 0 | M13: ='Master Database'!AL24 -> 0 | ... P13: ='Master Database'!AO24 -> 0 | Q13: ='Master Database'!AR24 -> 0 | R13: ='Master Database'!AS24 -> 0 | S13: ='Master Database'!AT24 -> 0 | T13: ='Master Database'!AU24 -> 0 | AB13: =#REF! -> #REF!
A14: ='Master Database'!A25 -> 010 | B14: ='Master Database'!C25 -> 0 | C14: ='Master Database'!D25 -> 0 | D14: ='Master Database'!F25 -> 352 | E14: ='Master Database'!E25 -> Private | F14: ='Master Database'!AE25 -> 0 | G14: ='Master Database'!AF25 -> 0 | H14: ='Master Database'!AG25 -> 0 | I14: ='Master Database'!AH25 -> 0 | J14: ='Master Database'!AI25 -> 0 | K14: ='Master Database'!AJ25 -> 0 | L14: ='Master Database'!AK25 -> 0 | M14: ='Master Database'!AL25 -> 0 | ... P14: ='Master Database'!AO25 -> 0 | Q14: ='Master Database'!AR25 -> 0 | R14: ='Master Database'!AS25 -> 0 | S14: ='Master Database'!AT25 -> 0 | T14: ='Master Database'!AU25 -> 0 | AB14: =#REF! -> #REF!
A15: ='Master Database'!A26 -> 011 | B15: ='Master Database'!C26 -> 0 | C15: ='Master Database'!D26 -> 0 | D15: ='Master Database'!F26 -> 352 | E15: ='Master Database'!E26 -> Private | F15: ='Master Database'!AE26 -> 0 | G15: ='Master Database'!AF26 -> 0 | H15: ='Master Database'!AG26 -> 0 | I15: ='Master Database'!AH26 -> 0 | J15: ='Master Database'!AI26 -> 0 | K15: ='Master Database'!AJ26 -> 0 | L15: ='Master Database'!AK26 -> 0 | M15: ='Master Database'!AL26 -> 0 | ... P15: ='Master Database'!AO26 -> 0 | Q15: ='Master Database'!AR26 -> 0 | R15: ='Master Database'!AS26 -> 0 | S15: ='Master Database'!AT26 -> 0 | T15: ='Master Database'!AU26 -> 0 | AB15: =#REF! -> #REF!
A16: ='Master Database'!A27 -> 012 | B16: ='Master Database'!C27 -> 0 | C16: ='Master Database'!D27 -> 0 | D16: ='Master Database'!F27 -> 242 | E16: ='Master Database'!E27 -> Rented | F16: ='Master Database'!AE27 -> 0 | G16: ='Master Database'!AF27 -> 0 | H16: ='Master Database'!AG27 -> 0 | I16: ='Master Database'!AH27 -> 0 | J16: ='Master Database'!AI27 -> 0 | K16: ='Master Database'!AJ27 -> 0 | L16: ='Master Database'!AK27 -> 0 | M16: ='Master Database'!AL27 -> 0 | ... P16: ='Master Database'!AO27 -> 0 | Q16: ='Master Database'!AR27 -> 0 | R16: ='Master Database'!AS27 -> 0 | S16: ='Master Database'!AT27 -> 0 | T16: ='Master Database'!AU27 -> 0 | AB16: =#REF! -> #REF!
... A93: ='Master Database'!A104 -> 089 | B93: ='Master Database'!C104 -> 0 | C93: ='Master Database'!D104 -> 0 | D93: ='Master Database'!F104 -> 1BM | E93: ='Master Database'!E104 -> Rented | F93: ='Master Database'!AE104 -> 0 | G93: ='Master Database'!AF104 -> 0 | H93: ='Master Database'!AG104 -> 0 | I93: ='Master Database'!AH104 -> 0 | J93: ='Master Database'!AI104 -> 0 | K93: ='Master Database'!AJ104 -> 0 | L93: ='Master Database'!AK104 -> 0 | M93: ='Master Database'!AL104 -> 0 | ... P93: ='Master Database'!AO104 -> 0 | Q93: ='Master Database'!AR104 -> 0 | R93: ='Master Database'!AS104 -> 0 | S93: ='Master Database'!AT104 -> 0 | T93: ='Master Database'!AU104 -> 0 | AB93: =#REF! -> #REF!
A94: ='Master Database'!#REF! -> #REF! | B94: ='Master Database'!#REF! -> #REF! | C94: ='Master Database'!#REF! -> #REF! | D94: ='Master Database'!#REF! -> #REF! | E94: ='Master Database'!#REF! -> #REF! | F94: ='Master Database'!#REF! -> #REF! | G94: ='Master Database'!#REF! -> #REF! | H94: ='Master Database'!#REF! -> #REF! | ... T94: ='Master Database'!#REF! -> #REF! | AB94: =#REF! -> #REF!
A95: ='Master Database'!A105 -> 090 | B95: ='Master Database'!C105 -> 0 | C95: ='Master Database'!D105 -> 0 | D95: ='Master Database'!F105 -> 242 | E95: ='Master Database'!E105 -> Rented | F95: ='Master Database'!AE105 -> 0 | G95: ='Master Database'!AF105 -> 0 | H95: ='Master Database'!AG105 -> 0 | I95: ='Master Database'!AH105 -> 0 | J95: ='Master Database'!AI105 -> 0 | K95: ='Master Database'!AJ105 -> 0 | L95: ='Master Database'!AK105 -> 0 | M95: ='Master Database'!AL105 -> 0 | ... P95: ='Master Database'!AO105 -> 0 | Q95: ='Master Database'!AR105 -> 0 | R95: ='Master Database'!AS105 -> 0 | S95: ='Master Database'!AT105 -> 0 | T95: ='Master Database'!AU105 -> 0 | AB95: =#REF! -> #REF!
A96: ='Master Database'!A106 -> 091 | B96: ='Master Database'!C106 -> 0 | C96: ='Master Database'!D106 -> 0 | D96: ='Master Database'!F106 -> 352 | E96: ='Master Database'!E106 -> Private | F96: ='Master Database'!AE106 -> 0 | G96: ='Master Database'!AF106 -> 0 | H96: ='Master Database'!AG106 -> 0 | I96: ='Master Database'!AH106 -> 0 | J96: ='Master Database'!AI106 -> 0 | K96: ='Master Database'!AJ106 -> 0 | L96: ='Master Database'!AK106 -> 0 | M96: ='Master Database'!AL106 -> 0 | ... P96: ='Master Database'!AO106 -> 0 | Q96: ='Master Database'!AR106 -> 0 | R96: ='Master Database'!AS106 -> 0 | S96: ='Master Database'!AT106 -> 0 | T96: ='Master Database'!AU106 -> 0 | AB96: =#REF! -> #REF!
A97: ='Master Database'!A107 -> 092 | B97: ='Master Database'!C107 -> 0 | C97: ='Master Database'!D107 -> 0 | D97: ='Master Database'!F107 -> 352 | E97: ='Master Database'!E107 -> Private | F97: ='Master Database'!AE107 -> 0 | G97: ='Master Database'!AF107 -> 0 | H97: ='Master Database'!AG107 -> 0 | I97: ='Master Database'!AH107 -> 0 | J97: ='Master Database'!AI107 -> 0 | K97: ='Master Database'!AJ107 -> 0 | L97: ='Master Database'!AK107 -> 0 | M97: ='Master Database'!AL107 -> 0 | ... P97: ='Master Database'!AO107 -> 0 | Q97: ='Master Database'!AR107 -> 0 | R97: ='Master Database'!AS107 -> 0 | S97: ='Master Database'!AT107 -> 0 | T97: ='Master Database'!AU107 -> 0 | AB97: =#REF! -> #REF!
A98: ='Master Database'!A108 -> 093 | B98: ='Master Database'!C108 -> 0 | C98: ='Master Database'!D108 -> 0 | D98: ='Master Database'!F108 -> 352 | E98: ='Master Database'!E108 -> Private | F98: ='Master Database'!AE108 -> 0 | G98: ='Master Database'!AF108 -> 0 | H98: ='Master Database'!AG108 -> 0 | I98: ='Master Database'!AH108 -> 0 | J98: ='Master Database'!AI108 -> 0 | K98: ='Master Database'!AJ108 -> 0 | L98: ='Master Database'!AK108 -> 0 | M98: ='Master Database'!AL108 -> 0 | ... P98: ='Master Database'!AO108 -> 0 | Q98: ='Master Database'!AR108 -> 0 | R98: ='Master Database'!AS108 -> 0 | S98: ='Master Database'!AT108 -> 0 | T98: ='Master Database'!AU108 -> 0 | AB98: =#REF! -> #REF!
A99: ='Master Database'!A109 -> 094 | B99: ='Master Database'!C109 -> 0 | C99: ='Master Database'!D109 -> 0 | D99: ='Master Database'!F109 -> 354 | E99: ='Master Database'!E109 -> Private | F99: ='Master Database'!AE109 -> 0 | G99: ='Master Database'!AF109 -> 0 | H99: ='Master Database'!AG109 -> 0 | I99: ='Master Database'!AH109 -> 0 | J99: ='Master Database'!AI109 -> 0 | K99: ='Master Database'!AJ109 -> 0 | L99: ='Master Database'!AK109 -> 0 | M99: ='Master Database'!AL109 -> 0 | ... P99: ='Master Database'!AO109 -> 0 | Q99: ='Master Database'!AR109 -> 0 | R99: ='Master Database'!AS109 -> 0 | S99: ='Master Database'!AT109 -> 0 | T99: ='Master Database'!AU109 -> 0 | AB99: =#REF! -> #REF!
A100: ='Master Database'!A110 -> 095 | B100: ='Master Database'!C110 -> 0 | C100: ='Master Database'!D110 -> 0 | D100: ='Master Database'!F110 -> 464 | E100: ='Master Database'!E110 -> Private | F100: ='Master Database'!AE110 -> 0 | G100: ='Master Database'!AF110 -> 0 | H100: ='Master Database'!AG110 -> 0 | I100: ='Master Database'!AH110 -> 0 | J100: ='Master Database'!AI110 -> 0 | K100: ='Master Database'!AJ110 -> 0 | L100: ='Master Database'!AK110 -> 0 | M100: ='Master Database'!AL110 -> 0 | ... P100: ='Master Database'!AO110 -> 0 | Q100: ='Master Database'!AR110 -> 0 | R100: ='Master Database'!AS110 -> 0 | S100: ='Master Database'!AT110 -> 0 | T100: ='Master Database'!AU110 -> 0 | AB100: =#REF! -> #REF!
A101: ='Master Database'!A111 -> 096 | B101: ='Master Database'!C111 -> 0 | C101: ='Master Database'!D111 -> 0 | D101: ='Master Database'!F111 -> 464 | E101: ='Master Database'!E111 -> Private | F101: ='Master Database'!AE111 -> 0 | G101: ='Master Database'!AF111 -> 0 | H101: ='Master Database'!AG111 -> 0 | I101: ='Master Database'!AH111 -> 0 | J101: ='Master Database'!AI111 -> 0 | K101: ='Master Database'!AJ111 -> 0 | L101: ='Master Database'!AK111 -> 0 | M101: ='Master Database'!AL111 -> 0 | ... P101: ='Master Database'!AO111 -> 0 | Q101: ='Master Database'!AR111 -> 0 | R101: ='Master Database'!AS111 -> 0 | S101: ='Master Database'!AT111 -> 0 | T101: ='Master Database'!AU111 -> 0 | AB101: =#REF! -> #REF!
A102: ='Master Database'!A112 -> 097 | B102: ='Master Database'!C112 -> 0 | C102: ='Master Database'!D112 -> 0 | D102: ='Master Database'!F112 -> 364 | E102: ='Master Database'!E112 -> Private | F102: ='Master Database'!AE112 -> 0 | G102: ='Master Database'!AF112 -> 0 | H102: ='Master Database'!AG112 -> 0 | I102: ='Master Database'!AH112 -> 0 | J102: ='Master Database'!AI112 -> 0 | K102: ='Master Database'!AJ112 -> 0 | L102: ='Master Database'!AK112 -> 0 | M102: ='Master Database'!AL112 -> 0 | ... P102: ='Master Database'!AO112 -> 0 | Q102: ='Master Database'!AR112 -> 0 | R102: ='Master Database'!AS112 -> 0 | S102: ='Master Database'!AT112 -> 0 | T102: ='Master Database'!AU112 -> 0 | AB102: =#REF! -> #REF!
A103: ='Master Database'!A113 -> 098 | B103: ='Master Database'!C113 -> 0 | C103: ='Master Database'!D113 -> 0 | D103: ='Master Database'!F113 -> 364 | E103: ='Master Database'!E113 -> Private | F103: ='Master Database'!AE113 -> 0 | G103: ='Master Database'!AF113 -> 0 | H103: ='Master Database'!AG113 -> 0 | I103: ='Master Database'!AH113 -> 0 | J103: ='Master Database'!AI113 -> 0 | K103: ='Master Database'!AJ113 -> 0 | L103: ='Master Database'!AK113 -> 0 | M103: ='Master Database'!AL113 -> 0 | ... P103: ='Master Database'!AO113 -> 0 | Q103: ='Master Database'!AR113 -> 0 | R103: ='Master Database'!AS113 -> 0 | S103: ='Master Database'!AT113 -> 0 | T103: ='Master Database'!AU113 -> 0 | AB103: =#REF! -> #REF!
A104: ='Master Database'!A114 -> 099 | B104: ='Master Database'!C114 -> 0 | C104: ='Master Database'!D114 -> 0 | D104: ='Master Database'!F114 -> 352 | E104: ='Master Database'!E114 -> Private | F104: ='Master Database'!AE114 -> 0 | G104: ='Master Database'!AF114 -> 0 | H104: ='Master Database'!AG114 -> 0 | I104: ='Master Database'!AH114 -> 0 | J104: ='Master Database'!AI114 -> 0 | K104: ='Master Database'!AJ114 -> 0 | L104: ='Master Database'!AK114 -> 0 | M104: ='Master Database'!AL114 -> 0 | ... P104: ='Master Database'!AO114 -> 0 | Q104: ='Master Database'!AR114 -> 0 | R104: ='Master Database'!AS114 -> 0 | S104: ='Master Database'!AT114 -> 0 | T104: ='Master Database'!AU114 -> 0 | AB104: =#REF! -> #REF!
A105: ='Master Database'!A115 -> 100 | B105: ='Master Database'!C115 -> 0 | C105: ='Master Database'!D115 -> 0 | D105: ='Master Database'!F115 -> 352 | E105: ='Master Database'!E115 -> Private | F105: ='Master Database'!AE115 -> 0 | G105: ='Master Database'!AF115 -> 0 | H105: ='Master Database'!AG115 -> 0 | I105: ='Master Database'!AH115 -> 0 | J105: ='Master Database'!AI115 -> 0 | K105: ='Master Database'!AJ115 -> 0 | L105: ='Master Database'!AK115 -> 0 | M105: ='Master Database'!AL115 -> 0 | ... P105: ='Master Database'!AO115 -> 0 | Q105: ='Master Database'!AR115 -> 0 | R105: ='Master Database'!AS115 -> 0 | S105: ='Master Database'!AT115 -> 0 | T105: ='Master Database'!AU115 -> 0 | AB105: =#REF! -> #REF!
A106: ='Master Database'!A116 -> 101 | B106: ='Master Database'!C116 -> 0 | C106: ='Master Database'!D116 -> 0 | D106: ='Master Database'!F116 -> 352 | E106: ='Master Database'!E116 -> Private | F106: ='Master Database'!AE116 -> 0 | G106: ='Master Database'!AF116 -> 0 | H106: ='Master Database'!AG116 -> 0 | I106: ='Master Database'!AH116 -> 0 | J106: ='Master Database'!AI116 -> 0 | K106: ='Master Database'!AJ116 -> 0 | L106: ='Master Database'!AK116 -> 0 | M106: ='Master Database'!AL116 -> 0 | ... P106: ='Master Database'!AO116 -> 0 | Q106: ='Master Database'!AR116 -> 0 | R106: ='Master Database'!AS116 -> 0 | S106: ='Master Database'!AT116 -> 0 | T106: ='Master Database'!AU116 -> 0 | AB106: =#REF! -> #REF!
... A304: ='Master Database'!A314 -> 299 | B304: ='Master Database'!C314 -> 0 | C304: ='Master Database'!D314 -> 0 | D304: ='Master Database'!F314 -> 466 | E304: ='Master Database'!E314 -> Private | F304: ='Master Database'!AE314 -> 0 | G304: ='Master Database'!AF314 -> 0 | H304: ='Master Database'!AG314 -> 0 | I304: ='Master Database'!AH314 -> 0 | J304: ='Master Database'!AI314 -> 0 | K304: ='Master Database'!AJ314 -> 0 | L304: ='Master Database'!AK314 -> 0 | M304: ='Master Database'!AL314 -> 0 | ... P304: ='Master Database'!AO314 -> 0 | Q304: ='Master Database'!AR314 -> 0 | R304: ='Master Database'!AS314 -> 0 | S304: ='Master Database'!AT314 -> 0 | T304: ='Master Database'!AU314 -> 0 | AB304: =#REF! -> #REF!

Sheet Postal Addresses
A1: POSTAL ADDRESSES
A2: LSE*** | C2: Site Name & Address | I2: REV: | J2: ='Master Database'!W8 -> 0
A4: ='Master Database'!A15 -> Plot No. | B4: ='Master Database'!D15 -> Block No. | C4: ='Master Database'!AZ15 -> Allocated Parking Space (No.) | D4: ='Master Database'!BA15 -> Allocated Parking Space (No.) | E4: ='Master Database'!BB15 -> Allocated Parking Space (No.) | F4: ='Master Database'!BC15 -> Allocated Parking Space (No.) | G4: ='Master Database'!BD15 -> Allocated Parking Space (No.) | H4: ='Master Database'!BE15 -> Allocated Parking Space (No.) | I4: ='Master Database'!BF15 -> Allocated Parking Space (No.) | J4: ='Master Database'!E15 -> Tenure
A5: ='Master Database'!A16 -> 001 | B5: ='Master Database'!D16 -> 0 | C5: ='Master Database'!AZ16 -> 0 | D5: ='Master Database'!BA16 -> 0 | E5: ='Master Database'!BB16 -> 0 | F5: ='Master Database'!BC16 -> 0 | G5: ='Master Database'!BD16 -> 0 | H5: ='Master Database'!BE16 -> 0 | I5: ='Master Database'!BF16 -> 0 | J5: ='Master Database'!E16 -> Private
A6: ='Master Database'!A17 -> 002 | B6: ='Master Database'!D17 -> 0 | C6: ='Master Database'!AZ17 -> 0 | D6: ='Master Database'!BA17 -> 0 | E6: ='Master Database'!BB17 -> 0 | F6: ='Master Database'!BC17 -> 0 | G6: ='Master Database'!BD17 -> 0 | H6: ='Master Database'!BE17 -> 0 | I6: ='Master Database'!BF17 -> 0 | J6: ='Master Database'!E17 -> Private
A7: ='Master Database'!A18 -> 003 | B7: ='Master Database'!D18 -> 0 | C7: ='Master Database'!AZ18 -> 0 | D7: ='Master Database'!BA18 -> 0 | E7: ='Master Database'!BB18 -> 0 | F7: ='Master Database'!BC18 -> 0 | G7: ='Master Database'!BD18 -> 0 | H7: ='Master Database'!BE18 -> 0 | I7: ='Master Database'!BF18 -> 0 | J7: ='Master Database'!E18 -> Private
A8: ='Master Database'!A19 -> 004 | B8: ='Master Database'!D19 -> 0 | C8: ='Master Database'!AZ19 -> 0 | D8: ='Master Database'!BA19 -> 0 | E8: ='Master Database'!BB19 -> 0 | F8: ='Master Database'!BC19 -> 0 | G8: ='Master Database'!BD19 -> 0 | H8: ='Master Database'!BE19 -> 0 | I8: ='Master Database'!BF19 -> 0 | J8: ='Master Database'!E19 -> Private
A9: ='Master Database'!A20 -> 005 | B9: ='Master Database'!D20 -> 0 | C9: ='Master Database'!AZ20 -> 0 | D9: ='Master Database'!BA20 -> 0 | E9: ='Master Database'!BB20 -> 0 | F9: ='Master Database'!BC20 -> 0 | G9: ='Master Database'!BD20 -> 0 | H9: ='Master Database'!BE20 -> 0 | I9: ='Master Database'!BF20 -> 0 | J9: ='Master Database'!E20 -> Private
A10: ='Master Database'!A21 -> 006 | B10: ='Master Database'!D21 -> 0 | C10: ='Master Database'!AZ21 -> 0 | D10: ='Master Database'!BA21 -> 0 | E10: ='Master Database'!BB21 -> 0 | F10: ='Master Database'!BC21 -> 0 | G10: ='Master Database'!BD21 -> 0 | H10: ='Master Database'!BE21 -> 0 | I10: ='Master Database'!BF21 -> 0 | J10: ='Master Database'!E21 -> Private
A11: ='Master Database'!A22 -> 007 | B11: ='Master Database'!D22 -> 0 | C11: ='Master Database'!AZ22 -> 0 | D11: ='Master Database'!BA22 -> 0 | E11: ='Master Database'!BB22 -> 0 | F11: ='Master Database'!BC22 -> 0 | G11: ='Master Database'!BD22 -> 0 | H11: ='Master Database'!BE22 -> 0 | I11: ='Master Database'!BF22 -> 0 | J11: ='Master Database'!E22 -> Private
A12: ='Master Database'!A23 -> 008 | B12: ='Master Database'!D23 -> 0 | C12: ='Master Database'!AZ23 -> 0 | D12: ='Master Database'!BA23 -> 0 | E12: ='Master Database'!BB23 -> 0 | F12: ='Master Database'!BC23 -> 0 | G12: ='Master Database'!BD23 -> 0 | H12: ='Master Database'!BE23 -> 0 | I12: ='Master Database'!BF23 -> 0 | J12: ='Master Database'!E23 -> Private
A13: ='Master Database'!A24 -> 009 | B13: ='Master Database'!D24 -> 0 | C13: ='Master Database'!AZ24 -> 0 | D13: ='Master Database'!BA24 -> 0 | E13: ='Master Database'!BB24 -> 0 | F13: ='Master Database'!BC24 -> 0 | G13: ='Master Database'!BD24 -> 0 | H13: ='Master Database'!BE24 -> 0 | I13: ='Master Database'!BF24 -> 0 | J13: ='Master Database'!E24 -> Private
A14: ='Master Database'!A25 -> 010 | B14: ='Master Database'!D25 -> 0 | C14: ='Master Database'!AZ25 -> 0 | D14: ='Master Database'!BA25 -> 0 | E14: ='Master Database'!BB25 -> 0 | F14: ='Master Database'!BC25 -> 0 | G14: ='Master Database'!BD25 -> 0 | H14: ='Master Database'!BE25 -> 0 | I14: ='Master Database'!BF25 -> 0 | J14: ='Master Database'!E25 -> Private
A15: ='Master Database'!A26 -> 011 | B15: ='Master Database'!D26 -> 0 | C15: ='Master Database'!AZ26 -> 0 | D15: ='Master Database'!BA26 -> 0 | E15: ='Master Database'!BB26 -> 0 | F15: ='Master Database'!BC26 -> 0 | G15: ='Master Database'!BD26 -> 0 | H15: ='Master Database'!BE26 -> 0 | I15: ='Master Database'!BF26 -> 0 | J15: ='Master Database'!E26 -> Private
... A93: ='Master Database'!A104 -> 089 | B93: ='Master Database'!D104 -> 0 | C93: ='Master Database'!AZ104 -> 0 | D93: ='Master Database'!BA104 -> 0 | E93: ='Master Database'!BB104 -> 0 | F93: ='Master Database'!BC104 -> 0 | G93: ='Master Database'!BD104 -> 0 | H93: ='Master Database'!BE104 -> 0 | I93: ='Master Database'!BF104 -> 0 | J93: ='Master Database'!E104 -> Rented
A94: ='Master Database'!#REF! -> #REF! | B94: ='Master Database'!#REF! -> #REF! | C94: ='Master Database'!#REF! -> #REF! | D94: ='Master Database'!#REF! -> #REF! | E94: ='Master Database'!#REF! -> #REF! | F94: ='Master Database'!#REF! -> #REF! | G94: ='Master Database'!#REF! -> #REF! | H94: ='Master Database'!#REF! -> #REF! | ... J94: ='Master Database'!#REF! -> #REF!
A95: ='Master Database'!A105 -> 090 | B95: ='Master Database'!D105 -> 0 | C95: ='Master Database'!AZ105 -> 0 | D95: ='Master Database'!BA105 -> 0 | E95: ='Master Database'!BB105 -> 0 | F95: ='Master Database'!BC105 -> 0 | G95: ='Master Database'!BD105 -> 0 | H95: ='Master Database'!BE105 -> 0 | I95: ='Master Database'!BF105 -> 0 | J95: ='Master Database'!E105 -> Rented
A96: ='Master Database'!A106 -> 091 | B96: ='Master Database'!D106 -> 0 | C96: ='Master Database'!AZ106 -> 0 | D96: ='Master Database'!BA106 -> 0 | E96: ='Master Database'!BB106 -> 0 | F96: ='Master Database'!BC106 -> 0 | G96: ='Master Database'!BD106 -> 0 | H96: ='Master Database'!BE106 -> 0 | I96: ='Master Database'!BF106 -> 0 | J96: ='Master Database'!E106 -> Private
A97: ='Master Database'!A107 -> 092 | B97: ='Master Database'!D107 -> 0 | C97: ='Master Database'!AZ107 -> 0 | D97: ='Master Database'!BA107 -> 0 | E97: ='Master Database'!BB107 -> 0 | F97: ='Master Database'!BC107 -> 0 | G97: ='Master Database'!BD107 -> 0 | H97: ='Master Database'!BE107 -> 0 | I97: ='Master Database'!BF107 -> 0 | J97: ='Master Database'!E107 -> Private
A98: ='Master Database'!A108 -> 093 | B98: ='Master Database'!D108 -> 0 | C98: ='Master Database'!AZ108 -> 0 | D98: ='Master Database'!BA108 -> 0 | E98: ='Master Database'!BB108 -> 0 | F98: ='Master Database'!BC108 -> 0 | G98: ='Master Database'!BD108 -> 0 | H98: ='Master Database'!BE108 -> 0 | I98: ='Master Database'!BF108 -> 0 | J98: ='Master Database'!E108 -> Private
A99: ='Master Database'!A109 -> 094 | B99: ='Master Database'!D109 -> 0 | C99: ='Master Database'!AZ109 -> 0 | D99: ='Master Database'!BA109 -> 0 | E99: ='Master Database'!BB109 -> 0 | F99: ='Master Database'!BC109 -> 0 | G99: ='Master Database'!BD109 -> 0 | H99: ='Master Database'!BE109 -> 0 | I99: ='Master Database'!BF109 -> 0 | J99: ='Master Database'!E109 -> Private
A100: ='Master Database'!A110 -> 095 | B100: ='Master Database'!D110 -> 0 | C100: ='Master Database'!AZ110 -> 0 | D100: ='Master Database'!BA110 -> 0 | E100: ='Master Database'!BB110 -> 0 | F100: ='Master Database'!BC110 -> 0 | G100: ='Master Database'!BD110 -> 0 | H100: ='Master Database'!BE110 -> 0 | I100: ='Master Database'!BF110 -> 0 | J100: ='Master Database'!E110 -> Private
A101: ='Master Database'!A111 -> 096 | B101: ='Master Database'!D111 -> 0 | C101: ='Master Database'!AZ111 -> 0 | D101: ='Master Database'!BA111 -> 0 | E101: ='Master Database'!BB111 -> 0 | F101: ='Master Database'!BC111 -> 0 | G101: ='Master Database'!BD111 -> 0 | H101: ='Master Database'!BE111 -> 0 | I101: ='Master Database'!BF111 -> 0 | J101: ='Master Database'!E111 -> Private
A102: ='Master Database'!A112 -> 097 | B102: ='Master Database'!D112 -> 0 | C102: ='Master Database'!AZ112 -> 0 | D102: ='Master Database'!BA112 -> 0 | E102: ='Master Database'!BB112 -> 0 | F102: ='Master Database'!BC112 -> 0 | G102: ='Master Database'!BD112 -> 0 | H102: ='Master Database'!BE112 -> 0 | I102: ='Master Database'!BF112 -> 0 | J102: ='Master Database'!E112 -> Private
A103: ='Master Database'!A113 -> 098 | B103: ='Master Database'!D113 -> 0 | C103: ='Master Database'!AZ113 -> 0 | D103: ='Master Database'!BA113 -> 0 | E103: ='Master Database'!BB113 -> 0 | F103: ='Master Database'!BC113 -> 0 | G103: ='Master Database'!BD113 -> 0 | H103: ='Master Database'!BE113 -> 0 | I103: ='Master Database'!BF113 -> 0 | J103: ='Master Database'!E113 -> Private
A104: ='Master Database'!A114 -> 099 | B104: ='Master Database'!D114 -> 0 | C104: ='Master Database'!AZ114 -> 0 | D104: ='Master Database'!BA114 -> 0 | E104: ='Master Database'!BB114 -> 0 | F104: ='Master Database'!BC114 -> 0 | G104: ='Master Database'!BD114 -> 0 | H104: ='Master Database'!BE114 -> 0 | I104: ='Master Database'!BF114 -> 0 | J104: ='Master Database'!E114 -> Private
A105: ='Master Database'!A115 -> 100 | B105: ='Master Database'!D115 -> 0 | C105: ='Master Database'!AZ115 -> 0 | D105: ='Master Database'!BA115 -> 0 | E105: ='Master Database'!BB115 -> 0 | F105: ='Master Database'!BC115 -> 0 | G105: ='Master Database'!BD115 -> 0 | H105: ='Master Database'!BE115 -> 0 | I105: ='Master Database'!BF115 -> 0 | J105: ='Master Database'!E115 -> Private
A106: ='Master Database'!A116 -> 101 | B106: ='Master Database'!D116 -> 0 | C106: ='Master Database'!AZ116 -> 0 | D106: ='Master Database'!BA116 -> 0 | E106: ='Master Database'!BB116 -> 0 | F106: ='Master Database'!BC116 -> 0 | G106: ='Master Database'!BD116 -> 0 | H106: ='Master Database'!BE116 -> 0 | I106: ='Master Database'!BF116 -> 0 | J106: ='Master Database'!E116 -> Private
... A304: ='Master Database'!A314 -> 299 | B304: ='Master Database'!D314 -> 0 | C304: ='Master Database'!AZ314 -> 0 | D304: ='Master Database'!BA314 -> 0 | E304: ='Master Database'!BB314 -> 0 | F304: ='Master Database'!BC314 -> 0 | G304: ='Master Database'!BD314 -> 0 | H304: ='Master Database'!BE314 -> 0 | I304: ='Master Database'!BF314 -> 0 | J304: ='Master Database'!E314 -> Private

Sheet MPANs-MRPNs
A1: MPAN / MRPN
A2: LSE*** | C2: Site Name & Address | K2: REV: | L2: ='Master Database'!W9 -> 0
A4: Plot No | B4: Block | C4: Postal No | D4: Address 1 | E4: Address 2 | F4: Address 3 | G4: Town | H4: County | I4: Post code | J4: Tenure | K4: MPANs | L4: MRPNs
A5: ='Master Database'!A16 -> 001 | B5: ='Master Database'!D16 -> 0 | C5: ='Master Database'!AZ16 -> 0 | D5: ='Master Database'!BA16 -> 0 | E5: ='Master Database'!BB16 -> 0 | F5: ='Master Database'!BC16 -> 0 | G5: ='Master Database'!BD16 -> 0 | H5: ='Master Database'!BE16 -> 0 | I5: ='Master Database'!BF16 -> 0 | J5: ='Master Database'!E16 -> Private | K5: ='Master Database'!AX16 -> 0 | L5: ='Master Database'!AY16 -> 0
A6: ='Master Database'!A17 -> 002 | B6: ='Master Database'!D17 -> 0 | C6: ='Master Database'!AZ17 -> 0 | D6: ='Master Database'!BA17 -> 0 | E6: ='Master Database'!BB17 -> 0 | F6: ='Master Database'!BC17 -> 0 | G6: ='Master Database'!BD17 -> 0 | H6: ='Master Database'!BE17 -> 0 | I6: ='Master Database'!BF17 -> 0 | J6: ='Master Database'!E17 -> Private | K6: ='Master Database'!AX17 -> 0 | L6: ='Master Database'!AY17 -> 0
A7: ='Master Database'!A18 -> 003 | B7: ='Master Database'!D18 -> 0 | C7: ='Master Database'!AZ18 -> 0 | D7: ='Master Database'!BA18 -> 0 | E7: ='Master Database'!BB18 -> 0 | F7: ='Master Database'!BC18 -> 0 | G7: ='Master Database'!BD18 -> 0 | H7: ='Master Database'!BE18 -> 0 | I7: ='Master Database'!BF18 -> 0 | J7: ='Master Database'!E18 -> Private | K7: ='Master Database'!AX18 -> 0 | L7: ='Master Database'!AY18 -> 0
A8: ='Master Database'!A19 -> 004 | B8: ='Master Database'!D19 -> 0 | C8: ='Master Database'!AZ19 -> 0 | D8: ='Master Database'!BA19 -> 0 | E8: ='Master Database'!BB19 -> 0 | F8: ='Master Database'!BC19 -> 0 | G8: ='Master Database'!BD19 -> 0 | H8: ='Master Database'!BE19 -> 0 | I8: ='Master Database'!BF19 -> 0 | J8: ='Master Database'!E19 -> Private | K8: ='Master Database'!AX19 -> 0 | L8: ='Master Database'!AY19 -> 0
