Workbook
Name House_Type: #REF!

Sheet Standard HT Database
A1: Master Database - Guidance
A3: Code | B3: House Type | C3: Storey | D3: No. Beds | E3: Occupancy | F3: Unit Type | L3: Area GIA (m²) | M3: Area GIA (ft²) | N3: Area NIA (m²) | O3: Area NIA (ft²)
F4: Detached | G4: Semi | H4: Terrace | I4: FOG | J4: Apartment | K4: Maisonette
B5: 121 | C5: 2 | D5: 1 | E5: 2 | G5: P | H5: P | L5: 61.96 | M5: 666.97 | N5: 60.77 | O5: 654 | Q5: The New Vistry Collection
B6: 122 (GF) | C6: 1 | D6: 1 | E6: 2 | K6: P | L6: 55.19 | M6: 594.01 | N6: 54.36 | O6: 585
B7: 122 (FF) | C7: 1 | D7: 1 | E7: 2 | K7: P | L7: 70.37 | M7: 757.51 | N7: 69.18 | O7: 745
B8: 231 | C8: 2 | D8: 2 | E8: 3 | F8: P | I8: P | L8: 75.24 | M8: 809.91 | N8: 74.01 | O8: 797
B9: 232 | C9: 2 | D9: 2 | E9: 3 | G9: P | H9: P | L9: 72.51 | M9: 780.5 | N9: 71.25 | O9: 767
B10: 233 | C10: 1 | D10: 2 | E10: 3 | F10: P | G10: P | L10: 64.84 | M10: 697.91 | N10: 63.5 | O10: 684 | Q10: VNC has GIA value as the net sales area in most schedules which is wrong. Net sales area should be to the innter face of plasterboard. Areas taken from planning info standard HT drawings which has the correct values listed in the sheet schedule.
B11: 234 | C11: 1 | D11: 2 | E11: 3 | F11: P | G11: P | L11: 74.95 | M11: 806.78 | N11: 74.07 | O11: 797
B12: 235 | C12: 2 | D12: 2 | E12: 3 | G12: P | H12: P | L12: 106.58 | M12: 1147.19 | N12: 105.07 | O12: 1131
B13: 236 | C13: 2 | D13: 2 | E13: 3 | F13: P | G13: P | L13: 78.13 | M13: 840.99 | N13: 76.83 | O13: 827
B14: 237 | C14: 2 | D14: 2 | E14: 3 | G14: P | H14: P | L14: 65.93 | M14: 709.67 | N14: 63.71 | O14: 686
B15: 241 | C15: 2 | D15: 2 | E15: 4 | G15: P | H15: P | L15: 81.63 | M15: 878.66 | N15: 80.31 | O15: 864
B16: 242 | C16: 2 | D16: 2 | E16: 4 | G16: P | H16: P | L16: 81.63 | M16: 878.66 | N16: 80.31 | O16: 864
B17: 341 | C17: 2 | D17: 3 | E17: 4 | G17: P | H17: P | L17: 89.4 | M17: 962.33 | N17: 87.9 | O17: 946
B18: 342 | C18: 2 | D18: 3 | E18: 4 | G18: P | H18: P | L18: 88.72 | M18: 954.98 | N18: 87.35 | O18: 940
B19: 343 | C19: 2 | D19: 3 | E19: 4 | G19: P | H19: P | L19: 121.7 | M19: 1309.97 | N19: 120.07 | O19: 1292
B20: 344 | C20: 2 | D20: 3 | E20: 4 | G20: P | H20: P | L20: 78.08 | M20: 840.47 | N20: 75.63 | O20: 814
B21: 345 | C21: 2 | D21: 3 | E21: 4 | F21: P | G21: P | L21: 88.97 | M21: 957.71 | N21: 86.01 | O21: 926
B22: 351 | C22: 2 | D22: 3 | E22: 5 | G22: P | H22: P | L22: 97.16 | M22: 1045.81 | N22: 95.74 | O22: 1031
B23: 352 | C23: 2 | D23: 3 | E23: 5 | G23: P | H23: P | L23: 95.48 | M23: 1027.78 | N23: 94.05 | O23: 1012
B24: 353 | C24: 2 | D24: 3 | E24: 5 | F24: P | L24: 102.78 | M24: 1106.32 | N24: 101.09 | O24: 1088
B25: 354 | C25: 2 | D25: 3 | E25: 5 | F25: P | G25: P | L25: 110.4 | M25: 1188.39 | N25: 108.87 | O25: 1172
B26: 355 | C26: 2 | D26: 3 | E26: 5 | F26: P | G26: P | L26: 110.4 | M26: 1188.39 | N26: 108.87 | O26: 1172
B27: 356 | C27: 2.5 | D27: 3 | E27: 5 | G27: P | H27: P | L27: 108.62 | M27: 1169.2 | N27: 106.87 | O27: 1150
B28: 357 | C28: 3 | D28: 3 | E28: 5 | G28: P | H28: P | L28: 110.87 | M28: 1193.38 | N28: 108.95 | O28: 1173
B29: 361 | C29: 2 | D29: 3 | E29: 6 | G29: P | H29: P | L29: 106.12 | M29: 1142.28 | N29: 104.65 | O29: 1126
B30: 362 | C30: 2 | D30: 3 | E30: 6 | G30: P | H30: P | L30: 104.84 | M30: 1128.51 | N30: 103.38 | O30: 1113
B31: 363 | C31: 3 | D31: 3 | E31: 6 | G31: P | H31: P | L31: 122.78 | M31: 1321.6 | N31: 120.8 | O31: 1300
B32: 364 | C32: 2 | D32: 3 | E32: 6 | F32: P | L32: 111.53 | M32: 1200.51 | N32: 109.99 | O32: 1184
B33: 451 | C33: 2 | D33: 4 | E33: 5 | G33: P | L33: 110.93 | M33: 1194.02 | N33: 109.41 | O33: 1178
B34: 452 | C34: 2 | D34: 4 | E34: 5 | G34: P | L34: 110.93 | M34: 1194.02 | N34: 109.41 | O34: 1178
B35: 461 | C35: 2 | D35: 4 | E35: 6 | F35: P | L35: 122.07 | M35: 1313.98 | N35: 120.46 | O35: 1297
B36: 462 | C36: 2 | D36: 4 | E36: 6 | F36: P | L36: 132.09 | M36: 1421.77 | N36: 130.46 | O36: 1404
B37: 463 | C37: 2 | D37: 4 | E37: 6 | G37: P | L37: 110.95 | M37: 1194.22 | N37: 108.13 | O37: 1164
B38: 464 | C38: 2.5 | D38: 4 | E38: 6 | G38: P | L38: 113.9 | M38: 1226.05 | N38: 112.36 | O38: 1209
B39: 465 | C39: 3 | D39: 4 | E39: 6 | G39: P | L39: 136.22 | M39: 1466.3 | N39: 134.14 | O39: 1444
B40: 466 | C40: 2 | D40: 4 | E40: 6 | F40: P | G40: P | L40: 133.33 | M40: 1435.18 | N40: 129.81 | O40: 1397
B41: 467 | C41: 2 | D41: 4 | E41: 6 | F41: P | G41: P | L41: 139.39 | M41: 1500.38 | N41: 137.61 | O41: 1481
B42: 468 | C42: 2 | D42: 4 | E42: 6 | F42: P | L42: 121.79 | M42: 1310.96 | N42: 119.83 | O42: 1290
B43: 469 | C43: 2 | D43: 4 | E43: 6 | G43: P | L43: 97.72 | M43: 1051.9 | N43: 95.09 | O43: 1024
B44: 471 | C44: 2.5 | D44: 4 | E44: 7 | F44: P | G44: P | L44: 143.3 | M44: 1542.44 | N44: 141.19 | O44: 1520
B45: 472 | C45: 2 | D45: 4 | E45: 7 | F45: P | L45: 126.94 | M45: 1366.36 | N45: 125.35 | O45: 1349
B46: 473 | C46: 2 | D46: 4 | E46: 7 | F46: P | L46: 120.95 | M46: 1301.9 | N46: 119.24 | O46: 1284
B47: 474 | C47: 2.5 | D47: 4 | E47: 7 | F47: P | L47: 131.65 | M47: 1417.06 | N47: 129.76 | O47: 1397
B48: 481 | C48: 2 | D48: 4 | E48: 8 | F48: P | L48: 160.08 | M48: 1723.12 | N48: 156.2 | O48: 1681
B49: 561 | C49: 2.5 | D49: 5 | E49: 6 | G49: P | L49: 134.05 | M49: 1442.95 | N49: 132.19 | O49: 1423
B50: 571 | C50: 2 | D50: 5 | E50: 7 | F50: P | L50: 156.86 | M50: 1688.43 | N50: 155.09 | O50: 1669
B51: 581 | C51: 2 | D51: 5 | E51: 8 | F51: P | L51: 166.64 | M51: 1793.71 | N51: 164.77 | O51: 1774
B52: 582 | C52: 2.5 | D52: 5 | E52: 8 | F52: P | L52: 152.63 | M52: 1642.86 | N52: 149.96 | O52: 1614
B53: 583 | C53: 2 | D53: 5 | E53: 8 | F53: P | L53: 210.79 | M53: 2268.92 | N53: 208.74 | O53: 2247
B54: 591 | C54: 2.5 | D54: 5 | E54: 9 | F54: P | L54: 186.55 | M54: 2008.05 | N54: 179.15 | O54: 1928
A55: S224 | B55: Cherry | C55: 2 | D55: 2 | E55: 4 | G55: P | H55: P | L55: 80.38 | M55: 865.16 | N55: 79.06 | O55: 851.03 | Q55: The Bovis Collection - Interim Part L 2021
A56: S325 | B56: Apple | C56: 2 | D56: 3 | E56: 5 | G56: P | H56: P | L56: 95 | M56: 1022.58 | N56: 93.58 | O56: 1007.24
A57: S330 | B57: Damson | C57: 2 | D57: 3 | E57: 5 | G57: P | H57: P | L57: 80.38 | M57: 865.16 | N57: 79.06 | O57: 851.03
A58: S426 | B58: Pear | C58: 2 | D58: 4 | E58: 6 | G58: P | H58: P | L58: 107.69 | M58: 1159.2 | N58: 106.17 | O58: 1142.77 | Y58: 80.38 | Z58: 865.16
A59: X201 | B59: Buckthorn | C59: 2 | D59: 2 | E59: 4 | I59: P | L59: 70.69 | M59: 760.9 | N59: 69.3 | O59: 745.98
A60: X202 | B60: Sycamore | C60: 1 | D60: 2 | E60: 4 | F60: P | G60: P | L60: 91.42 | M60: 984.06 | N60: 90.46 | O60: 973.72 | Q60: Note: Bovis collection has GIA value as the net sales area in most schedules. Net sales area should be to the innter face of plasterboard. Areas taken from planning info standard HT drawings which has the correct values listed in the sheet schedule. HC to fill in the rest of GIAs.
A61: X203 | B61: Hawthorn | C61: 2 | D61: 2 | E61: 4 | G61: P | H61: P | N61: 63.23 | O61: 680.61
A62: X204 | B62: Holly | C62: 2 | D62: 2 | E62: 4 | G62: P | H62: P | N62: 79.06 | O62: 851.03
A63: X229 | B63: Juneberry | C63: 1 | D63: 2 | E63: 4 | F63: P | G63: P | N63: 72.35 | O63: 778.76
A64: X305 | B64: Hazel | C64: 2 | D64: 3 | E64: 4 | G64: P | H64: P | N64: 86.57 | O64: 931.82
A65: X306 | B65: Rowan | C65: 2 | D65: 3 | E65: 4 | G65: P | H65: P | N65: 86.57 | O65: 931.82
A66: X307 | B66: Spruce (Informal) | C66: 2 | D66: 3 | E66: 5 | F66: P | G66: P | N66: 102.16 | O66: 1099.61
A67: X307 | B67: Spruce (Formal) | C67: 2 | D67: 3 | E67: 5 | F67: P | G67: P | N67: 100.29 | O67: 1079.47
A68: X308 | B68: Cypress | C68: 2 | D68: 3 | E68: 5 | F68: P | N68: 102.85 | O68: 1107.08
A69: X309 | B69: Beech | C69: 2.5 | D69: 3 | E69: 5 | G69: P | H69: P | N69: 104.47 | O69: 1124.47
A70: X310 | B70: Poplar | C70: 3 | D70: 3 | E70: 5 | G70: P | H70: P | N70: 118.59 | O70: 1276.54
A71: X327 | B71: Magnolia | C71: 2 | D71: 3 | E71: 5 | G71: P | H71: P | N71: 79.06 | O71: 851.03
A72: X411 | B72: Willow | C72: 2.5 | D72: 4 | E72: 7 | F72: P | N72: 137.02 | O72: 1474.89
A73: X412 | B73: Juniper | C73: 2 | D73: 4 | E73: 5 | F73: P | N73: 113.11 | O73: 1217.51
A74: X413 | B74: Chestnut | C74: 2 | D74: 4 | E74: 6 | F74: P | N74: 127.1 | O74: 1368.09
A75: X414 | B75: Aspen | C75: 2 | D75: 4 | E75: 6 | F75: P | N75: 127.31 | O75: 1370.3
A76: X415 | B76: Alder | C76: 2 | D76: 4 | E76: 7 | F76: P | N76: 139.79 | O76: 1504.71
A77: X416 | B77: Maple | C77: 2 | D77: 4 | E77: 7 | F77: P | N77: 166.51 | O77: 1792.27
A78: X417 | B78: Briar | C78: 2 | D78: 4 | E78: 6 | F78: P | G78: P | N78: 139.39 | O78: 1500.37
A79: X418 | B79: Mulberry (Informal) | C79: 2 | D79: 4 | E79: 7 | F79: P | N79: 148.65 | O79: 1600.09
A80: X418 | B80: Mulberry (Formal) | C80: 2 | D80: 4 | E80: 7 | F80: P | N80: 148.65 | O80: 1600.09
A81: X518 | B81: Birch (Informal) | C81: 2 | D81: 5 | E81: 7 | F81: P | N81: 167.75 | O81: 1805.64
A82: X518 | B82: Birch (Formal) | C82: 2 | D82: 5 | E82: 7 | F82: P | N82: 166.37 | O82: 1790.76
A83: X519 | B83: Yew | C83: 2.5 | D83: 5 | E83: 8 | F83: P | N83: 170.21 | O83: 1832.09
A84: X520 | B84: Lime | C84: 2 | D84: 5 | E84: 8 | F84: P | N84: 191.66 | O84: 2063.05
A85: X523 | B85: Pine | C85: 2 | D85: 5 | E85: 9 | F85: P | N85: 258.81 | O85: 2785.78
A86: X531 | B86: Oak (Informal) | C86: 2 | D86: 5 | E86: 8 | F86: P | N86: 227.4 | O86: 2447.76
A87: X531 | B87: Oak (Formal) | C87: 2 | D87: 5 | E87: 8 | F87: P | N87: 225.58 | O87: 2428.17
B88: Aldridge | C88: 2.5 | D88: 4 | E88: 5 | G88: P | H88: P | L88: 104.22 | M88: 1121.77 | N88: 102.67 | O88: 1105.09 | Q88: The Linden Collection - Interim Part L 2021
B89: Ashbee | C89: 2 | D89: 2 | E89: 3 | F89: P | I89: P | L89: 71.01 | M89: 764.33 | N89: 69.84 | O89: 751.72
B90: Aslin | C90: 2.5 | D90: 4 | E90: 5 | G90: P | H90: P | L90: 104.28 | M90: 1122.48 | N90: 102.71 | O90: 1105.6
B91: Becket | C91: 2 | D91: 3 | E91: 4 | F91: P | G91: P | L91: 96.61 | M91: 1039.92 | N91: 95.2 | O91: 1024.68
B92: Bloomfield | C92: 3 | D92: 3 | E92: 5 | G92: P | H92: P | L92: 110.6 | M92: 1190.51 | N92: 108.74 | O92: 1170.46
B93: Burnet | C93: 3 | D93: 4 | E93: 7 | G93: P | H93: P | N93: 120.57 | O93: 1297.81 | Q93: Note: Linden collection has GIA value as the net sales area in most schedules which is wrong. Net sales area should be to the innter face of plasterboard. Areas taken from planning info standard HT drawings which has the correct values listed in the sheet schedule. HC to fill in the rest of GIAs.
B94: Cartwright | C94: 2 | D94: 2 | E94: 3 | G94: P | H94: P | N94: 71.43 | O94: 768.8
B95: Collcutt | C95: 2.5 | D95: 5 | E95: 9 | F95: P | N95: 178.82 | O95: 1924.79
B96: Cottingham | C96: 2 | D96: 4 | E96: 7 | F96: P | N96: 146.79 | O96: 1579.9
B97: Elmslie | C97: 2 | D97: 3 | E97: 4 | G97: P | H97: P | N97: 86.77 | O97: 933.9
B98: Emmett | C98: 2 | D98: 3 | E98: 4 | G98: P | N98: 71.57 | O98: 770.3
B99: Eveleigh | C99: 2 | D99: 3 | E99: 5 | G99: P | H99: P | N99: 80.37 | O99: 865
B100: Fletcher | C100: 2.5 | D100: 5 | E100: 9 | F100: P | N100: 169.19 | O100: 1821.18
B101: Foulston | C101: 3 | D101: 4 | E101: 6 | G101: P | H101: P | N101: 121.87 | O101: 1311.8
...

Sheet Master Database
A1: MASTER SHEET
E2: Land West Of Imberhorne Lane, East Grinstead
A3: LSE*** | E3: 46153
CB5: As | CC5: SG
BY6: Private | CB6: Opp | CC6: DG
BY7: Shared Ownership | CC7: CB
C8: Private: | D8: Private: | H8: Mandatory Information for NHQC upload to Coins | BY8: Rented | CC8: CP
C9: Rented: | D9: Rented: | Q9: (to plasterboard) | S9: (to blockwork) | BY9: First Homes | CC9: SG*
C10: Shared Ownership: | D10: Shared Ownership: | CC10: DG*
C11: Bulk: | D11: Bulk: | CC11: CB*
C12: Commercial: | D12: Commercial: | CC12: CP*
C13: Total No. Units: | D13: Total No. Units: | CC13: SG**
CC14: DG**
A15: Plot No. | B15: Brand | C15: Phase No. | D15: Block No. | E15: Tenure | F15: House Type Name | G15: Housetype Marketing Name | H15: COINS Suffix Linden: C - Standard, V - Non-standard, A - Affordable Bovis: N - Standard (Informal), V - Non-standard, A - Affordable | I15: Variant | J15: Handing | K15: Storey | L15: Floor Level (GF, FF, SF, etc) - Applicable to apartments | M15: Total no. of Storeys in Building - Applicable to apartments | N15: Total no. of units in building - Applicable to apartments | O15: Beds | P15: Persons | Q15: Net Sales Area (ft²) | R15: Net Sales Area (m²) | S15: Gross Sales Area (ft²) | T15: Gross Sales Area (m²) | U15: Rear Garden Area (m²) | V15: Single Garage (SG) / Double Garage (DG) / Carbarn (CB) / Carport (CP) * denotes power & lighting to G/CB/CP ** denotes lighting only to G/CB/CP | W15: Allocated Garage (No.) | X15: Allocated Parking Space (No.) | Y15: Allocated Parking Space (No.) | Z15: Allocated Parking Space (No.) | AA15: Allocated Parking Space (No.) | AB15: Allocated Parking Space (No.) | AC15: Allocated Parking Space (No.) | AD15: Allocated Parking Space (No.) | AE15: Allocated Parking Space (No.) | AF15: Allocated Parking Space (No.) | AG15: Allocated Parking Space (No.) | AH15: Allocated Parking Space (No.) | AI15: Allocated Parking Space (No.) | AJ15: Allocated Parking Space (No.) | AK15: Allocated Parking Space (No.) | AL15: Allocated Parking Space (No.) | AM15: Allocated Parking Space (No.) | AN15: Allocated Parking Space (No.) | AO15: Allocated Parking Space (No.) | AP15: Allocated Parking Space (No.) | AQ15: Allocated Parking Space (No.) | AR15: Allocated Parking Space (No.) | AS15: Allocated Parking Space (No.) | AT15: Allocated Parking Space (No.) | AU15: Allocated Parking Space (No.) | AV15: Allocated Parking Space (No.) | AW15: Allocated Parking Space (No.) | AX15: Allocated Parking Space (No.) | AY15: Allocated Parking Space (No.) | AZ15: Allocated Parking Space (No.) | BA15: Allocated Parking Space (No.) | BB15: Allocated Parking Space (No.) | BC15: Allocated Parking Space (No.) | BD15: Allocated Parking Space (No.) | BE15: Allocated Parking Space (No.) | BF15: Allocated Parking Space (No.) | BG15: Allocated Parking Space (No.) | BH15: Allocated Parking Space (No.) | BI15: Allocated Parking Space (No.) | BJ15: Allocated Parking Space (No.) | BK15: Allocated Parking Space (No.) | BL15: Allocated Parking Space (No.) | BM15: Allocated Parking Space (No.) | BN15: Allocated Parking Space (No.) | BO15: Allocated Parking Space (No.) | BP15: Allocated Parking Space (No.) | BQ15: Allocated Parking Space (No.) | BR15: NDSS (Y/N) | BS15: M4(2) / M4(3) | CC15: CB**
A16: 001 | B16: Linden | E16: Private | F16: 354 | I16: Detached | K16: =_xlfn.XLOOKUP($F16,'Standard HT Database'!$B$5:$B$172,'Standard HT Database'!C$5:C$172) -> 2 | O16: =_xlfn.XLOOKUP($F16,'Standard HT Database'!$B$5:$B$172,'Standard HT Database'!D$5:D$172) -> 3 | P16: =_xlfn.XLOOKUP($F16,'Standard HT Database'!$B$5:$B$172,'Standard HT Database'!E$5:E$172) -> 5 | Q16: =_xlfn.XLOOKUP($F16,'Standard HT Database'!$B$5:$B$172,'Standard HT Database'!O$5:O$172) -> 1172 | R16: =_xlfn.XLOOKUP($F16,'Standard HT Database'!$B$5:$B$172,'Standard HT Database'!N$5:N$172) -> 108.87 | S16: =_xlfn.XLOOKUP($F16,'Standard HT Database'!$B$5:$B$172,'Standard HT Database'!M$5:M$172) -> 1188.39 | T16: =_xlfn.XLOOKUP($F16,'Standard HT Database'!$B$5:$B$172,'Standard HT Database'!L$5:L$172) -> 110.4 | W16: 0 | X16: 2 | BR16: Y | BS16: M4(2) | CC16: CP**
A17: 002 | B17: Linden | E17: Private | F17: 352 | I17: Detached | K17: =_xlfn.XLOOKUP($F17,'Standard HT Database'!$B$5:$B$172,'Standard HT Database'!C$5:C$172) -> 2 | O17: =_xlfn.XLOOKUP($F17,'Standard HT Database'!$B$5:$B$172,'Standard HT Database'!D$5:D$172) -> 3 | P17: =_xlfn.XLOOKUP($F17,'Standard HT Database'!$B$5:$B$172,'Standard HT Database'!E$5:E$172) -> 5 | Q17: =_xlfn.XLOOKUP($F17,'Standard HT Database'!$B$5:$B$172,'Standard HT Database'!O$5:O$172) -> 1012 | R17: =_xlfn.XLOOKUP($F17,'Standard HT Database'!$B$5:$B$172,'Standard HT Database'!N$5:N$172) -> 94.05 | S17: =_xlfn.XLOOKUP($F17,'Standard HT Database'!$B$5:$B$172,'Standard HT Database'!M$5:M$172) -> 1027.78 | T17: =_xlfn.XLOOKUP($F17,'Standard HT Database'!$B$5:$B$172,'Standard HT Database'!L$5:L$172) -> 95.48 | W17: 1 | X17: 2 | BR17: Y | BS17: M4(2)
A18: 003 | B18: Bovis | E18: Private | F18: 462 | I18: Detached | K18: =_xlfn.XLOOKUP($F18,'Standard HT Database'!$B$5:$B$172,'Standard HT Database'!C$5:C$172) -> 2 | O18: =_xlfn.XLOOKUP($F18,'Standard HT Database'!$B$5:$B$172,'Standard HT Database'!D$5:D$172) -> 4 | P18: =_xlfn.XLOOKUP($F18,'Standard HT Database'!$B$5:$B$172,'Standard HT Database'!E$5:E$172) -> 6 | Q18: =_xlfn.XLOOKUP($F18,'Standard HT Database'!$B$5:$B$172,'Standard HT Database'!O$5:O$172) -> 1404 | R18: =_xlfn.XLOOKUP($F18,'Standard HT Database'!$B$5:$B$172,'Standard HT Database'!N$5:N$172) -> 130.46 | S18: =_xlfn.XLOOKUP($F18,'Standard HT Database'!$B$5:$B$172,'Standard HT Database'!M$5:M$172) -> 1421.77 | T18: =_xlfn.XLOOKUP($F18,'Standard HT Database'!$B$5:$B$172,'Standard HT Database'!L$5:L$172) -> 132.09 | W18: 1 | X18: 2 | BR18: Y | BS18: M4(2)
A19: 004 | B19: Bovis | E19: Private | F19: 581 | I19: Detached | K19: =_xlfn.XLOOKUP($F19,'Standard HT Database'!$B$5:$B$172,'Standard HT Database'!C$5:C$172) -> 2 | O19: =_xlfn.XLOOKUP($F19,'Standard HT Database'!$B$5:$B$172,'Standard HT Database'!D$5:D$172) -> 5 | P19: =_xlfn.XLOOKUP($F19,'Standard HT Database'!$B$5:$B$172,'Standard HT Database'!E$5:E$172) -> 8 | Q19: =_xlfn.XLOOKUP($F19,'Standard HT Database'!$B$5:$B$172,'Standard HT Database'!O$5:O$172) -> 1774 | R19: =_xlfn.XLOOKUP($F19,'Standard HT Database'!$B$5:$B$172,'Standard HT Database'!N$5:N$172) -> 164.77 | S19: =_xlfn.XLOOKUP($F19,'Standard HT Database'!$B$5:$B$172,'Standard HT Database'!M$5:M$172) -> 1793.71 | T19: =_xlfn.XLOOKUP($F19,'Standard HT Database'!$B$5:$B$172,'Standard HT Database'!L$5:L$172) -> 166.64 | W19: 1 | X19: 2 | BR19: Y | BS19: M4(2)
A20: 005 | B20: Bovis | E20: Private | F20: 466 | I20: Detached | K20: =_xlfn.XLOOKUP($F20,'Standard HT Database'!$B$5:$B$172,'Standard HT Database'!C$5:C$172) -> 2 | O20: =_xlfn.XLOOKUP($F20,'Standard HT Database'!$B$5:$B$172,'Standard HT Database'!D$5:D$172) -> 4 | P20: =_xlfn.XLOOKUP($F20,'Standard HT Database'!$B$5:$B$172,'Standard HT Database'!E$5:E$172) -> 6 | Q20: =_xlfn.XLOOKUP($F20,'Standard HT Database'!$B$5:$B$172,'Standard HT Database'!O$5:O$172) -> 1397 | R20: =_xlfn.XLOOKUP($F20,'Standard HT Database'!$B$5:$B$172,'Standard HT Database'!N$5:N$172) -> 129.81 | S20: =_xlfn.XLOOKUP($F20,'Standard HT Database'!$B$5:$B$172,'Standard HT Database'!M$5:M$172) -> 1435.18 | T20: =_xlfn.XLOOKUP($F20,'Standard HT Database'!$B$5:$B$172,'Standard HT Database'!L$5:L$172) -> 133.33 | W20: 1 | X20: 2 | BR20: Y | BS20: M4(2)
A21: 006 | B21: Bovis | E21: Private | F21: 466 | I21: Detached | K21: =_xlfn.XLOOKUP($F21,'Standard HT Database'!$B$5:$B$172,'Standard HT Database'!C$5:C$172) -> 2 | O21: =_xlfn.XLOOKUP($F21,'Standard HT Database'!$B$5:$B$172,'Standard HT Database'!D$5:D$172) -> 4 | P21: =_xlfn.XLOOKUP($F21,'Standard HT Database'!$B$5:$B$172,'Standard HT Database'!E$5:E$172) -> 6 | Q21: =_xlfn.XLOOKUP($F21,'Standard HT Database'!$B$5:$B$172,'Standard HT Database'!O$5:O$172) -> 1397 | R21: =_xlfn.XLOOKUP($F21,'Standard HT Database'!$B$5:$B$172,'Standard HT Database'!N$5:N$172) -> 129.81 | S21: =_xlfn.XLOOKUP($F21,'Standard HT Database'!$B$5:$B$172,'Standard HT Database'!M$5:M$172) -> 1435.18 | T21: =_xlfn.XLOOKUP($F21,'Standard HT Database'!$B$5:$B$172,'Standard HT Database'!L$5:L$172) -> 133.33 | W21: 1 | X21: 2 | BR21: Y | BS21: M4(2)
A22: 007 | B22: Bovis | E22: Private | F22: 462 | I22: Detached | K22: =_xlfn.XLOOKUP($F22,'Standard HT Database'!$B$5:$B$172,'Standard HT Database'!C$5:C$172) -> 2 | O22: =_xlfn.XLOOKUP($F22,'Standard HT Database'!$B$5:$B$172,'Standard HT Database'!D$5:D$172) -> 4 | P22: =_xlfn.XLOOKUP($F22,'Standard HT Database'!$B$5:$B$172,'Standard HT Database'!E$5:E$172) -> 6 | Q22: =_xlfn.XLOOKUP($F22,'Standard HT Database'!$B$5:$B$172,'Standard HT Database'!O$5:O$172) -> 1404 | R22: =_xlfn.XLOOKUP($F22,'Standard HT Database'!$B$5:$B$172,'Standard HT Database'!N$5:N$172) -> 130.46 | S22: =_xlfn.XLOOKUP($F22,'Standard HT Database'!$B$5:$B$172,'Standard HT Database'!M$5:M$172) -> 1421.77 | T22: =_xlfn.XLOOKUP($F22,'Standard HT Database'!$B$5:$B$172,'Standard HT Database'!L$5:L$172) -> 132.09 | W22: 1 | X22: 2 | BR22: Y | BS22: M4(2)
A23: 008 | B23: Bovis | E23: Private | F23: 581 | I23: Detached | K23: =_xlfn.XLOOKUP($F23,'Standard HT Database'!$B$5:$B$172,'Standard HT Database'!C$5:C$172) -> 2 | O23: =_xlfn.XLOOKUP($F23,'Standard HT Database'!$B$5:$B$172,'Standard HT Database'!D$5:D$172) -> 5 | P23: =_xlfn.XLOOKUP($F23,'Standard HT Database'!$B$5:$B$172,'Standard HT Database'!E$5:E$172) -> 8 | Q23: =_xlfn.XLOOKUP($F23,'Standard HT Database'!$B$5:$B$172,'Standard HT Database'!O$5:O$172) -> 1774 | R23: =_xlfn.XLOOKUP($F23,'Standard HT Database'!$B$5:$B$172,'Standard HT Database'!N$5:N$172) -> 164.77 | S23: =_xlfn.XLOOKUP($F23,'Standard HT Database'!$B$5:$B$172,'Standard HT Database'!M$5:M$172) -> 1793.71 | T23: =_xlfn.XLOOKUP($F23,'Standard HT Database'!$B$5:$B$172,'Standard HT Database'!L$5:L$172) -> 166.64 | W23: 1 | X23: 2 | BR23: Y | BS23: M4(2)
A24: 009 | B24: Linden | E24: Private | F24: 354 | I24: Detached | K24: =_xlfn.XLOOKUP($F24,'Standard HT Database'!$B$5:$B$172,'Standard HT Database'!C$5:C$172) -> 2 | O24: =_xlfn.XLOOKUP($F24,'Standard HT Database'!$B$5:$B$172,'Standard HT Database'!D$5:D$172) -> 3 | P24: =_xlfn.XLOOKUP($F24,'Standard HT Database'!$B$5:$B$172,'Standard HT Database'!E$5:E$172) -> 5 | Q24: =_xlfn.XLOOKUP($F24,'Standard HT Database'!$B$5:$B$172,'Standard HT Database'!O$5:O$172) -> 1172 | R24: =_xlfn.XLOOKUP($F24,'Standard HT Database'!$B$5:$B$172,'Standard HT Database'!N$5:N$172) -> 108.87 | S24: =_xlfn.XLOOKUP($F24,'Standard HT Database'!$B$5:$B$172,'Standard HT Database'!M$5:M$172) -> 1188.39 | T24: =_xlfn.XLOOKUP($F24,'Standard HT Database'!$B$5:$B$172,'Standard HT Database'!L$5:L$172) -> 110.4 | W24: 0 | X24: 2 | BR24: Y | BS24: M4(2)
A25: 010 | B25: Linden | E25: Private | F25: 352 | I25: Semi-Detached | K25: =_xlfn.XLOOKUP($F25,'Standard HT Database'!$B$5:$B$172,'Standard HT Database'!C$5:C$172) -> 2 | O25: =_xlfn.XLOOKUP($F25,'Standard HT Database'!$B$5:$B$172,'Standard HT Database'!D$5:D$172) -> 3 | P25: =_xlfn.XLOOKUP($F25,'Standard HT Database'!$B$5:$B$172,'Standard HT Database'!E$5:E$172) -> 5 | Q25: =_xlfn.XLOOKUP($F25,'Standard HT Database'!$B$5:$B$172,'Standard HT Database'!O$5:O$172) -> 1012 | R25: =_xlfn.XLOOKUP($F25,'Standard HT Database'!$B$5:$B$172,'Standard HT Database'!N$5:N$172) -> 94.05 | S25: =_xlfn.XLOOKUP($F25,'Standard HT Database'!$B$5:$B$172,'Standard HT Database'!M$5:M$172) -> 1027.78 | T25: =_xlfn.XLOOKUP($F25,'Standard HT Database'!$B$5:$B$172,'Standard HT Database'!L$5:L$172) -> 95.48 | W25: 0 | X25: 2 | BR25: Y | BS25: M4(2)
A26: 011 | B26: Linden | E26: Private | F26: 352 | I26: Semi-Detached | K26: =_xlfn.XLOOKUP($F26,'Standard HT Database'!$B$5:$B$172,'Standard HT Database'!C$5:C$172) -> 2 | O26: =_xlfn.XLOOKUP($F26,'Standard HT Database'!$B$5:$B$172,'Standard HT Database'!D$5:D$172) -> 3 | P26: =_xlfn.XLOOKUP($F26,'Standard HT Database'!$B$5:$B$172,'Standard HT Database'!E$5:E$172) -> 5 | Q26: =_xlfn.XLOOKUP($F26,'Standard HT Database'!$B$5:$B$172,'Standard HT Database'!O$5:O$172) -> 1012 | R26: =_xlfn.XLOOKUP($F26,'Standard HT Database'!$B$5:$B$172,'Standard HT Database'!N$5:N$172) -> 94.05 | S26: =_xlfn.XLOOKUP($F26,'Standard HT Database'!$B$5:$B$172,'Standard HT Database'!M$5:M$172) -> 1027.78 | T26: =_xlfn.XLOOKUP($F26,'Standard HT Database'!$B$5:$B$172,'Standard HT Database'!L$5:L$172) -> 95.48 | W26: 0 | X26: 2 | BR26: Y | BS26: M4(2)
A27: 012 | B27: Linden | E27: Rented | F27: 242 | I27: Semi-Detached | K27: =_xlfn.XLOOKUP($F27,'Standard HT Database'!$B$5:$B$172,'Standard HT Database'!C$5:C$172) -> 2 | O27: =_xlfn.XLOOKUP($F27,'Standard HT Database'!$B$5:$B$172,'Standard HT Database'!D$5:D$172) -> 2 | P27: =_xlfn.XLOOKUP($F27,'Standard HT Database'!$B$5:$B$172,'Standard HT Database'!E$5:E$172) -> 4 | Q27: =_xlfn.XLOOKUP($F27,'Standard HT Database'!$B$5:$B$172,'Standard HT Database'!O$5:O$172) -> 864 | R27: =_xlfn.XLOOKUP($F27,'Standard HT Database'!$B$5:$B$172,'Standard HT Database'!N$5:N$172) -> 80.31 | S27: =_xlfn.XLOOKUP($F27,'Standard HT Database'!$B$5:$B$172,'Standard HT Database'!M$5:M$172) -> 878.66 | T27: =_xlfn.XLOOKUP($F27,'Standard HT Database'!$B$5:$B$172,'Standard HT Database'!L$5:L$172) -> 81.63 | W27: 0 | X27: 2 | BR27: Y | BS27: M4(2)
A28: 013 | B28: Linden | E28: Rented | F28: 242 | I28: Semi-Detached | K28: =_xlfn.XLOOKUP($F28,'Standard HT Database'!$B$5:$B$172,'Standard HT Database'!C$5:C$172) -> 2 | O28: =_xlfn.XLOOKUP($F28,'Standard HT Database'!$B$5:$B$172,'Standard HT Database'!D$5:D$172) -> 2 | P28: =_xlfn.XLOOKUP($F28,'Standard HT Database'!$B$5:$B$172,'Standard HT Database'!E$5:E$172) -> 4 | Q28: =_xlfn.XLOOKUP($F28,'Standard HT Database'!$B$5:$B$172,'Standard HT Database'!O$5:O$172) -> 864 | R28: =_xlfn.XLOOKUP($F28,'Standard HT Database'!$B$5:$B$172,'Standard HT Database'!N$5:N$172) -> 80.31 | S28: =_xlfn.XLOOKUP($F28,'Standard HT Database'!$B$5:$B$172,'Standard HT Database'!M$5:M$172) -> 878.66 | T28: =_xlfn.XLOOKUP($F28,'Standard HT Database'!$B$5:$B$172,'Standard HT Database'!L$5:L$172) -> 81.63 | W28: 0 | X28: 2 | BR28: Y | BS28: M4(2)
... A61: 046 | B61: Linden | E61: Rented | F61: 242 | I61: Semi-Detached | K61: =_xlfn.XLOOKUP($F61,'Standard HT Database'!$B$5:$B$172,'Standard HT Database'!C$5:C$172) -> 2 | O61: =_xlfn.XLOOKUP($F61,'Standard HT Database'!$B$5:$B$172,'Standard HT Database'!D$5:D$172) -> 2 | P61: =_xlfn.XLOOKUP($F61,'Standard HT Database'!$B$5:$B$172,'Standard HT Database'!E$5:E$172) -> 4 | Q61: =_xlfn.XLOOKUP($F61,'Standard HT Database'!$B$5:$B$172,'Standard HT Database'!O$5:O$172) -> 864 | R61: =_xlfn.XLOOKUP($F61,'Standard HT Database'!$B$5:$B$172,'Standard HT Database'!N$5:N$172) -> 80.31 | S61: =_xlfn.XLOOKUP($F61,'Standard HT Database'!$B$5:$B$172,'Standard HT Database'!M$5:M$172) -> 878.66 | T61: =_xlfn.XLOOKUP($F61,'Standard HT Database'!$B$5:$B$172,'Standard HT Database'!L$5:L$172) -> 81.63 | W61: 0 | X61: 1 | BR61: Y | BS61: M4(2)
A62: 047 | B62: Linden | E62: Rented | F62: BLOCK E | I62: Apartment Block | L62: GF | M62: 3 | N62: 9 | O62: 1 | P62: 2 | Q62: 645 | R62: 59.92 | S62: 654 | T62: 60.76 | W62: 0 | X62: 1 | BR62: Y | BS62: M4(3)
A63: 048 | B63: Linden | E63: Rented | F63: BLOCK E | I63: Apartment Block | L63: GF | M63: 3 | N63: 9 | O63: 1 | P63: 2 | Q63: 547 | R63: 50.82 | S63: 555 | T63: 51.56 | W63: 0 | X63: 1 | BR63: Y
A64: 049 | B64: Linden | E64: Rented | F64: BLOCK E | I64: Apartment Block | L64: GF | M64: 3 | N64: 9 | O64: 2 | P64: 4 | Q64: 762 | R64: 70.79 | S64: 773 | T64: 71.81 | W64: 0 | X64: 1 | BR64: Y
A65: 050 | B65: Linden | E65: Rented | F65: BLOCK E | I65: Apartment Block | L65: FF | M65: 3 | N65: 9 | O65: 1 | P65: 2 | Q65: 645 | R65: 59.92 | S65: 654 | T65: 60.76 | W65: 0 | X65: 1 | BR65: Y
A66: 051 | B66: Linden | E66: Rented | F66: BLOCK E | I66: Apartment Block | L66: FF | M66: 3 | N66: 9 | O66: 1 | P66: 2 | Q66: 547 | R66: 50.82 | S66: 555 | T66: 51.56 | W66: 0 | X66: 1 | BR66: Y
A67: 052 | B67: Linden | E67: Rented | F67: BLOCK E | I67: Apartment Block | L67: FF | M67: 3 | N67: 9 | O67: 2 | P67: 4 | Q67: 762 | R67: 70.79 | S67: 773 | T67: 71.81 | W67: 0 | X67: 1 | BR67: Y
A68: 053 | B68: Linden | E68: Rented | F68: BLOCK E | I68: Apartment Block | L68: SF | M68: 3 | N68: 9 | O68: 1 | P68: 2 | Q68: 645 | R68: 59.92 | S68: 654 | T68: 60.76 | W68: 0 | X68: 1 | BR68: Y
A69: 054 | B69: Linden | E69: Rented | F69: BLOCK E | I69: Apartment Block | L69: SF | M69: 3 | N69: 9 | O69: 1 | P69: 2 | Q69: 547 | R69: 50.82 | S69: 555 | T69: 51.56 | W69: 0 | X69: 1 | BR69: Y
A70: 055 | B70: Linden | E70: Rented | F70: BLOCK E | I70: Apartment Block | L70: SF | M70: 3 | N70: 9 | O70: 2 | P70: 4 | Q70: 762 | R70: 70.79 | S70: 773 | T70: 71.81 | W70: 0 | X70: 1 | BR70: Y
A71: 056 | B71: Linden | E71: Private | F71: 241 | I71: Semi-Detached | K71: =_xlfn.XLOOKUP($F71,'Standard HT Database'!$B$5:$B$172,'Standard HT Database'!C$5:C$172) -> 2 | O71: =_xlfn.XLOOKUP($F71,'Standard HT Database'!$B$5:$B$172,'Standard HT Database'!D$5:D$172) -> 2 | P71: =_xlfn.XLOOKUP($F71,'Standard HT Database'!$B$5:$B$172,'Standard HT Database'!E$5:E$172) -> 4 | Q71: =_xlfn.XLOOKUP($F71,'Standard HT Database'!$B$5:$B$172,'Standard HT Database'!O$5:O$172) -> 864 | R71: =_xlfn.XLOOKUP($F71,'Standard HT Database'!$B$5:$B$172,'Standard HT Database'!N$5:N$172) -> 80.31 | S71: =_xlfn.XLOOKUP($F71,'Standard HT Database'!$B$5:$B$172,'Standard HT Database'!M$5:M$172) -> 878.66 | T71: =_xlfn.XLOOKUP($F71,'Standard HT Database'!$B$5:$B$172,'Standard HT Database'!L$5:L$172) -> 81.63 | W71: 0 | X71: 2 | BR71: Y | BS71: M4(2)
A72: 057 | B72: Linden | E72: Private | F72: 241 | I72: Semi-Detached | K72: =_xlfn.XLOOKUP($F72,'Standard HT Database'!$B$5:$B$172,'Standard HT Database'!C$5:C$172) -> 2 | O72: =_xlfn.XLOOKUP($F72,'Standard HT Database'!$B$5:$B$172,'Standard HT Database'!D$5:D$172) -> 2 | P72: =_xlfn.XLOOKUP($F72,'Standard HT Database'!$B$5:$B$172,'Standard HT Database'!E$5:E$172) -> 4 | Q72: =_xlfn.XLOOKUP($F72,'Standard HT Database'!$B$5:$B$172,'Standard HT Database'!O$5:O$172) -> 864 | R72: =_xlfn.XLOOKUP($F72,'Standard HT Database'!$B$5:$B$172,'Standard HT Database'!N$5:N$172) -> 80.31 | S72: =_xlfn.XLOOKUP($F72,'Standard HT Database'!$B$5:$B$172,'Standard HT Database'!M$5:M$172) -> 878.66 | T72: =_xlfn.XLOOKUP($F72,'Standard HT Database'!$B$5:$B$172,'Standard HT Database'!L$5:L$172) -> 81.63 | W72: 0 | X72: 2 | BR72: Y | BS72: M4(2)
A73: 058 | B73: Linden | E73: Private | F73: 354 | I73: Detached | K73: =_xlfn.XLOOKUP($F73,'Standard HT Database'!$B$5:$B$172,'Standard HT Database'!C$5:C$172) -> 2 | O73: =_xlfn.XLOOKUP($F73,'Standard HT Database'!$B$5:$B$172,'Standard HT Database'!D$5:D$172) -> 3 | P73: =_xlfn.XLOOKUP($F73,'Standard HT Database'!$B$5:$B$172,'Standard HT Database'!E$5:E$172) -> 5 | Q73: =_xlfn.XLOOKUP($F73,'Standard HT Database'!$B$5:$B$172,'Standard HT Database'!O$5:O$172) -> 1172 | R73: =_xlfn.XLOOKUP($F73,'Standard HT Database'!$B$5:$B$172,'Standard HT Database'!N$5:N$172) -> 108.87 | S73: =_xlfn.XLOOKUP($F73,'Standard HT Database'!$B$5:$B$172,'Standard HT Database'!M$5:M$172) -> 1188.39 | T73: =_xlfn.XLOOKUP($F73,'Standard HT Database'!$B$5:$B$172,'Standard HT Database'!L$5:L$172) -> 110.4 | W73: 0 | X73: 2 | BR73: Y | BS73: M4(2)
A74: 059 | B74: Linden | E74: Private | F74: 461 | I74: Detached | K74: =_xlfn.XLOOKUP($F74,'Standard HT Database'!$B$5:$B$172,'Standard HT Database'!C$5:C$172) -> 2 | O74: =_xlfn.XLOOKUP($F74,'Standard HT Database'!$B$5:$B$172,'Standard HT Database'!D$5:D$172) -> 4 | P74: =_xlfn.XLOOKUP($F74,'Standard HT Database'!$B$5:$B$172,'Standard HT Database'!E$5:E$172) -> 6 | Q74: =_xlfn.XLOOKUP($F74,'Standard HT Database'!$B$5:$B$172,'Standard HT Database'!O$5:O$172) -> 1297 | R74: =_xlfn.XLOOKUP($F74,'Standard HT Database'!$B$5:$B$172,'Standard HT Database'!N$5:N$172) -> 120.46 | S74: =_xlfn.XLOOKUP($F74,'Standard HT Database'!$B$5:$B$172,'Standard HT Database'!M$5:M$172) -> 1313.98 | T74: =_xlfn.XLOOKUP($F74,'Standard HT Database'!$B$5:$B$172,'Standard HT Database'!L$5:L$172) -> 122.07 | W74: 1 | X74: 2 | BR74: Y | BS74: M4(2)
A75: 060 | B75: Linden | E75: Private | F75: 354 | I75: Detached | K75: =_xlfn.XLOOKUP($F75,'Standard HT Database'!$B$5:$B$172,'Standard HT Database'!C$5:C$172) -> 2 | O75: =_xlfn.XLOOKUP($F75,'Standard HT Database'!$B$5:$B$172,'Standard HT Database'!D$5:D$172) -> 3 | P75: =_xlfn.XLOOKUP($F75,'Standard HT Database'!$B$5:$B$172,'Standard HT Database'!E$5:E$172) -> 5 | Q75: =_xlfn.XLOOKUP($F75,'Standard HT Database'!$B$5:$B$172,'Standard HT Database'!O$5:O$172) -> 1172 | R75: =_xlfn.XLOOKUP($F75,'Standard HT Database'!$B$5:$B$172,'Standard HT Database'!N$5:N$172) -> 108.87 | S75: =_xlfn.XLOOKUP($F75,'Standard HT Database'!$B$5:$B$172,'Standard HT Database'!M$5:M$172) -> 1188.39 | T75: =_xlfn.XLOOKUP($F75,'Standard HT Database'!$B$5:$B$172,'Standard HT Database'!L$5:L$172) -> 110.4 | W75: 0 | X75: 2 | BR75: Y | BS75: M4(2)
A76: 061 | B76: Linden | E76: Private | F76: 364 | I76: Detached | K76: =_xlfn.XLOOKUP($F76,'Standard HT Database'!$B$5:$B$172,'Standard HT Database'!C$5:C$172) -> 2 | O76: =_xlfn.XLOOKUP($F76,'Standard HT Database'!$B$5:$B$172,'Standard HT Database'!D$5:D$172) -> 3 | P76: =_xlfn.XLOOKUP($F76,'Standard HT Database'!$B$5:$B$172,'Standard HT Database'!E$5:E$172) -> 6 | Q76: =_xlfn.XLOOKUP($F76,'Standard HT Database'!$B$5:$B$172,'Standard HT Database'!O$5:O$172) -> 1184 | R76: =_xlfn.XLOOKUP($F76,'Standard HT Database'!$B$5:$B$172,'Standard HT Database'!N$5:N$172) -> 109.99 | S76: =_xlfn.XLOOKUP($F76,'Standard HT Database'!$B$5:$B$172,'Standard HT Database'!M$5:M$172) -> 1200.51 | T76: =_xlfn.XLOOKUP($F76,'Standard HT Database'!$B$5:$B$172,'Standard HT Database'!L$5:L$172) -> 111.53 | W76: 1 | X76: 1 | BR76: Y | BS76: M4(2)
A77: 062 | B77: Linden | E77: Private | F77: 241 | I77: Semi-Detached | K77: =_xlfn.XLOOKUP($F77,'Standard HT Database'!$B$5:$B$172,'Standard HT Database'!C$5:C$172) -> 2 | O77: =_xlfn.XLOOKUP($F77,'Standard HT Database'!$B$5:$B$172,'Standard HT Database'!D$5:D$172) -> 2 | P77: =_xlfn.XLOOKUP($F77,'Standard HT Database'!$B$5:$B$172,'Standard HT Database'!E$5:E$172) -> 4 | Q77: =_xlfn.XLOOKUP($F77,'Standard HT Database'!$B$5:$B$172,'Standard HT Database'!O$5:O$172) -> 864 | R77: =_xlfn.XLOOKUP($F77,'Standard HT Database'!$B$5:$B$172,'Standard HT Database'!N$5:N$172) -> 80.31 | S77: =_xlfn.XLOOKUP($F77,'Standard HT Database'!$B$5:$B$172,'Standard HT Database'!M$5:M$172) -> 878.66 | T77: =_xlfn.XLOOKUP($F77,'Standard HT Database'!$B$5:$B$172,'Standard HT Database'!L$5:L$172) -> 81.63 | W77: 0 | X77: 2 | BR77: Y | BS77: M4(2)
A78: 063 | B78: Linden | E78: Private | F78: 241 | I78: Semi-Detached | K78: =_xlfn.XLOOKUP($F78,'Standard HT Database'!$B$5:$B$172,'Standard HT Database'!C$5:C$172) -> 2 | O78: =_xlfn.XLOOKUP($F78,'Standard HT Database'!$B$5:$B$172,'Standard HT Database'!D$5:D$172) -> 2 | P78: =_xlfn.XLOOKUP($F78,'Standard HT Database'!$B$5:$B$172,'Standard HT Database'!E$5:E$172) -> 4 | Q78: =_xlfn.XLOOKUP($F78,'Standard HT Database'!$B$5:$B$172,'Standard HT Database'!O$5:O$172) -> 864 | R78: =_xlfn.XLOOKUP($F78,'Standard HT Database'!$B$5:$B$172,'Standard HT Database'!N$5:N$172) -> 80.31 | S78: =_xlfn.XLOOKUP($F78,'Standard HT Database'!$B$5:$B$172,'Standard HT Database'!M$5:M$172) -> 878.66 | T78: =_xlfn.XLOOKUP($F78,'Standard HT Database'!$B$5:$B$172,'Standard HT Database'!L$5:L$172) -> 81.63 | W78: 0 | X78: 2 | BR78: Y | BS78: M4(2)
A79: 064 | B79: Linden | E79: Rented | F79: BLOCK A | I79: Apartment Block | L79: GF | M79: 3 | N79: 9 | O79: 2 | P79: 4 | Q79: 763 | R79: 70.88 | S79: 773 | T79: 71.81 | W79: 0 | X79: 1 | BR79: Y
A80: 065 | B80: Linden | E80: Rented | F80: BLOCK A | I80: Apartment Block | L80: GF | M80: 3 | N80: 9 | O80: 2 | P80: 4 | Q80: 763 | R80: 70.88 | S80: 773 | T80: 71.81 | W80: 0 | X80: 1 | BR80: Y
A81: 066 | B81: Linden | E81: Rented | F81: BLOCK A | I81: Apartment Block | L81: GF | M81: 3 | N81: 9 | O81: 2 | P81: 4 | Q81: 763 | R81: 70.88 | S81: 773 | T81: 71.81 | W81: 0 | X81: 1 | BR81: Y
A82: 067 | B82: Linden | E82: Rented | F82: BLOCK A | I82: Apartment Block | L82: FF | M82: 3 | N82: 9 | O82: 2 | P82: 4 | Q82: 763 | R82: 70.88 | S82: 773 | T82: 71.81 | W82: 0 | X82: 1 | BR82: Y
A83: 068 | B83: Linden | E83: Rented | F83: BLOCK A | I83: Apartment Block | L83: FF | M83: 3 | N83: 9 | O83: 2 | P83: 4 | Q83: 763 | R83: 70.88 | S83: 773 | T83: 71.81 | W83: 0 | X83: 1 | BR83: Y
A84: 069 | B84: Linden | E84: Rented | F84: BLOCK A | I84: Apartment Block | L84: FF | M84: 3 | N84: 9 | O84: 2 | P84: 4 | Q84: 763 | R84: 70.88 | S84: 773 | T84: 71.81 | W84: 0 | X84: 1 | BR84: Y
A85: 070 | B85: Linden | E85: Rented | F85: BLOCK A | I85: Apartment Block | L85: SF | M85: 3 | N85: 9 | O85: 2 | P85: 4 | Q85: 763 | R85: 70.88 | S85: 773 | T85: 71.81 | W85: 0 | X85: 1 | BR85: Y
A86: 071 | B86: Linden | E86: Rented | F86: BLOCK A | I86: Apartment Block | L86: SF | M86: 3 | N86: 9 | O86: 2 | P86: 4 | Q86: 763 | R86: 70.88 | S86: 773 | T86: 71.81 | W86: 0 | X86: 1 | BR86: Y
A87: 072 | B87: Linden | E87: Rented | F87: BLOCK A | I87: Apartment Block | L87: SF | M87: 3 | N87: 9 | O87: 2 | P87: 4 | Q87: 763 | R87: 70.88 | S87: 773 | T87: 71.81 | W87: 0 | X87: 1 | BR87: Y
A88: 073 | B88: Linden | E88: Rented | F88: BLOCK C | I88: Apartment Block | L88: GF | M88: 3 | N88: 6 | O88: 1 | P88: 2 | Q88: 552 | R88: 51.28 | S88: 560 | T88: 52.03 | W88: 0 | X88: 1 | BR88: Y
A89: 074 | B89: Linden | E89: Rented | F89: BLOCK C | I89: Apartment Block | L89: GF | M89: 3 | N89: 6 | O89: 1 | P89: 2 | Q89: 552 | R89: 51.28 | S89: 560 | T89: 52.03 | W89: 0 | X89: 1 | BR89: Y
A90: 075 | B90: Linden | E90: Rented | F90: BLOCK C | I90: Apartment Block | L90: FF | M90: 3 | N90: 6 | O90: 1 | P90: 2 | Q90: 552 | R90: 51.28 | S90: 560 | T90: 52.03 | W90: 0 | X90: 1 | BR90: Y
... A102: 087 | B102: Linden | E102: Rented | F102: BLOCK B | I102: Apartment Block | L102: SF | M102: 3 | N102: 9 | O102: 2 | P102: 4 | Q102: 763 | R102: 70.88 | S102: 773 | T102: 71.81 | W102: 0 | X102: 1 | BR102: Y
A103: 088 | B103: Linden | E103: Rented | F103: 1BM | I103: GF Maisonette | L103: GF | M103: 2 | N103: 2 | O103: 1 | P103: 2 | Q103: 652 | R103: 60.57 | S103: 661 | T103: 61.41 | W103: 0 | X103: 1 | BR103: Y | BS103: M4(3)
A104: 089 | B104: Linden | E104: Rented | F104: 1BM | I104: FF Maisonette | L104: FF | M104: 2 | N104: 2 | O104: 1 | P104: 2 | Q104: 813 | R104: 75.53 | S104: 826 | T104: 86.74 | W104: 0 | X104: 1 | BR104: Y
A105: 090 | B105: Linden | E105: Rented | F105: 242 | I105: Semi-Detached | K105: =_xlfn.XLOOKUP($F105,'Standard HT Database'!$B$5:$B$172,'Standard HT Database'!C$5:C$172) -> 2 | O105: =_xlfn.XLOOKUP($F105,'Standard HT Database'!$B$5:$B$172,'Standard HT Database'!D$5:D$172) -> 2 | P105: =_xlfn.XLOOKUP($F105,'Standard HT Database'!$B$5:$B$172,'Standard HT Database'!E$5:E$172) -> 4 | Q105: =_xlfn.XLOOKUP($F105,'Standard HT Database'!$B$5:$B$172,'Standard HT Database'!O$5:O$172) -> 864 | R105: =_xlfn.XLOOKUP($F105,'Standard HT Database'!$B$5:$B$172,'Standard HT Database'!N$5:N$172) -> 80.31 | S105: =_xlfn.XLOOKUP($F105,'Standard HT Database'!$B$5:$B$172,'Standard HT Database'!M$5:M$172) -> 878.66 | T105: =_xlfn.XLOOKUP($F105,'Standard HT Database'!$B$5:$B$172,'Standard HT Database'!L$5:L$172) -> 81.63 | W105: 0 | X105: 1 | BR105: Y | BS105: M4(2)
A106: 091 | B106: Linden | E106: Private | F106: 352 | I106: End Terrace | K106: =_xlfn.XLOOKUP($F106,'Standard HT Database'!$B$5:$B$172,'Standard HT Database'!C$5:C$172) -> 2 | O106: =_xlfn.XLOOKUP($F106,'Standard HT Database'!$B$5:$B$172,'Standard HT Database'!D$5:D$172) -> 3 | P106: =_xlfn.XLOOKUP($F106,'Standard HT Database'!$B$5:$B$172,'Standard HT Database'!E$5:E$172) -> 5 | Q106: =_xlfn.XLOOKUP($F106,'Standard HT Database'!$B$5:$B$172,'Standard HT Database'!O$5:O$172) -> 1012 | R106: =_xlfn.XLOOKUP($F106,'Standard HT Database'!$B$5:$B$172,'Standard HT Database'!N$5:N$172) -> 94.05 | S106: =_xlfn.XLOOKUP($F106,'Standard HT Database'!$B$5:$B$172,'Standard HT Database'!M$5:M$172) -> 1027.78 | T106: =_xlfn.XLOOKUP($F106,'Standard HT Database'!$B$5:$B$172,'Standard HT Database'!L$5:L$172) -> 95.48 | W106: 0 | X106: 2 | BR106: Y | BS106: M4(2)
A107: 092 | B107: Linden | E107: Private | F107: 352 | I107: Mid Terrace | K107: =_xlfn.XLOOKUP($F107,'Standard HT Database'!$B$5:$B$172,'Standard HT Database'!C$5:C$172) -> 2 | O107: =_xlfn.XLOOKUP($F107,'Standard HT Database'!$B$5:$B$172,'Standard HT Database'!D$5:D$172) -> 3 | P107: =_xlfn.XLOOKUP($F107,'Standard HT Database'!$B$5:$B$172,'Standard HT Database'!E$5:E$172) -> 5 | Q107: =_xlfn.XLOOKUP($F107,'Standard HT Database'!$B$5:$B$172,'Standard HT Database'!O$5:O$172) -> 1012 | R107: =_xlfn.XLOOKUP($F107,'Standard HT Database'!$B$5:$B$172,'Standard HT Database'!N$5:N$172) -> 94.05 | S107: =_xlfn.XLOOKUP($F107,'Standard HT Database'!$B$5:$B$172,'Standard HT Database'!M$5:M$172) -> 1027.78 | T107: =_xlfn.XLOOKUP($F107,'Standard HT Database'!$B$5:$B$172,'Standard HT Database'!L$5:L$172) -> 95.48 | W107: 0 | X107: 2 | BR107: Y | BS107: M4(2)
A108: 093 | B108: Linden | E108: Private | F108: 352 | I108: End Terrace | K108: =_xlfn.XLOOKUP($F108,'Standard HT Database'!$B$5:$B$172,'Standard HT Database'!C$5:C$172) -> 2 | O108: =_xlfn.XLOOKUP($F108,'Standard HT Database'!$B$5:$B$172,'Standard HT Database'!D$5:D$172) -> 3 | P108: =_xlfn.XLOOKUP($F108,'Standard HT Database'!$B$5:$B$172,'Standard HT Database'!E$5:E$172) -> 5 | Q108: =_xlfn.XLOOKUP($F108,'Standard HT Database'!$B$5:$B$172,'Standard HT Database'!O$5:O$172) -> 1012 | R108: =_xlfn.XLOOKUP($F108,'Standard HT Database'!$B$5:$B$172,'Standard HT Database'!N$5:N$172) -> 94.05 | S108: =_xlfn.XLOOKUP($F108,'Standard HT Database'!$B$5:$B$172,'Standard HT Database'!M$5:M$172) -> 1027.78 | T108: =_xlfn.XLOOKUP($F108,'Standard HT Database'!$B$5:$B$172,'Standard HT Database'!L$5:L$172) -> 95.48 | W108: 0 | X108: 2 | BR108: Y | BS108: M4(2)
A109: 094 | B109: Linden | E109: Private | F109: 354 | I109: Detached | K109: =_xlfn.XLOOKUP($F109,'Standard HT Database'!$B$5:$B$172,'Standard HT Database'!C$5:C$172) -> 2 | O109: =_xlfn.XLOOKUP($F109,'Standard HT Database'!$B$5:$B$172,'Standard HT Database'!D$5:D$172) -> 3 | P109: =_xlfn.XLOOKUP($F109,'Standard HT Database'!$B$5:$B$172,'Standard HT Database'!E$5:E$172) -> 5 | Q109: =_xlfn.XLOOKUP($F109,'Standard HT Database'!$B$5:$B$172,'Standard HT Database'!O$5:O$172) -> 1172 | R109: =_xlfn.XLOOKUP($F109,'Standard HT Database'!$B$5:$B$172,'Standard HT Database'!N$5:N$172) -> 108.87 | S109: =_xlfn.XLOOKUP($F109,'Standard HT Database'!$B$5:$B$172,'Standard HT Database'!M$5:M$172) -> 1188.39 | T109: =_xlfn.XLOOKUP($F109,'Standard HT Database'!$B$5:$B$172,'Standard HT Database'!L$5:L$172) -> 110.4 | W109: 0 | X109: 2 | BR109: Y | BS109: M4(2)
A110: 095 | B110: Linden | E110: Private | F110: 464 | I110: Semi-Detached | K110: =_xlfn.XLOOKUP($F110,'Standard HT Database'!$B$5:$B$172,'Standard HT Database'!C$5:C$172) -> 2.5 | O110: =_xlfn.XLOOKUP($F110,'Standard HT Database'!$B$5:$B$172,'Standard HT Database'!D$5:D$172) -> 4 | P110: =_xlfn.XLOOKUP($F110,'Standard HT Database'!$B$5:$B$172,'Standard HT Database'!E$5:E$172) -> 6 | Q110: =_xlfn.XLOOKUP($F110,'Standard HT Database'!$B$5:$B$172,'Standard HT Database'!O$5:O$172) -> 1209 | R110: =_xlfn.XLOOKUP($F110,'Standard HT Database'!$B$5:$B$172,'Standard HT Database'!N$5:N$172) -> 112.36 | S110: =_xlfn.XLOOKUP($F110,'Standard HT Database'!$B$5:$B$172,'Standard HT Database'!M$5:M$172) -> 1226.05 | T110: =_xlfn.XLOOKUP($F110,'Standard HT Database'!$B$5:$B$172,'Standard HT Database'!L$5:L$172) -> 113.9 | W110: 1 | X110: 2 | BR110: Y | BS110: M4(2)
A111: 096 | B111: Linden | E111: Private | F111: 464 | I111: Semi-Detached | K111: =_xlfn.XLOOKUP($F111,'Standard HT Database'!$B$5:$B$172,'Standard HT Database'!C$5:C$172) -> 2.5 | O111: =_xlfn.XLOOKUP($F111,'Standard HT Database'!$B$5:$B$172,'Standard HT Database'!D$5:D$172) -> 4 | P111: =_xlfn.XLOOKUP($F111,'Standard HT Database'!$B$5:$B$172,'Standard HT Database'!E$5:E$172) -> 6 | Q111: =_xlfn.XLOOKUP($F111,'Standard HT Database'!$B$5:$B$172,'Standard HT Database'!O$5:O$172) -> 1209 | R111: =_xlfn.XLOOKUP($F111,'Standard HT Database'!$B$5:$B$172,'Standard HT Database'!N$5:N$172) -> 112.36 | S111: =_xlfn.XLOOKUP($F111,'Standard HT Database'!$B$5:$B$172,'Standard HT Database'!M$5:M$172) -> 1226.05 | T111: =_xlfn.XLOOKUP($F111,'Standard HT Database'!$B$5:$B$172,'Standard HT Database'!L$5:L$172) -> 113.9 | W111: 1 | X111: 2 | BR111: Y | BS111: M4(2)
A112: 097 | B112: Linden | E112: Private | F112: 364 | I112: Detached | K112: =_xlfn.XLOOKUP($F112,'Standard HT Database'!$B$5:$B$172,'Standard HT Database'!C$5:C$172) -> 2 | O112: =_xlfn.XLOOKUP($F112,'Standard HT Database'!$B$5:$B$172,'Standard HT Database'!D$5:D$172) -> 3 | P112: =_xlfn.XLOOKUP($F112,'Standard HT Database'!$B$5:$B$172,'Standard HT Database'!E$5:E$172) -> 6 | Q112: =_xlfn.XLOOKUP($F112,'Standard HT Database'!$B$5:$B$172,'Standard HT Database'!O$5:O$172) -> 1184 | R112: =_xlfn.XLOOKUP($F112,'Standard HT Database'!$B$5:$B$172,'Standard HT Database'!N$5:N$172) -> 109.99 | S112: =_xlfn.XLOOKUP($F112,'Standard HT Database'!$B$5:$B$172,'Standard HT Database'!M$5:M$172) -> 1200.51 | T112: =_xlfn.XLOOKUP($F112,'Standard HT Database'!$B$5:$B$172,'Standard HT Database'!L$5:L$172) -> 111.53 | W112: 1 | X112: 1 | BR112: Y | BS112: M4(2)
A113: 098 | B113: Linden | E113: Private | F113: 364 | I113: Detached | K113: =_xlfn.XLOOKUP($F113,'Standard HT Database'!$B$5:$B$172,'Standard HT Database'!C$5:C$172) -> 2 | O113: =_xlfn.XLOOKUP($F113,'Standard HT Database'!$B$5:$B$172,'Standard HT Database'!D$5:D$172) -> 3 | P113: =_xlfn.XLOOKUP($F113,'Standard HT Database'!$B$5:$B$172,'Standard HT Database'!E$5:E$172) -> 6 | Q113: =_xlfn.XLOOKUP($F113,'Standard HT Database'!$B$5:$B$172,'Standard HT Database'!O$5:O$172) -> 1184 | R113: =_xlfn.XLOOKUP($F113,'Standard HT Database'!$B$5:$B$172,'Standard HT Database'!N$5:N$172) -> 109.99 | S113: =_xlfn.XLOOKUP($F113,'Standard HT Database'!$B$5:$B$172,'Standard HT Database'!M$5:M$172) -> 1200.51 | T113: =_xlfn.XLOOKUP($F113,'Standard HT Database'!$B$5:$B$172,'Standard HT Database'!L$5:L$172) -> 111.53 | W113: 1 | X113: 1 | BR113: Y | BS113: M4(2)
A114: 099 | B114: Linden | E114: Private | F114: 352 | I114: End Terrace | K114: =_xlfn.XLOOKUP($F114,'Standard HT Database'!$B$5:$B$172,'Standard HT Database'!C$5:C$172) -> 2 | O114: =_xlfn.XLOOKUP($F114,'Standard HT Database'!$B$5:$B$172,'Standard HT Database'!D$5:D$172) -> 3 | P114: =_xlfn.XLOOKUP($F114,'Standard HT Database'!$B$5:$B$172,'Standard HT Database'!E$5:E$172) -> 5 | Q114: =_xlfn.XLOOKUP($F114,'Standard HT Database'!$B$5:$B$172,'Standard HT Database'!O$5:O$172) -> 1012 | R114: =_xlfn.XLOOKUP($F114,'Standard HT Database'!$B$5:$B$172,'Standard HT Database'!N$5:N$172) -> 94.05 | S114: =_xlfn.XLOOKUP($F114,'Standard HT Database'!$B$5:$B$172,'Standard HT Database'!M$5:M$172) -> 1027.78 | T114: =_xlfn.XLOOKUP($F114,'Standard HT Database'!$B$5:$B$172,'Standard HT Database'!L$5:L$172) -> 95.48 | W114: 0 | X114: 2 | BR114: Y | BS114: M4(2)
A115: 100 | B115: Linden | E115: Private | F115: 352 | I115: Mid Terrace | K115: =_xlfn.XLOOKUP($F115,'Standard HT Database'!$B$5:$B$172,'Standard HT Database'!C$5:C$172) -> 2 | O115: =_xlfn.XLOOKUP($F115,'Standard HT Database'!$B$5:$B$172,'Standard HT Database'!D$5:D$172) -> 3 | P115: =_xlfn.XLOOKUP($F115,'Standard HT Database'!$B$5:$B$172,'Standard HT Database'!E$5:E$172) -> 5 | Q115: =_xlfn.XLOOKUP($F115,'Standard HT Database'!$B$5:$B$172,'Standard HT Database'!O$5:O$172) -> 1012 | R115: =_xlfn.XLOOKUP($F115,'Standard HT Database'!$B$5:$B$172,'Standard HT Database'!N$5:N$172) -> 94.05 | S115: =_xlfn.XLOOKUP($F115,'Standard HT Database'!$B$5:$B$172,'Standard HT Database'!M$5:M$172) -> 1027.78 | T115: =_xlfn.XLOOKUP($F115,'Standard HT Database'!$B$5:$B$172,'Standard HT Database'!L$5:L$172) -> 95.48 | W115: 0 | X115: 2 | BR115: Y | BS115: M4(2)
A116: 101 | B116: Linden | E116: Private | F116: 352 | I116: End Terrace | K116: =_xlfn.XLOOKUP($F116,'Standard HT Database'!$B$5:$B$172,'Standard HT Database'!C$5:C$172) -> 2 | O116: =_xlfn.XLOOKUP($F116,'Standard HT Database'!$B$5:$B$172,'Standard HT Database'!D$5:D$172) -> 3 | P116: =_xlfn.XLOOKUP($F116,'Standard HT Database'!$B$5:$B$172,'Standard HT Database'!E$5:E$172) -> 5 | Q116: =_xlfn.XLOOKUP($F116,'Standard HT Database'!$B$5:$B$172,'Standard HT Database'!O$5:O$172) -> 1012 | R116: =_xlfn.XLOOKUP($F116,'Standard HT Database'!$B$5:$B$172,'Standard HT Database'!N$5:N$172) -> 94.05 | S116: =_xlfn.XLOOKUP($F116,'Standard HT Database'!$B$5:$B$172,'Standard HT Database'!M$5:M$172) -> 1027.78 | T116: =_xlfn.XLOOKUP($F116,'Standard HT Database'!$B$5:$B$172,'Standard HT Database'!L$5:L$172) -> 95.48 | W116: 0 | X116: 2 | BR116: Y | BS116: M4(2)
... A118: 103 | B118: Linden | E118: Private | F118: 352 | I118: Semi-Detached | K118: =_xlfn.XLOOKUP($F118,'Standard HT Database'!$B$5:$B$172,'Standard HT Database'!C$5:C$172) -> 2 | O118: =_xlfn.XLOOKUP($F118,'Standard HT Database'!$B$5:$B$172,'Standard HT Database'!D$5:D$172) -> 3 | P118: =_xlfn.XLOOKUP($F118,'Standard HT Database'!$B$5:$B$172,'Standard HT Database'!E$5:E$172) -> 5 | Q118: =_xlfn.XLOOKUP($F118,'Standard HT Database'!$B$5:$B$172,'Standard HT Database'!O$5:O$172) -> 1012 | R118: =_xlfn.XLOOKUP($F118,'Standard HT Database'!$B$5:$B$172,'Standard HT Database'!N$5:N$172) -> 94.05 | S118: =_xlfn.XLOOKUP($F118,'Standard HT Database'!$B$5:$B$172,'Standard HT Database'!M$5:M$172) -> 1027.78 | T118: =_xlfn.XLOOKUP($F118,'Standard HT Database'!$B$5:$B$172,'Standard HT Database'!L$5:L$172) -> 95.48 | W118: 0 | X118: 2 | BR118: Y | BS118: M4(2)
A119: 104 | B119: Linden | E119: Rented | F119: 3BW | I119: Semi-Detached | K119: 2 | O119: 3 | P119: 5 | Q119: 1414 | R119: 131.36 | S119: 1424 | T119: 132.29 | W119: 0 | X119: 2 | BR119: Y | BS119: M4(3)
A120: 105 | B120: Linden | E120: Rented | F120: 3BW | I120: Semi-Detached | K120: 2 | O120: 3 | P120: 5 | Q120: 1414 | R120: 131.36 | S120: 1424 | T120: 132.29 | W120: 0 | X120: 2 | BR120: Y | BS120: M4(3)
A121: 106 | B121: Linden | E121: Rented | F121: 242 | I121: Semi-Detached | K121: =_xlfn.XLOOKUP($F121,'Standard HT Database'!$B$5:$B$172,'Standard HT Database'!C$5:C$172) -> 2 | O121: =_xlfn.XLOOKUP($F121,'Standard HT Database'!$B$5:$B$172,'Standard HT Database'!D$5:D$172) -> 2 | P121: =_xlfn.XLOOKUP($F121,'Standard HT Database'!$B$5:$B$172,'Standard HT Database'!E$5:E$172) -> 4 | Q121: =_xlfn.XLOOKUP($F121,'Standard HT Database'!$B$5:$B$172,'Standard HT Database'!O$5:O$172) -> 864 | R121: =_xlfn.XLOOKUP($F121,'Standard HT Database'!$B$5:$B$172,'Standard HT Database'!N$5:N$172) -> 80.31 | S121: =_xlfn.XLOOKUP($F121,'Standard HT Database'!$B$5:$B$172,'Standard HT Database'!M$5:M$172) -> 878.66 | T121: =_xlfn.XLOOKUP($F121,'Standard HT Database'!$B$5:$B$172,'Standard HT Database'!L$5:L$172) -> 81.63 | W121: 0 | X121: 1 | BR121: Y | BS121: M4(2)
A122: 107 | B122: Linden | E122: Rented | F122: 463 | I122: Semi-Detached | K122: =_xlfn.XLOOKUP($F122,'Standard HT Database'!$B$5:$B$172,'Standard HT Database'!C$5:C$172) -> 2 | O122: =_xlfn.XLOOKUP($F122,'Standard HT Database'!$B$5:$B$172,'Standard HT Database'!D$5:D$172) -> 4 | P122: =_xlfn.XLOOKUP($F122,'Standard HT Database'!$B$5:$B$172,'Standard HT Database'!E$5:E$172) -> 6 | Q122: =_xlfn.XLOOKUP($F122,'Standard HT Database'!$B$5:$B$172,'Standard HT Database'!O$5:O$172) -> 1164 | R122: =_xlfn.XLOOKUP($F122,'Standard HT Database'!$B$5:$B$172,'Standard HT Database'!N$5:N$172) -> 108.13 | S122: =_xlfn.XLOOKUP($F122,'Standard HT Database'!$B$5:$B$172,'Standard HT Database'!M$5:M$172) -> 1194.22 | T122: =_xlfn.XLOOKUP($F122,'Standard HT Database'!$B$5:$B$172,'Standard HT Database'!L$5:L$172) -> 110.95 | W122: 0 | X122: 2 | BR122: Y | BS122: M4(2)
A123: 108 | B123: Linden | E123: Rented | F123: 463 | I123: End Terrace | K123: =_xlfn.XLOOKUP($F123,'Standard HT Database'!$B$5:$B$172,'Standard HT Database'!C$5:C$172) -> 2 | O123: =_xlfn.XLOOKUP($F123,'Standard HT Database'!$B$5:$B$172,'Standard HT Database'!D$5:D$172) -> 4 | P123: =_xlfn.XLOOKUP($F123,'Standard HT Database'!$B$5:$B$172,'Standard HT Database'!E$5:E$172) -> 6 | Q123: =_xlfn.XLOOKUP($F123,'Standard HT Database'!$B$5:$B$172,'Standard HT Database'!O$5:O$172) -> 1164 | R123: =_xlfn.XLOOKUP($F123,'Standard HT Database'!$B$5:$B$172,'Standard HT Database'!N$5:N$172) -> 108.13 | S123: =_xlfn.XLOOKUP($F123,'Standard HT Database'!$B$5:$B$172,'Standard HT Database'!M$5:M$172) -> 1194.22 | T123: =_xlfn.XLOOKUP($F123,'Standard HT Database'!$B$5:$B$172,'Standard HT Database'!L$5:L$172) -> 110.95 | W123: 0 | X123: 2 | BR123: Y | BS123: M4(2)
A124: 109 | B124: Linden | E124: Rented | F124: 242 | I124: Mid Terrace | K124: =_xlfn.XLOOKUP($F124,'Standard HT Database'!$B$5:$B$172,'Standard HT Database'!C$5:C$172) -> 2 | O124: =_xlfn.XLOOKUP($F124,'Standard HT Database'!$B$5:$B$172,'Standard HT Database'!D$5:D$172) -> 2 | P124: =_xlfn.XLOOKUP($F124,'Standard HT Database'!$B$5:$B$172,'Standard HT Database'!E$5:E$172) -> 4 | Q124: =_xlfn.XLOOKUP($F124,'Standard HT Database'!$B$5:$B$172,'Standard HT Database'!O$5:O$172) -> 864 | R124: =_xlfn.XLOOKUP($F124,'Standard HT Database'!$B$5:$B$172,'Standard HT Database'!N$5:N$172) -> 80.31 | S124: =_xlfn.XLOOKUP($F124,'Standard HT Database'!$B$5:$B$172,'Standard HT Database'!M$5:M$172) -> 878.66 | T124: =_xlfn.XLOOKUP($F124,'Standard HT Database'!$B$5:$B$172,'Standard HT Database'!L$5:L$172) -> 81.63 | W124: 0 | X124: 1 | BR124: Y | BS124: M4(2)
A125: 110 | B125: Linden | E125: Rented | F125: 242 | I125: End Terrace | K125: =_xlfn.XLOOKUP($F125,'Standard HT Database'!$B$5:$B$172,'Standard HT Database'!C$5:C$172) -> 2 | O125: =_xlfn.XLOOKUP($F125,'Standard HT Database'!$B$5:$B$172,'Standard HT Database'!D$5:D$172) -> 2 | P125: =_xlfn.XLOOKUP($F125,'Standard HT Database'!$B$5:$B$172,'Standard HT Database'!E$5:E$172) -> 4 | Q125: =_xlfn.XLOOKUP($F125,'Standard HT Database'!$B$5:$B$172,'Standard HT Database'!O$5:O$172) -> 864 | R125: =_xlfn.XLOOKUP($F125,'Standard HT Database'!$B$5:$B$172,'Standard HT Database'!N$5:N$172) -> 80.31 | S125: =_xlfn.XLOOKUP($F125,'Standard HT Database'!$B$5:$B$172,'Standard HT Database'!M$5:M$172) -> 878.66 | T125: =_xlfn.XLOOKUP($F125,'Standard HT Database'!$B$5:$B$172,'Standard HT Database'!L$5:L$172) -> 81.63 | W125: 0 | X125: 1 | BR125: Y | BS125: M4(2)
A126: 111 | B126: Linden | E126: Rented | F126: 242 | I126: End Terrace | K126: =_xlfn.XLOOKUP($F126,'Standard HT Database'!$B$5:$B$172,'Standard HT Database'!C$5:C$172) -> 2 | O126: =_xlfn.XLOOKUP($F126,'Standard HT Database'!$B$5:$B$172,'Standard HT Database'!D$5:D$172) -> 2 | P126: =_xlfn.XLOOKUP($F126,'Standard HT Database'!$B$5:$B$172,'Standard HT Database'!E$5:E$172) -> 4 | Q126: =_xlfn.XLOOKUP($F126,'Standard HT Database'!$B$5:$B$172,'Standard HT Database'!O$5:O$172) -> 864 | R126: =_xlfn.XLOOKUP($F126,'Standard HT Database'!$B$5:$B$172,'Standard HT Database'!N$5:N$172) -> 80.31 | S126: =_xlfn.XLOOKUP($F126,'Standard HT Database'!$B$5:$B$172,'Standard HT Database'!M$5:M$172) -> 878.66 | T126: =_xlfn.XLOOKUP($F126,'Standard HT Database'!$B$5:$B$172,'Standard HT Database'!L$5:L$172) -> 81.63 | W126: 0 | X126: 2 | BR126: Y | BS126: M4(2)
A127: 112 | B127: Linden | E127: Rented | F127: 242 | I127: Mid Terrace | K127: =_xlfn.XLOOKUP($F127,'Standard HT Database'!$B$5:$B$172,'Standard HT Database'!C$5:C$172) -> 2 | O127: =_xlfn.XLOOKUP($F127,'Standard HT Database'!$B$5:$B$172,'Standard HT Database'!D$5:D$172) -> 2 | P127: =_xlfn.XLOOKUP($F127,'Standard HT Database'!$B$5:$B$172,'Standard HT Database'!E$5:E$172) -> 4 | Q127: =_xlfn.XLOOKUP($F127,'Standard HT Database'!$B$5:$B$172,'Standard HT Database'!O$5:O$172) -> 864 | R127: =_xlfn.XLOOKUP($F127,'Standard HT Database'!$B$5:$B$172,'Standard HT Database'!N$5:N$172) -> 80.31 | S127: =_xlfn.XLOOKUP($F127,'Standard HT Database'!$B$5:$B$172,'Standard HT Database'!M$5:M$172) -> 878.66 | T127: =_xlfn.XLOOKUP($F127,'Standard HT Database'!$B$5:$B$172,'Standard HT Database'!L$5:L$172) -> 81.63 | W127: 0 | X127: 1 | BR127: Y | BS127: M4(2)
A128: 113 | B128: Linden | E128: Rented | F128: 242 | I128: End Terrace | K128: =_xlfn.XLOOKUP($F128,'Standard HT Database'!$B$5:$B$172,'Standard HT Database'!C$5:C$172) -> 2 | O128: =_xlfn.XLOOKUP($F128,'Standard HT Database'!$B$5:$B$172,'Standard HT Database'!D$5:D$172) -> 2 | P128: =_xlfn.XLOOKUP($F128,'Standard HT Database'!$B$5:$B$172,'Standard HT Database'!E$5:E$172) -> 4 | Q128: =_xlfn.XLOOKUP($F128,'Standard HT Database'!$B$5:$B$172,'Standard HT Database'!O$5:O$172) -> 864 | R128: =_xlfn.XLOOKUP($F128,'Standard HT Database'!$B$5:$B$172,'Standard HT Database'!N$5:N$172) -> 80.31 | S128: =_xlfn.XLOOKUP($F128,'Standard HT Database'!$B$5:$B$172,'Standard HT Database'!M$5:M$172) -> 878.66 | T128: =_xlfn.XLOOKUP($F128,'Standard HT Database'!$B$5:$B$172,'Standard HT Database'!L$5:L$172) -> 81.63 | W128: 0 | X128: 1 | BR128: Y | BS128: M4(2)
A129: 114 | B129: Bovis | E129: Private | F129: 581 | I129: Detached | K129: =_xlfn.XLOOKUP($F129,'Standard HT Database'!$B$5:$B$172,'Standard HT Database'!C$5:C$172) -> 2 | O129: =_xlfn.XLOOKUP($F129,'Standard HT Database'!$B$5:$B$172,'Standard HT Database'!D$5:D$172) -> 5 | P129: =_xlfn.XLOOKUP($F129,'Standard HT Database'!$B$5:$B$172,'Standard HT Database'!E$5:E$172) -> 8 | Q129: =_xlfn.XLOOKUP($F129,'Standard HT Database'!$B$5:$B$172,'Standard HT Database'!O$5:O$172) -> 1774 | R129: =_xlfn.XLOOKUP($F129,'Standard HT Database'!$B$5:$B$172,'Standard HT Database'!N$5:N$172) -> 164.77 | S129: =_xlfn.XLOOKUP($F129,'Standard HT Database'!$B$5:$B$172,'Standard HT Database'!M$5:M$172) -> 1793.71 | T129: =_xlfn.XLOOKUP($F129,'Standard HT Database'!$B$5:$B$172,'Standard HT Database'!L$5:L$172) -> 166.64 | W129: 1 | X129: 2 | BR129: Y | BS129: M4(2)
A130: 115 | B130: Bovis | E130: Private | F130: 474 | I130: Detached | K130: =_xlfn.XLOOKUP($F130,'Standard HT Database'!$B$5:$B$172,'Standard HT Database'!C$5:C$172) -> 2.5 | O130: =_xlfn.XLOOKUP($F130,'Standard HT Database'!$B$5:$B$172,'Standard HT Database'!D$5:D$172) -> 4 | P130: =_xlfn.XLOOKUP($F130,'Standard HT Database'!$B$5:$B$172,'Standard HT Database'!E$5:E$172) -> 7 | Q130: =_xlfn.XLOOKUP($F130,'Standard HT Database'!$B$5:$B$172,'Standard HT Database'!O$5:O$172) -> 1397 | R130: =_xlfn.XLOOKUP($F130,'Standard HT Database'!$B$5:$B$172,'Standard HT Database'!N$5:N$172) -> 129.76 | S130: =_xlfn.XLOOKUP($F130,'Standard HT Database'!$B$5:$B$172,'Standard HT Database'!M$5:M$172) -> 1417.06 | T130: =_xlfn.XLOOKUP($F130,'Standard HT Database'!$B$5:$B$172,'Standard HT Database'!L$5:L$172) -> 131.65 | W130: 1 | X130: 2 | BR130: Y | BS130: M4(2)
A131: 116 | B131: Bovis | E131: Private | F131: 474 | I131: Detached | K131: =_xlfn.XLOOKUP($F131,'Standard HT Database'!$B$5:$B$172,'Standard HT Database'!C$5:C$172) -> 2.5 | O131: =_xlfn.XLOOKUP($F131,'Standard HT Database'!$B$5:$B$172,'Standard HT Database'!D$5:D$172) -> 4 | P131: =_xlfn.XLOOKUP($F131,'Standard HT Database'!$B$5:$B$172,'Standard HT Database'!E$5:E$172) -> 7 | Q131: =_xlfn.XLOOKUP($F131,'Standard HT Database'!$B$5:$B$172,'Standard HT Database'!O$5:O$172) -> 1397 | R131: =_xlfn.XLOOKUP($F131,'Standard HT Database'!$B$5:$B$172,'Standard HT Database'!N$5:N$172) -> 129.76 | S131: =_xlfn.XLOOKUP($F131,'Standard HT Database'!$B$5:$B$172,'Standard HT Database'!M$5:M$172) -> 1417.06 | T131: =_xlfn.XLOOKUP($F131,'Standard HT Database'!$B$5:$B$172,'Standard HT Database'!L$5:L$172) -> 131.65 | W131: 1 | X131: 2 | BR131: Y | BS131: M4(2)
A132: 117 | B132: Bovis | E132: Rented | F132: BLOCK D | I132: Apartment Block | L132: GF | M132: 3 | N132: 9 | O132: 1 | P132: 2 | Q132: 547 | R132: 50.82 | S132: 555 | T132: 51.56 | W132: 0 | X132: 1 | BR132: Y | BS132: M4(2)
A133: 118 | B133: Bovis | E133: Rented | F133: BLOCK D | I133: Apartment Block | L133: GF | M133: 3 | N133: 9 | O133: 1 | P133: 2 | Q133: 563 | R133: 52.3 | S133: 571 | T133: 53.05 | W133: 0 | X133: 1 | BR133: Y
A134: 119 | B134: Bovis | E134: Rented | F134: BLOCK D | I134: Apartment Block | L134: GF | M134: 3 | N134: 9 | O134: 2 | P134: 4 | Q134: 763 | R134: 70.88 | S134: 773 | T134: 71.81 | W134: 0 | X134: 1 | BR134: Y
A135: 120 | B135: Bovis | E135: Rented | F135: BLOCK D | I135: Apartment Block | L135: FF | M135: 3 | N135: 9 | O135: 1 | P135: 2 | Q135: 547 | R135: 50.82 | S135: 555 | T135: 51.56 | W135: 0 | X135: 1 | BR135: Y
A136: 121 | B136: Bovis | E136: Rented | F136: BLOCK D | I136: Apartment Block | L136: FF | M136: 3 | N136: 9 | O136: 1 | P136: 2 | Q136: 563 | R136: 52.3 | S136: 571 | T136: 53.05 | W136: 0 | X136: 1 | BR136: Y
A137: 122 | B137: Bovis | E137: Rented | F137: BLOCK D | I137: Apartment Block | L137: FF | M137: 3 | N137: 9 | O137: 2 | P137: 4 | Q137: 763 | R137: 70.88 | S137: 773 | T137: 71.81 | W137: 0 | X137: 1 | BR137: Y
A138: 123 | B138: Bovis | E138: Rented | F138: BLOCK D | I138: Apartment Block | L138: SF | M138: 3 | N138: 9 | O138: 1 | P138: 2 | Q138: 547 | R138: 50.82 | S138: 555 | T138: 51.56 | W138: 0 | X138: 1 | BR138: Y
A139: 124 | B139: Bovis | E139: Rented | F139: BLOCK D | I139: Apartment Block | L139: SF | M139: 3 | N139: 9 | O139: 1 | P139: 2 | Q139: 563 | R139: 52.3 | S139: 571 | T139: 53.05 | W139: 0 | X139: 1 | BR139: Y
A140: 125 | B140: Bovis | E140: Rented | F140: BLOCK D | I140: Apartment Block | L140: SF | M140: 3 | N140: 9 | O140: 2 | P140: 4 | Q140: 763 | R140: 70.88 | S140: 773 | T140: 71.81 | W140: 0 | X140: 1 | BR140: Y
A141: 126 | B141: Bovis | E141: Private | F141: 462 | I141: Detached | K141: =_xlfn.XLOOKUP($F141,'Standard HT Database'!$B$5:$B$172,'Standard HT Database'!C$5:C$172) -> 2 | O141: =_xlfn.XLOOKUP($F141,'Standard HT Database'!$B$5:$B$172,'Standard HT Database'!D$5:D$172) -> 4 | P141: =_xlfn.XLOOKUP($F141,'Standard HT Database'!$B$5:$B$172,'Standard HT Database'!E$5:E$172) -> 6 | Q141: =_xlfn.XLOOKUP($F141,'Standard HT Database'!$B$5:$B$172,'Standard HT Database'!O$5:O$172) -> 1404 | R141: =_xlfn.XLOOKUP($F141,'Standard HT Database'!$B$5:$B$172,'Standard HT Database'!N$5:N$172) -> 130.46 | S141: =_xlfn.XLOOKUP($F141,'Standard HT Database'!$B$5:$B$172,'Standard HT Database'!M$5:M$172) -> 1421.77 | T141: =_xlfn.XLOOKUP($F141,'Standard HT Database'!$B$5:$B$172,'Standard HT Database'!L$5:L$172) -> 132.09 | W141: 1 | X141: 2 | BR141: Y | BS141: M4(2)
A142: 127 | B142: Bovis | E142: Private | F142: 467 | I142: Detached | K142: =_xlfn.XLOOKUP($F142,'Standard HT Database'!$B$5:$B$172,'Standard HT Database'!C$5:C$172) -> 2 | O142: =_xlfn.XLOOKUP($F142,'Standard HT Database'!$B$5:$B$172,'Standard HT Database'!D$5:D$172) -> 4 | P142: =_xlfn.XLOOKUP($F142,'Standard HT Database'!$B$5:$B$172,'Standard HT Database'!E$5:E$172) -> 6 | Q142: =_xlfn.XLOOKUP($F142,'Standard HT Database'!$B$5:$B$172,'Standard HT Database'!O$5:O$172) -> 1481 | R142: =_xlfn.XLOOKUP($F142,'Standard HT Database'!$B$5:$B$172,'Standard HT Database'!N$5:N$172) -> 137.61 | S142: =_xlfn.XLOOKUP($F142,'Standard HT Database'!$B$5:$B$172,'Standard HT Database'!M$5:M$172) -> 1500.38 | T142: =_xlfn.XLOOKUP($F142,'Standard HT Database'!$B$5:$B$172,'Standard HT Database'!L$5:L$172) -> 139.39 | W142: 1 | X142: 2 | BR142: Y | BS142: M4(2)
A143: 128 | B143: Bovis | E143: Private | F143: 581 | I143: Detached | K143: =_xlfn.XLOOKUP($F143,'Standard HT Database'!$B$5:$B$172,'Standard HT Database'!C$5:C$172) -> 2 | O143: =_xlfn.XLOOKUP($F143,'Standard HT Database'!$B$5:$B$172,'Standard HT Database'!D$5:D$172) -> 5 | P143: =_xlfn.XLOOKUP($F143,'Standard HT Database'!$B$5:$B$172,'Standard HT Database'!E$5:E$172) -> 8 | Q143: =_xlfn.XLOOKUP($F143,'Standard HT Database'!$B$5:$B$172,'Standard HT Database'!O$5:O$172) -> 1774 | R143: =_xlfn.XLOOKUP($F143,'Standard HT Database'!$B$5:$B$172,'Standard HT Database'!N$5:N$172) -> 164.77 | S143: =_xlfn.XLOOKUP($F143,'Standard HT Database'!$B$5:$B$172,'Standard HT Database'!M$5:M$172) -> 1793.71 | T143: =_xlfn.XLOOKUP($F143,'Standard HT Database'!$B$5:$B$172,'Standard HT Database'!L$5:L$172) -> 166.64 | W143: 1 | X143: 2 | BR143: Y | BS143: M4(2)
A144: 129 | B144: Bovis | E144: Private | F144: 591 | I144: Detached | K144: =_xlfn.XLOOKUP($F144,'Standard HT Database'!$B$5:$B$172,'Standard HT Database'!C$5:C$172) -> 2.5 | O144: =_xlfn.XLOOKUP($F144,'Standard HT Database'!$B$5:$B$172,'Standard HT Database'!D$5:D$172) -> 5 | P144: =_xlfn.XLOOKUP($F144,'Standard HT Database'!$B$5:$B$172,'Standard HT Database'!E$5:E$172) -> 9 | Q144: =_xlfn.XLOOKUP($F144,'Standard HT Database'!$B$5:$B$172,'Standard HT Database'!O$5:O$172) -> 1928 | R144: =_xlfn.XLOOKUP($F144,'Standard HT Database'!$B$5:$B$172,'Standard HT Database'!N$5:N$172) -> 179.15 | S144: =_xlfn.XLOOKUP($F144,'Standard HT Database'!$B$5:$B$172,'Standard HT Database'!M$5:M$172) -> 2008.05 | T144: =_xlfn.XLOOKUP($F144,'Standard HT Database'!$B$5:$B$172,'Standard HT Database'!L$5:L$172) -> 186.55 | W144: 1 | X144: 2 | BR144: Y | BS144: M4(2)
A145: 130 | B145: Bovis | E145: Private | F145: 581 | I145: Detached | K145: =_xlfn.XLOOKUP($F145,'Standard HT Database'!$B$5:$B$172,'Standard HT Database'!C$5:C$172) -> 2 | O145: =_xlfn.XLOOKUP($F145,'Standard HT Database'!$B$5:$B$172,'Standard HT Database'!D$5:D$172) -> 5 | P145: =_xlfn.XLOOKUP($F145,'Standard HT Database'!$B$5:$B$172,'Standard HT Database'!E$5:E$172) -> 8 | Q145: =_xlfn.XLOOKUP($F145,'Standard HT Database'!$B$5:$B$172,'Standard HT Database'!O$5:O$172) -> 1774 | R145: =_xlfn.XLOOKUP($F145,'Standard HT Database'!$B$5:$B$172,'Standard HT Database'!N$5:N$172) -> 164.77 | S145: =_xlfn.XLOOKUP($F145,'Standard HT Database'!$B$5:$B$172,'Standard HT Database'!M$5:M$172) -> 1793.71 | T145: =_xlfn.XLOOKUP($F145,'Standard HT Database'!$B$5:$B$172,'Standard HT Database'!L$5:L$172) -> 166.64 | W145: 1 | X145: 2 | BR145: Y | BS145: M4(2)
...

Sheet COINS Codes
A1: COINS UPLOAD FORM (For Commercial use)
A2: LSE*** | C2: Site Name & Address | G2: REV: | H2: ='Master Database'!W5 -> 0
A4: Plot No. | B4: COINS House Type Code | C4: COINS Code
C5: Style 1 | D5: Size 2 | E5: Size 3 | F5: Size 4 | G5: Type 5 | H5: Type 6
C6: Linden: C - Standard V - Non-standard A - Affordable Bovis: N - Standard (Informal) V - Non-standard A - Affordable | D6: House type reference/first three letters of name - refer to Guidance Example: BEC - Becket 204 - Holly ELM - Elmslie 309 - Beech MYL - Mylne 411 - Willow | G6: 00 - Detached 01 - Left Hand 02 - Mid 03 - Right Hand 04 - Apartment 05 - Variant Detached 06 - Variant Left Hand 07 - Variant Mid 08 - Variant Right Hand (Variant = Non-standard)
A7: ='Master Database'!A16 -> 001
A8: ='Master Database'!A17 -> 002
A9: ='Master Database'!A18 -> 003
A10: ='Master Database'!A19 -> 004
A11: ='Master Database'!A20 -> 005
A12: ='Master Database'!A21 -> 006
A13: ='Master Database'!A22 -> 007
A14: ='Master Database'!A23 -> 008
A15: ='Master Database'!A24 -> 009
A16: ='Master Database'!A25 -> 010
A17: ='Master Database'!A26 -> 011
A18: ='Master Database'!A27 -> 012
... A95: ='Master Database'!A104 -> 089
A96: ='Master Database'!#REF! -> #REF!
A97: ='Master Database'!A105 -> 090
A98: ='Master Database'!A106 -> 091
A99: ='Master Database'!A107 -> 092
A100: ='Master Database'!A108 -> 093
A101: ='Master Database'!A109 -> 094
A102: ='Master Database'!A110 -> 095
A103: ='Master Database'!A111 -> 096
A104: ='Master Database'!A112 -> 097
A105: ='Master Database'!A113 -> 098
A106: ='Master Database'!A114 -> 099
A107: ='Master Database'!A115 -> 100
A108: ='Master Database'!A116 -> 101
... A306: ='Master Database'!A314 -> 299

Sheet Accommodation Schedule
A1: ACCOMMODATION SCHEDULE
A2: LSE*** | E2: Site Name & Address | L2: REV: | M2: ='Master Database'!W6 -> 0
A4: Private Summary
A5: Description | C5: House Type | D5: Marketing Name | E5: Area ft² (NIA) | F5: Area m² (NIA) | G5: No. units | H5: Total Area m² (NIA) | J5: Total Area Ft.² (NIA)
A6: ??? | H6: =F6*G6 -> 0 | J6: =E6*G6 -> 0
A7: ??? | H7: =F7*G7 -> 0 | J7: =E7*G7 -> 0
A8: ??? | H8: =F8*G8 -> 0 | J8: =E8*G8 -> 0
A9: ??? | H9: =F9*G9 -> 0 | J9: =E9*G9 -> 0
A10: ??? | H10: =F10*G10 -> 0 | J10: =E10*G10 -> 0
A11: ??? | H11: =F11*G11 -> 0 | J11: =E11*G11 -> 0
A12: ??? | H12: =F12*G12 -> 0 | J12: =E12*G12 -> 0
A13: ??? | H13: =F13*G13 -> 0 | J13: =E13*G13 -> 0
A14: ??? | H14: =F14*G14 -> 0 | J14: =E14*G14 -> 0
A15: ??? | H15: =F15*G15 -> 0 | J15: =E15*G15 -> 0
A16: ??? | H16: =F16*G16 -> 0 | J16: =E16*G16 -> 0
A17: ??? | H17: =F17*G17 -> 0 | J17: =E17*G17 -> 0
... A21: ??? | H21: =F21*G21 -> 0 | J21: =E21*G21 -> 0
A22: PRIVATE TOTAL | G22: =SUM(G6:G21) -> 0 | H22: =SUM(H6:I21) -> 0 | J22: =SUM(J6:J21) -> 0
A24: Affordable Summary
A25: Description | C25: House Type | D25: Marketing Name | E25: Area ft² (NIA) | F25: Area m² (NIA) | G25: No. units | H25: Total Area m² (NIA) | J25: Total Area Ft.² (NIA)
A26: ??? | H26: =F26*G26 -> 0 | J26: =E26*G26 -> 0
A27: ??? | H27: =F27*G27 -> 0 | J27: =E27*G27 -> 0
A28: ??? | H28: =F28*G28 -> 0 | J28: =E28*G28 -> 0
A29: ??? | H29: =F29*G29 -> 0 | J29: =E29*G29 -> 0
A30: ??? | H30: =F30*G30 -> 0 | J30: =E30*G30 -> 0
A31: ??? | H31: =F31*G31 -> 0 | J31: =E31*G31 -> 0
A32: ??? | H32: =F32*G32 -> 0 | J32: =E32*G32 -> 0
A33: ??? | H33: =F33*G33 -> 0 | J33: =E33*G33 -> 0
A34: ??? | H34: =F34*G34 -> 0 | J34: =E34*G34 -> 0
A35: ??? | H35: =F35*G35 -> 0 | J35: =E35*G35 -> 0
A36: ??? | H36: =F36*G36 -> 0 | J36: =E36*G36 -> 0
A37: ??? | H37: =F37*G37 -> 0 | J37: =E37*G37 -> 0
... A41: ??? | H41: =F41*G41 -> 0 | J41: =E41*G41 -> 0
A42: Rented Total | G42: =SUM(G26:G41) -> 0 | H42: =SUM(H26:I41) -> 0 | J42: =SUM(J26:J41) -> 0
A43: ??? | H43: =F43*G43 -> 0 | J43: =F43*G43 -> 0
A44: ??? | H44: =F44*G44 -> 0 | J44: =F44*G44 -> 0
A45: SO Total | G45: =SUM(G43:G44) -> 0 | H45: =SUM(H43:I44) -> 0 | J45: =SUM(J43:J44) -> 0
A47: AFFORDABLE TOTAL | G47: =G42+G45 -> 0 | H47: =H42+H45 -> 0 | J47: =J42+J45 -> 0
F49: TOTAL | G49: =G22*G47 -> 0 | H49: =H22+H47 -> 0 | J49: =J22+J47 -> 0
A51: ='Master Database'!A15 -> Plot No. | B51: ='COINS Codes'!B4 -> COINS House Type Code | C51: House Type | D51: Marketing Name | E51: Storey | F51: Tenure | G51: Net Sales Area (ft²) | H51: Net Sales Area (m²) | J51: Floor Level (GF, FF, SF, etc) - Applicable to apartments | K51: Handing | L51: Beds
A52: ='Master Database'!A16 -> 001 | B52: ='COINS Codes'!B5 -> 0 | C52: ='Master Database'!F16 -> 354 | E52: ='Master Database'!K16 -> 2 | F52: ='Master Database'!E16 -> Private | G52: ='Master Database'!Q16 -> 1172 | H52: ='Master Database'!R16 -> 108.87 | J52: ='Master Database'!L16 -> 0 | K52: ='Master Database'!J16 -> 0 | L52: ='Master Database'!O16 -> 3 | R52: =IF(ISNUMBER(SEARCH("Private",F52)),G52,"") -> 1172 | S52: =IF(ISNUMBER(SEARCH("Private",F52)),H52,"") -> 108.87 | T52: =IF(ISNUMBER(SEARCH("Rented",G52)),H52,"") | U52: =IF(ISNUMBER(SEARCH("Rented",G52)),J52,"") | V52: =IF(ISNUMBER(SEARCH("Shared Ownership",H52)),J52,"") | W52: =IF(ISNUMBER(SEARCH("Shared Ownership",H52)),#REF!,"") | X52: =IF(ISNUMBER(SEARCH("Commercial",F52)),G52,"") | Y52: =IF(ISNUMBER(SEARCH("Commercial",F52)),H52,"") | Z52: =IF(ISNUMBER(SEARCH("Private",F52)),1,"") -> 1 | AA52: =IF(ISNUMBER(SEARCH("Rented",F52)),1,"") | AB52: =IF(ISNUMBER(SEARCH("Shared Ownership",F52)),1,"") | AC52: =IF(ISNUMBER(SEARCH("Commercial",F52)),1,"")
A53: ='Master Database'!A17 -> 002 | B53: ='COINS Codes'!B6 -> 0 | C53: ='Master Database'!F17 -> 352 | E53: ='Master Database'!K17 -> 2 | F53: ='Master Database'!E17 -> Private | G53: ='Master Database'!Q17 -> 1012 | H53: ='Master Database'!R17 -> 94.05 | J53: ='Master Database'!L17 -> 0 | K53: ='Master Database'!J17 -> 0 | L53: ='Master Database'!O17 -> 3 | R53: =IF(ISNUMBER(SEARCH("Private",F53)),G53,"") -> 1012 | S53: =IF(ISNUMBER(SEARCH("Private",F53)),I53,"") -> 0 | T53: =IF(ISNUMBER(SEARCH("Rented",G53)),I53,"") | U53: =IF(ISNUMBER(SEARCH("Rented",G53)),J53,"") | V53: =IF(ISNUMBER(SEARCH("Shared Ownership",I53)),J53,"") | W53: =IF(ISNUMBER(SEARCH("Shared Ownership",I53)),#REF!,"") | X53: =IF(ISNUMBER(SEARCH("Commercial",F53)),G53,"") | Y53: =IF(ISNUMBER(SEARCH("Commercial",F53)),I53,"") | Z53: =IF(ISNUMBER(SEARCH("Private",F53)),1,"") -> 1 | AA53: =IF(ISNUMBER(SEARCH("Rented",F53)),1,"") | AB53: =IF(ISNUMBER(SEARCH("Shared Ownership",F53)),1,"") | AC53: =IF(ISNUMBER(SEARCH("Commercial",F53)),1,"")
A54: ='Master Database'!A18 -> 003 | B54: ='COINS Codes'!B7 -> 0 | C54: ='Master Database'!F18 -> 462 | E54: ='Master Database'!K18 -> 2 | F54: ='Master Database'!E18 -> Private | G54: ='Master Database'!Q18 -> 1404 | H54: ='Master Database'!R18 -> 130.46 | J54: ='Master Database'!L18 -> 0 | K54: ='Master Database'!J18 -> 0 | L54: ='Master Database'!O18 -> 4 | R54: =IF(ISNUMBER(SEARCH("Private",F54)),G54,"") -> 1404 | S54: =IF(ISNUMBER(SEARCH("Private",F54)),I54,"") -> 0 | T54: =IF(ISNUMBER(SEARCH("Rented",G54)),I54,"") | U54: =IF(ISNUMBER(SEARCH("Rented",G54)),J54,"") | V54: =IF(ISNUMBER(SEARCH("Shared Ownership",I54)),J54,"") | W54: =IF(ISNUMBER(SEARCH("Shared Ownership",I54)),#REF!,"") | X54: =IF(ISNUMBER(SEARCH("Commercial",F54)),G54,"") | Y54: =IF(ISNUMBER(SEARCH("Commercial",F54)),I54,"") | Z54: =IF(ISNUMBER(SEARCH("Private",F54)),1,"") -> 1 | AA54: =IF(ISNUMBER(SEARCH("Rented",F54)),1,"") | AB54: =IF(ISNUMBER(SEARCH("Shared Ownership",F54)),1,"") | AC54: =IF(ISNUMBER(SEARCH("Commercial",F54)),1,"")
A55: ='Master Database'!A19 -> 004 | B55: ='COINS Codes'!B8 -> 0 | C55: ='Master Database'!F19 -> 581 | E55: ='Master Database'!K19 -> 2 | F55: ='Master Database'!E19 -> Private | G55: ='Master Database'!Q19 -> 1774 | H55: ='Master Database'!R19 -> 164.77 | J55: ='Master Database'!L19 -> 0 | K55: ='Master Database'!J19 -> 0 | L55: ='Master Database'!O19 -> 5 | R55: =IF(ISNUMBER(SEARCH("Private",F55)),G55,"") -> 1774 | S55: =IF(ISNUMBER(SEARCH("Private",F55)),I55,"") -> 0 | T55: =IF(ISNUMBER(SEARCH("Rented",G55)),I55,"") | U55: =IF(ISNUMBER(SEARCH("Rented",G55)),J55,"") | V55: =IF(ISNUMBER(SEARCH("Shared Ownership",I55)),J55,"") | W55: =IF(ISNUMBER(SEARCH("Shared Ownership",I55)),#REF!,"") | X55: =IF(ISNUMBER(SEARCH("Commercial",F55)),G55,"") | Y55: =IF(ISNUMBER(SEARCH("Commercial",F55)),I55,"") | Z55: =IF(ISNUMBER(SEARCH("Private",F55)),1,"") -> 1 | AA55: =IF(ISNUMBER(SEARCH("Rented",F55)),1,"") | AB55: =IF(ISNUMBER(SEARCH("Shared Ownership",F55)),1,"") | AC55: =IF(ISNUMBER(SEARCH("Commercial",F55)),1,"")
A56: ='Master Database'!A20 -> 005 | B56: ='COINS Codes'!B9 -> 0 | C56: ='Master Database'!F20 -> 466 | E56: ='Master Database'!K20 -> 2 | F56: ='Master Database'!E20 -> Private | G56: ='Master Database'!Q20 -> 1397 | H56: ='Master Database'!R20 -> 129.81 | J56: ='Master Database'!L20 -> 0 | K56: ='Master Database'!J20 -> 0 | L56: ='Master Database'!O20 -> 4 | R56: =IF(ISNUMBER(SEARCH("Private",F56)),G56,"") -> 1397 | S56: =IF(ISNUMBER(SEARCH("Private",F56)),I56,"") -> 0 | T56: =IF(ISNUMBER(SEARCH("Rented",G56)),I56,"") | U56: =IF(ISNUMBER(SEARCH("Rented",G56)),J56,"") | V56: =IF(ISNUMBER(SEARCH("Shared Ownership",I56)),J56,"") | W56: =IF(ISNUMBER(SEARCH("Shared Ownership",I56)),#REF!,"") | X56: =IF(ISNUMBER(SEARCH("Commercial",F56)),G56,"") | Y56: =IF(ISNUMBER(SEARCH("Commercial",F56)),I56,"") | Z56: =IF(ISNUMBER(SEARCH("Private",F56)),1,"") -> 1 | AA56: =IF(ISNUMBER(SEARCH("Rented",F56)),1,"") | AB56: =IF(ISNUMBER(SEARCH("Shared Ownership",F56)),1,"") | AC56: =IF(ISNUMBER(SEARCH("Commercial",F56)),1,"")
A57: ='Master Database'!A21 -> 006 | B57: ='COINS Codes'!B10 -> 0 | C57: ='Master Database'!F21 -> 466 | E57: ='Master Database'!K21 -> 2 | F57: ='Master Database'!E21 -> Private | G57: ='Master Database'!Q21 -> 1397 | H57: ='Master Database'!R21 -> 129.81 | J57: ='Master Database'!L21 -> 0 | K57: ='Master Database'!J21 -> 0 | L57: ='Master Database'!O21 -> 4 | R57: =IF(ISNUMBER(SEARCH("Private",F57)),G57,"") -> 1397 | S57: =IF(ISNUMBER(SEARCH("Private",F57)),I57,"") -> 0 | T57: =IF(ISNUMBER(SEARCH("Rented",G57)),I57,"") | U57: =IF(ISNUMBER(SEARCH("Rented",G57)),J57,"") | V57: =IF(ISNUMBER(SEARCH("Shared Ownership",I57)),J57,"") | W57: =IF(ISNUMBER(SEARCH("Shared Ownership",I57)),#REF!,"") | X57: =IF(ISNUMBER(SEARCH("Commercial",F57)),G57,"") | Y57: =IF(ISNUMBER(SEARCH("Commercial",F57)),I57,"") | Z57: =IF(ISNUMBER(SEARCH("Private",F57)),1,"") -> 1 | AA57: =IF(ISNUMBER(SEARCH("Rented",F57)),1,"") | AB57: =IF(ISNUMBER(SEARCH("Shared Ownership",F57)),1,"") | AC57: =IF(ISNUMBER(SEARCH("Commercial",F57)),1,"")
A58: ='Master Database'!A22 -> 007 | B58: ='COINS Codes'!B11 -> 0 | C58: ='Master Database'!F22 -> 462 | E58: ='Master Database'!K22 -> 2 | F58: ='Master Database'!E22 -> Private | G58: ='Master Database'!Q22 -> 1404 | H58: ='Master Database'!R22 -> 130.46 | J58: ='Master Database'!L22 -> 0 | K58: ='Master Database'!J22 -> 0 | L58: ='Master Database'!O22 -> 4 | R58: =IF(ISNUMBER(SEARCH("Private",F58)),G58,"") -> 1404 | S58: =IF(ISNUMBER(SEARCH("Private",F58)),I58,"") -> 0 | T58: =IF(ISNUMBER(SEARCH("Rented",G58)),I58,"") | U58: =IF(ISNUMBER(SEARCH("Rented",G58)),J58,"") | V58: =IF(ISNUMBER(SEARCH("Shared Ownership",I58)),J58,"") | W58: =IF(ISNUMBER(SEARCH("Shared Ownership",I58)),#REF!,"") | X58: =IF(ISNUMBER(SEARCH("Commercial",F58)),G58,"") | Y58: =IF(ISNUMBER(SEARCH("Commercial",F58)),I58,"") | Z58: =IF(ISNUMBER(SEARCH("Private",F58)),1,"") -> 1 | AA58: =IF(ISNUMBER(SEARCH("Rented",F58)),1,"") | AB58: =IF(ISNUMBER(SEARCH("Shared Ownership",F58)),1,"") | AC58: =IF(ISNUMBER(SEARCH("Commercial",F58)),1,"")
A59: ='Master Database'!A23 -> 008 | B59: ='COINS Codes'!B12 -> 0 | C59: ='Master Database'!F23 -> 581 | E59: ='Master Database'!K23 -> 2 | F59: ='Master Database'!E23 -> Private | G59: ='Master Database'!Q23 -> 1774 | H59: ='Master Database'!R23 -> 164.77 | J59: ='Master Database'!L23 -> 0 | K59: ='Master Database'!J23 -> 0 | L59: ='Master Database'!O23 -> 5 | R59: =IF(ISNUMBER(SEARCH("Private",F59)),G59,"") -> 1774 | S59: =IF(ISNUMBER(SEARCH("Private",F59)),I59,"") -> 0 | T59: =IF(ISNUMBER(SEARCH("Rented",G59)),I59,"") | U59: =IF(ISNUMBER(SEARCH("Rented",G59)),J59,"") | V59: =IF(ISNUMBER(SEARCH("Shared Ownership",I59)),J59,"") | W59: =IF(ISNUMBER(SEARCH("Shared Ownership",I59)),#REF!,"") | X59: =IF(ISNUMBER(SEARCH("Commercial",F59)),G59,"") | Y59: =IF(ISNUMBER(SEARCH("Commercial",F59)),I59,"") | Z59: =IF(ISNUMBER(SEARCH("Private",F59)),1,"") -> 1 | AA59: =IF(ISNUMBER(SEARCH("Rented",F59)),1,"") | AB59: =IF(ISNUMBER(SEARCH("Shared Ownership",F59)),1,"") | AC59: =IF(ISNUMBER(SEARCH("Commercial",F59)),1,"")
A60: ='Master Database'!A24 -> 009 | B60: ='COINS Codes'!B13 -> 0 | C60: ='Master Database'!F24 -> 354 | E60: ='Master Database'!K24 -> 2 | F60: ='Master Database'!E24 -> Private | G60: ='Master Database'!Q24 -> 1172 | H60: ='Master Database'!R24 -> 108.87 | J60: ='Master Database'!L24 -> 0 | K60: ='Master Database'!J24 -> 0 | L60: ='Master Database'!O24 -> 3 | R60: =IF(ISNUMBER(SEARCH("Private",F60)),G60,"") -> 1172 | S60: =IF(ISNUMBER(SEARCH("Private",F60)),I60,"") -> 0 | T60: =IF(ISNUMBER(SEARCH("Rented",G60)),I60,"") | U60: =IF(ISNUMBER(SEARCH("Rented",G60)),J60,"") | V60: =IF(ISNUMBER(SEARCH("Shared Ownership",I60)),J60,"") | W60: =IF(ISNUMBER(SEARCH("Shared Ownership",I60)),#REF!,"") | X60: =IF(ISNUMBER(SEARCH("Commercial",F60)),G60,"") | Y60: =IF(ISNUMBER(SEARCH("Commercial",F60)),I60,"") | Z60: =IF(ISNUMBER(SEARCH("Private",F60)),1,"") -> 1 | AA60: =IF(ISNUMBER(SEARCH("Rented",F60)),1,"") | AB60: =IF(ISNUMBER(SEARCH("Shared Ownership",F60)),1,"") | AC60: =IF(ISNUMBER(SEARCH("Commercial",F60)),1,"")
A61: ='Master Database'!A25 -> 010 | B61: ='COINS Codes'!B14 -> 0 | C61: ='Master Database'!F25 -> 352 | E61: ='Master Database'!K25 -> 2 | F61: ='Master Database'!E25 -> Private | G61: ='Master Database'!Q25 -> 1012 | H61: ='Master Database'!R25 -> 94.05 | J61: ='Master Database'!L25 -> 0 | K61: ='Master Database'!J25 -> 0 | L61: ='Master Database'!O25 -> 3 | R61: =IF(ISNUMBER(SEARCH("Private",F61)),G61,"") -> 1012 | S61: =IF(ISNUMBER(SEARCH("Private",F61)),I61,"") -> 0 | T61: =IF(ISNUMBER(SEARCH("Rented",G61)),I61,"") | U61: =IF(ISNUMBER(SEARCH("Rented",G61)),J61,"") | V61: =IF(ISNUMBER(SEARCH("Shared Ownership",I61)),J61,"") | W61: =IF(ISNUMBER(SEARCH("Shared Ownership",I61)),#REF!,"") | X61: =IF(ISNUMBER(SEARCH("Commercial",F61)),G61,"") | Y61: =IF(ISNUMBER(SEARCH("Commercial",F61)),I61,"") | Z61: =IF(ISNUMBER(SEARCH("Private",F61)),1,"") -> 1 | AA61: =IF(ISNUMBER(SEARCH("Rented",F61)),1,"") | AB61: =IF(ISNUMBER(SEARCH("Shared Ownership",F61)),1,"") | AC61: =IF(ISNUMBER(SEARCH("Commercial",F61)),1,"")
A62: ='Master Database'!A26 -> 011 | B62: ='COINS Codes'!B15 -> 0 | C62: ='Master Database'!F26 -> 352 | E62: ='Master Database'!K26 -> 2 | F62: ='Master Database'!E26 -> Private | G62: ='Master Database'!Q26 -> 1012 | H62: ='Master Database'!R26 -> 94.05 | J62: ='Master Database'!L26 -> 0 | K62: ='Master Database'!J26 -> 0 | L62: ='Master Database'!O26 -> 3 | R62: =IF(ISNUMBER(SEARCH("Private",F62)),G62,"") -> 1012 | S62: =IF(ISNUMBER(SEARCH("Private",F62)),I62,"") -> 0 | T62: =IF(ISNUMBER(SEARCH("Rented",G62)),I62,"") | U62: =IF(ISNUMBER(SEARCH("Rented",G62)),J62,"") | V62: =IF(ISNUMBER(SEARCH("Shared Ownership",I62)),J62,"") | W62: =IF(ISNUMBER(SEARCH("Shared Ownership",I62)),#REF!,"") | X62: =IF(ISNUMBER(SEARCH("Commercial",F62)),G62,"") | Y62: =IF(ISNUMBER(SEARCH("Commercial",F62)),I62,"") | Z62: =IF(ISNUMBER(SEARCH("Private",F62)),1,"") -> 1 | AA62: =IF(ISNUMBER(SEARCH("Rented",F62)),1,"") | AB62: =IF(ISNUMBER(SEARCH("Shared Ownership",F62)),1,"") | AC62: =IF(ISNUMBER(SEARCH("Commercial",F62)),1,"")
A63: ='Master Database'!A27 -> 012 | B63: ='COINS Codes'!B16 -> 0 | C63: ='Master Database'!F27 -> 242 | E63: ='Master Database'!K27 -> 2 | F63: ='Master Database'!E27 -> Rented | G63: ='Master Database'!Q27 -> 864 | H63: ='Master Database'!R27 -> 80.31 | J63: ='Master Database'!L27 -> 0 | K63: ='Master Database'!J27 -> 0 | L63: ='Master Database'!O27 -> 2 | R63: =IF(ISNUMBER(SEARCH("Private",F63)),G63,"") | S63: =IF(ISNUMBER(SEARCH("Private",F63)),I63,"") | T63: =IF(ISNUMBER(SEARCH("Rented",G63)),I63,"") | U63: =IF(ISNUMBER(SEARCH("Rented",G63)),J63,"") | V63: =IF(ISNUMBER(SEARCH("Shared Ownership",I63)),J63,"") | W63: =IF(ISNUMBER(SEARCH("Shared Ownership",I63)),#REF!,"") | X63: =IF(ISNUMBER(SEARCH("Commercial",F63)),G63,"") | Y63: =IF(ISNUMBER(SEARCH("Commercial",F63)),I63,"") | Z63: =IF(ISNUMBER(SEARCH("Private",F63)),1,"") | AA63: =IF(ISNUMBER(SEARCH("Rented",F63)),1,"") -> 1 | AB63: =IF(ISNUMBER(SEARCH("Shared Ownership",F63)),1,"") | AC63: =IF(ISNUMBER(SEARCH("Commercial",F63)),1,"")
A64: ='Master Database'!A28 -> 013 | B64: ='COINS Codes'!B17 -> 0 | C64: ='Master Database'!F28 -> 242 | E64: ='Master Database'!K28 -> 2 | F64: ='Master Database'!E28 -> Rented | G64: ='Master Database'!Q28 -> 864 | H64: ='Master Database'!R28 -> 80.31 | J64: ='Master Database'!L28 -> 0 | K64: ='Master Database'!J28 -> 0 | L64: ='Master Database'!O28 -> 2 | R64: =IF(ISNUMBER(SEARCH("Private",F64)),G64,"") | S64: =IF(ISNUMBER(SEARCH("Private",F64)),I64,"") | T64: =IF(ISNUMBER(SEARCH("Rented",G64)),I64,"") | U64: =IF(ISNUMBER(SEARCH("Rented",G64)),J64,"") | V64: =IF(ISNUMBER(SEARCH("Shared Ownership",I64)),J64,"") | W64: =IF(ISNUMBER(SEARCH("Shared Ownership",I64)),#REF!,"") | X64: =IF(ISNUMBER(SEARCH("Commercial",F64)),G64,"") | Y64: =IF(ISNUMBER(SEARCH("Commercial",F64)),I64,"") | Z64: =IF(ISNUMBER(SEARCH("Private",F64)),1,"") | AA64: =IF(ISNUMBER(SEARCH("Rented",F64)),1,"") -> 1 | AB64: =IF(ISNUMBER(SEARCH("Shared Ownership",F64)),1,"") | AC64: =IF(ISNUMBER(SEARCH("Commercial",F64)),1,"")
... A106: ='Master Database'!A70 -> 055 | B106: ='COINS Codes'!B59 -> 0 | C106: ='Master Database'!F70 -> BLOCK E | E106: ='Master Database'!K70 -> 0 | F106: ='Master Database'!E70 -> Rented | G106: ='Master Database'!Q70 -> 762 | H106: ='Master Database'!R70 -> 70.79 | J106: ='Master Database'!L70 -> SF | K106: ='Master Database'!J70 -> 0 | L106: ='Master Database'!O70 -> 2 | R106: =IF(ISNUMBER(SEARCH("Private",F106)),G106,"") | S106: =IF(ISNUMBER(SEARCH("Private",F106)),I106,"") | T106: =IF(ISNUMBER(SEARCH("Rented",G106)),I106,"") | U106: =IF(ISNUMBER(SEARCH("Rented",G106)),J106,"") | V106: =IF(ISNUMBER(SEARCH("Shared Ownership",I106)),J106,"") | W106: =IF(ISNUMBER(SEARCH("Shared Ownership",I106)),#REF!,"") | X106: =IF(ISNUMBER(SEARCH("Commercial",F106)),G106,"") | Y106: =IF(ISNUMBER(SEARCH("Commercial",F106)),I106,"") | Z106: =IF(ISNUMBER(SEARCH("Private",F106)),1,"") | AA106: =IF(ISNUMBER(SEARCH("Rented",F106)),1,"") -> 1 | AB106: =IF(ISNUMBER(SEARCH("Shared Ownership",F106)),1,"") | AC106: =IF(ISNUMBER(SEARCH("Commercial",F106)),1,"")
A107: ='Master Database'!A71 -> 056 | B107: ='COINS Codes'!B60 -> 0 | C107: ='Master Database'!F71 -> 241 | E107: ='Master Database'!K71 -> 2 | F107: ='Master Database'!E71 -> Private | G107: ='Master Database'!Q71 -> 864 | H107: ='Master Database'!R71 -> 80.31 | J107: ='Master Database'!L72 -> 0 | K107: ='Master Database'!J71 -> 0 | L107: ='Master Database'!O71 -> 2 | R107: =IF(ISNUMBER(SEARCH("Private",F107)),G107,"") -> 864 | S107: =IF(ISNUMBER(SEARCH("Private",F107)),I107,"") -> 0 | T107: =IF(ISNUMBER(SEARCH("Rented",G107)),I107,"") | U107: =IF(ISNUMBER(SEARCH("Rented",G107)),J107,"") | V107: =IF(ISNUMBER(SEARCH("Shared Ownership",I107)),J107,"") | W107: =IF(ISNUMBER(SEARCH("Shared Ownership",I107)),#REF!,"") | X107: =IF(ISNUMBER(SEARCH("Commercial",F107)),G107,"") | Y107: =IF(ISNUMBER(SEARCH("Commercial",F107)),I107,"") | Z107: =IF(ISNUMBER(SEARCH("Private",F107)),1,"") -> 1 | AA107: =IF(ISNUMBER(SEARCH("Rented",F107)),1,"") | AB107: =IF(ISNUMBER(SEARCH("Shared Ownership",F107)),1,"") | AC107: =IF(ISNUMBER(SEARCH("Commercial",F107)),1,"")
A108: ='Master Database'!A72 -> 057 | B108: ='COINS Codes'!B61 -> 0 | C108: ='Master Database'!F72 -> 241 | E108: ='Master Database'!K72 -> 2 | F108: ='Master Database'!E72 -> Private | G108: ='Master Database'!Q72 -> 864 | H108: ='Master Database'!R72 -> 80.31 | J108: ='Master Database'!#REF! -> #REF! | K108: ='Master Database'!J72 -> 0 | L108: ='Master Database'!O72 -> 2 | R108: =IF(ISNUMBER(SEARCH("Private",F108)),G108,"") -> 864 | S108: =IF(ISNUMBER(SEARCH("Private",F108)),I108,"") -> 0 | T108: =IF(ISNUMBER(SEARCH("Rented",G108)),I108,"") | U108: =IF(ISNUMBER(SEARCH("Rented",G108)),J108,"") | V108: =IF(ISNUMBER(SEARCH("Shared Ownership",I108)),J108,"") | W108: =IF(ISNUMBER(SEARCH("Shared Ownership",I108)),#REF!,"") | X108: =IF(ISNUMBER(SEARCH("Commercial",F108)),G108,"") | Y108: =IF(ISNUMBER(SEARCH("Commercial",F108)),I108,"") | Z108: =IF(ISNUMBER(SEARCH("Private",F108)),1,"") -> 1 | AA108: =IF(ISNUMBER(SEARCH("Rented",F108)),1,"") | AB108: =IF(ISNUMBER(SEARCH("Shared Ownership",F108)),1,"") | AC108: =IF(ISNUMBER(SEARCH("Commercial",F108)),1,"")
A109: ='Master Database'!A73 -> 058 | B109: ='COINS Codes'!B62 -> 0 | C109: ='Master Database'!F73 -> 354 | E109: ='Master Database'!K73 -> 2 | F109: ='Master Database'!E73 -> Private | G109: ='Master Database'!Q73 -> 1172 | H109: ='Master Database'!R73 -> 108.87 | J109: ='Master Database'!L73 -> 0 | K109: ='Master Database'!J73 -> 0 | L109: ='Master Database'!O73 -> 3 | R109: =IF(ISNUMBER(SEARCH("Private",F109)),G109,"") -> 1172 | S109: =IF(ISNUMBER(SEARCH("Private",F109)),I109,"") -> 0 | T109: =IF(ISNUMBER(SEARCH("Rented",G109)),I109,"") | U109: =IF(ISNUMBER(SEARCH("Rented",G109)),J109,"") | V109: =IF(ISNUMBER(SEARCH("Shared Ownership",I109)),J109,"") | W109: =IF(ISNUMBER(SEARCH("Shared Ownership",I109)),#REF!,"") | X109: =IF(ISNUMBER(SEARCH("Commercial",F109)),G109,"") | Y109: =IF(ISNUMBER(SEARCH("Commercial",F109)),I109,"") | Z109: =IF(ISNUMBER(SEARCH("Private",F109)),1,"") -> 1 | AA109: =IF(ISNUMBER(SEARCH("Rented",F109)),1,"") | AB109: =IF(ISNUMBER(SEARCH("Shared Ownership",F109)),1,"") | AC109: =IF(ISNUMBER(SEARCH("Commercial",F109)),1,"")
A110: ='Master Database'!A74 -> 059 | B110: ='COINS Codes'!B63 -> 0 | C110: ='Master Database'!F74 -> 461 | E110: ='Master Database'!K74 -> 2 | F110: ='Master Database'!E74 -> Private | G110: ='Master Database'!Q74 -> 1297 | H110: ='Master Database'!R74 -> 120.46 | J110: ='Master Database'!L74 -> 0 | K110: ='Master Database'!J74 -> 0 | L110: ='Master Database'!O74 -> 4 | R110: =IF(ISNUMBER(SEARCH("Private",F110)),G110,"") -> 1297 | S110: =IF(ISNUMBER(SEARCH("Private",F110)),I110,"") -> 0 | T110: =IF(ISNUMBER(SEARCH("Rented",G110)),I110,"") | U110: =IF(ISNUMBER(SEARCH("Rented",G110)),J110,"") | V110: =IF(ISNUMBER(SEARCH("Shared Ownership",I110)),J110,"") | W110: =IF(ISNUMBER(SEARCH("Shared Ownership",I110)),#REF!,"") | X110: =IF(ISNUMBER(SEARCH("Commercial",F110)),G110,"") | Y110: =IF(ISNUMBER(SEARCH("Commercial",F110)),I110,"") | Z110: =IF(ISNUMBER(SEARCH("Private",F110)),1,"") -> 1 | AA110: =IF(ISNUMBER(SEARCH("Rented",F110)),1,"") | AB110: =IF(ISNUMBER(SEARCH("Shared Ownership",F110)),1,"") | AC110: =IF(ISNUMBER(SEARCH("Commercial",F110)),1,"")
A111: ='Master Database'!A75 -> 060 | B111: ='COINS Codes'!B64 -> 0 | C111: ='Master Database'!F75 -> 354 | E111: ='Master Database'!K75 -> 2 | F111: ='Master Database'!E75 -> Private | G111: ='Master Database'!Q75 -> 1172 | H111: ='Master Database'!R75 -> 108.87 | J111: ='Master Database'!L75 -> 0 | K111: ='Master Database'!J75 -> 0 | L111: ='Master Database'!O75 -> 3 | R111: =IF(ISNUMBER(SEARCH("Private",F111)),G111,"") -> 1172 | S111: =IF(ISNUMBER(SEARCH("Private",F111)),I111,"") -> 0 | T111: =IF(ISNUMBER(SEARCH("Rented",G111)),I111,"") | U111: =IF(ISNUMBER(SEARCH("Rented",G111)),J111,"") | V111: =IF(ISNUMBER(SEARCH("Shared Ownership",I111)),J111,"") | W111: =IF(ISNUMBER(SEARCH("Shared Ownership",I111)),#REF!,"") | X111: =IF(ISNUMBER(SEARCH("Commercial",F111)),G111,"") | Y111: =IF(ISNUMBER(SEARCH("Commercial",F111)),I111,"") | Z111: =IF(ISNUMBER(SEARCH("Private",F111)),1,"") -> 1 | AA111: =IF(ISNUMBER(SEARCH("Rented",F111)),1,"") | AB111: =IF(ISNUMBER(SEARCH("Shared Ownership",F111)),1,"") | AC111: =IF(ISNUMBER(SEARCH("Commercial",F111)),1,"")
A112: ='Master Database'!A76 -> 061 | B112: ='COINS Codes'!B65 -> 0 | C112: ='Master Database'!F76 -> 364 | E112: ='Master Database'!K76 -> 2 | F112: ='Master Database'!E76 -> Private | G112: ='Master Database'!Q76 -> 1184 | H112: ='Master Database'!R76 -> 109.99 | J112: ='Master Database'!L76 -> 0 | K112: ='Master Database'!J76 -> 0 | L112: ='Master Database'!O76 -> 3 | R112: =IF(ISNUMBER(SEARCH("Private",F112)),G112,"") -> 1184 | S112: =IF(ISNUMBER(SEARCH("Private",F112)),I112,"") -> 0 | T112: =IF(ISNUMBER(SEARCH("Rented",G112)),I112,"") | U112: =IF(ISNUMBER(SEARCH("Rented",G112)),J112,"") | V112: =IF(ISNUMBER(SEARCH("Shared Ownership",I112)),J112,"") | W112: =IF(ISNUMBER(SEARCH("Shared Ownership",I112)),#REF!,"") | X112: =IF(ISNUMBER(SEARCH("Commercial",F112)),G112,"") | Y112: =IF(ISNUMBER(SEARCH("Commercial",F112)),I112,"") | Z112: =IF(ISNUMBER(SEARCH("Private",F112)),1,"") -> 1 | AA112: =IF(ISNUMBER(SEARCH("Rented",F112)),1,"") | AB112: =IF(ISNUMBER(SEARCH("Shared Ownership",F112)),1,"") | AC112: =IF(ISNUMBER(SEARCH("Commercial",F112)),1,"")
A113: ='Master Database'!A77 -> 062 | B113: ='COINS Codes'!B66 -> 0 | C113: ='Master Database'!F77 -> 241 | E113: ='Master Database'!K77 -> 2 | F113: ='Master Database'!E77 -> Private | G113: ='Master Database'!Q77 -> 864 | H113: ='Master Database'!R77 -> 80.31 | J113: ='Master Database'!L77 -> 0 | K113: ='Master Database'!J77 -> 0 | L113: ='Master Database'!O77 -> 2 | R113: =IF(ISNUMBER(SEARCH("Private",F113)),G113,"") -> 864 | S113: =IF(ISNUMBER(SEARCH("Private",F113)),I113,"") -> 0 | T113: =IF(ISNUMBER(SEARCH("Rented",G113)),I113,"") | U113: =IF(ISNUMBER(SEARCH("Rented",G113)),J113,"") | V113: =IF(ISNUMBER(SEARCH("Shared Ownership",I113)),J113,"") | W113: =IF(ISNUMBER(SEARCH("Shared Ownership",I113)),#REF!,"") | X113: =IF(ISNUMBER(SEARCH("Commercial",F113)),G113,"") | Y113: =IF(ISNUMBER(SEARCH("Commercial",F113)),I113,"") | Z113: =IF(ISNUMBER(SEARCH("Private",F113)),1,"") -> 1 | AA113: =IF(ISNUMBER(SEARCH("Rented",F113)),1,"") | AB113: =IF(ISNUMBER(SEARCH("Shared Ownership",F113)),1,"") | AC113: =IF(ISNUMBER(SEARCH("Commercial",F113)),1,"")
A114: ='Master Database'!A78 -> 063 | B114: ='COINS Codes'!B67 -> 0 | C114: ='Master Database'!F78 -> 241 | E114: ='Master Database'!K78 -> 2 | F114: ='Master Database'!E78 -> Private | G114: ='Master Database'!Q78 -> 864 | H114: ='Master Database'!R78 -> 80.31 | J114: ='Master Database'!L78 -> 0 | K114: ='Master Database'!J78 -> 0 | L114: ='Master Database'!O78 -> 2 | R114: =IF(ISNUMBER(SEARCH("Private",F114)),G114,"") -> 864 | S114: =IF(ISNUMBER(SEARCH("Private",F114)),I114,"") -> 0 | T114: =IF(ISNUMBER(SEARCH("Rented",G114)),I114,"") | U114: =IF(ISNUMBER(SEARCH("Rented",G114)),J114,"") | V114: =IF(ISNUMBER(SEARCH("Shared Ownership",I114)),J114,"") | W114: =IF(ISNUMBER(SEARCH("Shared Ownership",I114)),#REF!,"") | X114: =IF(ISNUMBER(SEARCH("Commercial",F114)),G114,"") | Y114: =IF(ISNUMBER(SEARCH("Commercial",F114)),I114,"") | Z114: =IF(ISNUMBER(SEARCH("Private",F114)),1,"") -> 1 | AA114: =IF(ISNUMBER(SEARCH("Rented",F114)),1,"") | AB114: =IF(ISNUMBER(SEARCH("Shared Ownership",F114)),1,"") | AC114: =IF(ISNUMBER(SEARCH("Commercial",F114)),1,"")
A115: ='Master Database'!A79 -> 064 | B115: ='COINS Codes'!B68 -> 0 | C115: ='Master Database'!F79 -> BLOCK A | E115: ='Master Database'!K79 -> 0 | F115: ='Master Database'!E79 -> Rented | G115: ='Master Database'!Q79 -> 763 | H115: ='Master Database'!R79 -> 70.88 | J115: ='Master Database'!L79 -> GF | K115: ='Master Database'!J79 -> 0 | L115: ='Master Database'!O79 -> 2 | R115: =IF(ISNUMBER(SEARCH("Private",F115)),G115,"") | S115: =IF(ISNUMBER(SEARCH("Private",F115)),I115,"") | T115: =IF(ISNUMBER(SEARCH("Rented",G115)),I115,"") | U115: =IF(ISNUMBER(SEARCH("Rented",G115)),J115,"") | V115: =IF(ISNUMBER(SEARCH("Shared Ownership",I115)),J115,"") | W115: =IF(ISNUMBER(SEARCH("Shared Ownership",I115)),#REF!,"") | X115: =IF(ISNUMBER(SEARCH("Commercial",F115)),G115,"") | Y115: =IF(ISNUMBER(SEARCH("Commercial",F115)),I115,"") | Z115: =IF(ISNUMBER(SEARCH("Private",F115)),1,"") | AA115: =IF(ISNUMBER(SEARCH("Rented",F115)),1,"") -> 1 | AB115: =IF(ISNUMBER(SEARCH("Shared Ownership",F115)),1,"") | AC115: =IF(ISNUMBER(SEARCH("Commercial",F115)),1,"")
A116: ='Master Database'!A80 -> 065 | B116: ='COINS Codes'!B69 -> 0 | C116: ='Master Database'!F80 -> BLOCK A | E116: ='Master Database'!K80 -> 0 | F116: ='Master Database'!E80 -> Rented | G116: ='Master Database'!Q80 -> 763 | H116: ='Master Database'!R80 -> 70.88 | J116: ='Master Database'!L80 -> GF | K116: ='Master Database'!J80 -> 0 | L116: ='Master Database'!O80 -> 2 | R116: =IF(ISNUMBER(SEARCH("Private",F116)),G116,"") | S116: =IF(ISNUMBER(SEARCH("Private",F116)),I116,"") | T116: =IF(ISNUMBER(SEARCH("Rented",G116)),I116,"") | U116: =IF(ISNUMBER(SEARCH("Rented",G116)),J116,"") | V116: =IF(ISNUMBER(SEARCH("Shared Ownership",I116)),J116,"") | W116: =IF(ISNUMBER(SEARCH("Shared Ownership",I116)),#REF!,"") | X116: =IF(ISNUMBER(SEARCH("Commercial",F116)),G116,"") | Y116: =IF(ISNUMBER(SEARCH("Commercial",F116)),I116,"") | Z116: =IF(ISNUMBER(SEARCH("Private",F116)),1,"") | AA116: =IF(ISNUMBER(SEARCH("Rented",F116)),1,"") -> 1 | AB116: =IF(ISNUMBER(SEARCH("Shared Ownership",F116)),1,"") | AC116: =IF(ISNUMBER(SEARCH("Commercial",F116)),1,"")
A117: ='Master Database'!A81 -> 066 | B117: ='COINS Codes'!B70 -> 0 | C117: ='Master Database'!F81 -> BLOCK A | E117: ='Master Database'!K81 -> 0 | F117: ='Master Database'!E81 -> Rented | G117: ='Master Database'!Q81 -> 763 | H117: ='Master Database'!R81 -> 70.88 | J117: ='Master Database'!L81 -> GF | K117: ='Master Database'!J81 -> 0 | L117: ='Master Database'!O81 -> 2 | R117: =IF(ISNUMBER(SEARCH("Private",F117)),G117,"") | S117: =IF(ISNUMBER(SEARCH("Private",F117)),I117,"") | T117: =IF(ISNUMBER(SEARCH("Rented",G117)),I117,"") | U117: =IF(ISNUMBER(SEARCH("Rented",G117)),J117,"") | V117: =IF(ISNUMBER(SEARCH("Shared Ownership",I117)),J117,"") | W117: =IF(ISNUMBER(SEARCH("Shared Ownership",I117)),#REF!,"") | X117: =IF(ISNUMBER(SEARCH("Commercial",F117)),G117,"") | Y117: =IF(ISNUMBER(SEARCH("Commercial",F117)),I117,"") | Z117: =IF(ISNUMBER(SEARCH("Private",F117)),1,"") | AA117: =IF(ISNUMBER(SEARCH("Rented",F117)),1,"") -> 1 | AB117: =IF(ISNUMBER(SEARCH("Shared Ownership",F117)),1,"") | AC117: =IF(ISNUMBER(SEARCH("Commercial",F117)),1,"")
A118: ='Master Database'!A82 -> 067 | B118: ='COINS Codes'!B71 -> 0 | C118: ='Master Database'!F82 -> BLOCK A | E118: ='Master Database'!K82 -> 0 | F118: ='Master Database'!E82 -> Rented | G118: ='Master Database'!Q82 -> 763 | H118: ='Master Database'!R82 -> 70.88 | J118: ='Master Database'!L82 -> FF | K118: ='Master Database'!J82 -> 0 | L118: ='Master Database'!O82 -> 2 | R118: =IF(ISNUMBER(SEARCH("Private",F118)),G118,"") | S118: =IF(ISNUMBER(SEARCH("Private",F118)),I118,"") | T118: =IF(ISNUMBER(SEARCH("Rented",G118)),I118,"") | U118: =IF(ISNUMBER(SEARCH("Rented",G118)),J118,"") | V118: =IF(ISNUMBER(SEARCH("Shared Ownership",I118)),J118,"") | W118: =IF(ISNUMBER(SEARCH("Shared Ownership",I118)),#REF!,"") | X118: =IF(ISNUMBER(SEARCH("Commercial",F118)),G118,"") | Y118: =IF(ISNUMBER(SEARCH("Commercial",F118)),I118,"") | Z118: =IF(ISNUMBER(SEARCH("Private",F118)),1,"") | AA118: =IF(ISNUMBER(SEARCH("Rented",F118)),1,"") -> 1 | AB118: =IF(ISNUMBER(SEARCH("Shared Ownership",F118)),1,"") | AC118: =IF(ISNUMBER(SEARCH("Commercial",F118)),1,"")
A119: ='Master Database'!A83 -> 068 | B119: ='COINS Codes'!B72 -> 0 | C119: ='Master Database'!F83 -> BLOCK A | E119: ='Master Database'!K83 -> 0 | F119: ='Master Database'!E83 -> Rented | G119: ='Master Database'!Q83 -> 763 | H119: ='Master Database'!R83 -> 70.88 | J119: ='Master Database'!L83 -> FF | K119: ='Master Database'!J83 -> 0 | L119: ='Master Database'!O83 -> 2 | R119: =IF(ISNUMBER(SEARCH("Private",F119)),G119,"") | S119: =IF(ISNUMBER(SEARCH("Private",F119)),I119,"") | T119: =IF(ISNUMBER(SEARCH("Rented",G119)),I119,"") | U119: =IF(ISNUMBER(SEARCH("Rented",G119)),J119,"") | V119: =IF(ISNUMBER(SEARCH("Shared Ownership",I119)),J119,"") | W119: =IF(ISNUMBER(SEARCH("Shared Ownership",I119)),#REF!,"") | X119: =IF(ISNUMBER(SEARCH("Commercial",F119)),G119,"") | Y119: =IF(ISNUMBER(SEARCH("Commercial",F119)),I119,"") | Z119: =IF(ISNUMBER(SEARCH("Private",F119)),1,"") | AA119: =IF(ISNUMBER(SEARCH("Rented",F119)),1,"") -> 1 | AB119: =IF(ISNUMBER(SEARCH("Shared Ownership",F119)),1,"") | AC119: =IF(ISNUMBER(SEARCH("Commercial",F119)),1,"")
A120: ='Master Database'!A84 -> 069 | B120: ='COINS Codes'!B73 -> 0 | C120: ='Master Database'!F84 -> BLOCK A | E120: ='Master Database'!K84 -> 0 | F120: ='Master Database'!E84 -> Rented | G120: ='Master Database'!Q84 -> 763 | H120: ='Master Database'!R84 -> 70.88 | J120: ='Master Database'!L84 -> FF | K120: ='Master Database'!J84 -> 0 | L120: ='Master Database'!O84 -> 2 | R120: =IF(ISNUMBER(SEARCH("Private",F120)),G120,"") | S120: =IF(ISNUMBER(SEARCH("Private",F120)),I120,"") | T120: =IF(ISNUMBER(SEARCH("Rented",G120)),I120,"") | U120: =IF(ISNUMBER(SEARCH("Rented",G120)),J120,"") | V120: =IF(ISNUMBER(SEARCH("Shared Ownership",I120)),J120,"") | W120: =IF(ISNUMBER(SEARCH("Shared Ownership",I120)),#REF!,"") | X120: =IF(ISNUMBER(SEARCH("Commercial",F120)),G120,"") | Y120: =IF(ISNUMBER(SEARCH("Commercial",F120)),I120,"") | Z120: =IF(ISNUMBER(SEARCH("Private",F120)),1,"") | AA120: =IF(ISNUMBER(SEARCH("Rented",F120)),1,"") -> 1 | AB120: =IF(ISNUMBER(SEARCH("Shared Ownership",F120)),1,"") | AC120: =IF(ISNUMBER(SEARCH("Commercial",F120)),1,"")
... A140: ='Master Database'!A104 -> 089 | B140: ='COINS Codes'!B93 -> 0 | C140: ='Master Database'!F104 -> 1BM | E140: ='Master Database'!K104 -> 0 | F140: ='Master Database'!E104 -> Rented | G140: ='Master Database'!Q104 -> 813 | H140: ='Master Database'!R104 -> 75.53 | J140: ='Master Database'!L104 -> FF | K140: ='Master Database'!J104 -> 0 | L140: ='Master Database'!O104 -> 1 | R140: =IF(ISNUMBER(SEARCH("Private",F140)),G140,"") | S140: =IF(ISNUMBER(SEARCH("Private",F140)),I140,"") | T140: =IF(ISNUMBER(SEARCH("Rented",G140)),I140,"") | U140: =IF(ISNUMBER(SEARCH("Rented",G140)),J140,"") | V140: =IF(ISNUMBER(SEARCH("Shared Ownership",I140)),J140,"") | W140: =IF(ISNUMBER(SEARCH("Shared Ownership",I140)),#REF!,"") | X140: =IF(ISNUMBER(SEARCH("Commercial",F140)),G140,"") | Y140: =IF(ISNUMBER(SEARCH("Commercial",F140)),I140,"") | Z140: =IF(ISNUMBER(SEARCH("Private",F140)),1,"") | AA140: =IF(ISNUMBER(SEARCH("Rented",F140)),1,"") -> 1 | AB140: =IF(ISNUMBER(SEARCH("Shared Ownership",F140)),1,"") | AC140: =IF(ISNUMBER(SEARCH("Commercial",F140)),1,"")
A141: ='Master Database'!#REF! -> #REF! | B141: ='COINS Codes'!B94 -> 0 | C141: ='Master Database'!#REF! -> #REF! | E141: ='Master Database'!#REF! -> #REF! | F141: ='Master Database'!#REF! -> #REF! | G141: ='Master Database'!#REF! -> #REF! | H141: ='Master Database'!#REF! -> #REF! | J141: ='Master Database'!#REF! -> #REF! | K141: ='Master Database'!#REF! -> #REF! | L141: ='Master Database'!#REF! -> #REF! | R141: =IF(ISNUMBER(SEARCH("Private",F141)),G141,"") | S141: =IF(ISNUMBER(SEARCH("Private",F141)),I141,"") | T141: =IF(ISNUMBER(SEARCH("Rented",G141)),I141,"") | U141: =IF(ISNUMBER(SEARCH("Rented",G141)),J141,"") | V141: =IF(ISNUMBER(SEARCH("Shared Ownership",I141)),J141,"") | W141: =IF(ISNUMBER(SEARCH("Shared Ownership",I141)),#REF!,"") | X141: =IF(ISNUMBER(SEARCH("Commercial",F141)),G141,"") | Y141: =IF(ISNUMBER(SEARCH("Commercial",F141)),I141,"") | Z141: =IF(ISNUMBER(SEARCH("Private",F141)),1,"") | AA141: =IF(ISNUMBER(SEARCH("Rented",F141)),1,"") | AB141: =IF(ISNUMBER(SEARCH("Shared Ownership",F141)),1,"") | AC141: =IF(ISNUMBER(SEARCH("Commercial",F141)),1,"")
A142: ='Master Database'!A105 -> 090 | B142: ='COINS Codes'!B95 -> 0 | C142: ='Master Database'!F105 -> 242 | E142: ='Master Database'!K105 -> 2 | F142: ='Master Database'!E105 -> Rented | G142: ='Master Database'!Q105 -> 864 | H142: ='Master Database'!R105 -> 80.31 | J142: ='Master Database'!L105 -> 0 | K142: ='Master Database'!J105 -> 0 | L142: ='Master Database'!O105 -> 2 | R142: =IF(ISNUMBER(SEARCH("Private",F142)),G142,"") | S142: =IF(ISNUMBER(SEARCH("Private",F142)),I142,"") | T142: =IF(ISNUMBER(SEARCH("Rented",G142)),I142,"") | U142: =IF(ISNUMBER(SEARCH("Rented",G142)),J142,"") | V142: =IF(ISNUMBER(SEARCH("Shared Ownership",I142)),J142,"") | W142: =IF(ISNUMBER(SEARCH("Shared Ownership",I142)),#REF!,"") | X142: =IF(ISNUMBER(SEARCH("Commercial",F142)),G142,"") | Y142: =IF(ISNUMBER(SEARCH("Commercial",F142)),I142,"") | Z142: =IF(ISNUMBER(SEARCH("Private",F142)),1,"") | AA142: =IF(ISNUMBER(SEARCH("Rented",F142)),1,"") -> 1 | AB142: =IF(ISNUMBER(SEARCH("Shared Ownership",F142)),1,"") | AC142: =IF(ISNUMBER(SEARCH("Commercial",F142)),1,"")
A143: ='Master Database'!A106 -> 091 | B143: ='COINS Codes'!B96 -> 0 | C143: ='Master Database'!F106 -> 352 | E143: ='Master Database'!K106 -> 2 | F143: ='Master Database'!E106 -> Private | G143: ='Master Database'!Q106 -> 1012 | H143: ='Master Database'!R106 -> 94.05 | J143: ='Master Database'!L106 -> 0 | K143: ='Master Database'!J106 -> 0 | L143: ='Master Database'!O106 -> 3 | R143: =IF(ISNUMBER(SEARCH("Private",F143)),G143,"") -> 1012 | S143: =IF(ISNUMBER(SEARCH("Private",F143)),I143,"") -> 0 | T143: =IF(ISNUMBER(SEARCH("Rented",G143)),I143,"") | U143: =IF(ISNUMBER(SEARCH("Rented",G143)),J143,"") | V143: =IF(ISNUMBER(SEARCH("Shared Ownership",I143)),J143,"") | W143: =IF(ISNUMBER(SEARCH("Shared Ownership",I143)),#REF!,"") | X143: =IF(ISNUMBER(SEARCH("Commercial",F143)),G143,"") | Y143: =IF(ISNUMBER(SEARCH("Commercial",F143)),I143,"") | Z143: =IF(ISNUMBER(SEARCH("Private",F143)),1,"") -> 1 | AA143: =IF(ISNUMBER(SEARCH("Rented",F143)),1,"") | AB143: =IF(ISNUMBER(SEARCH("Shared Ownership",F143)),1,"") | AC143: =IF(ISNUMBER(SEARCH("Commercial",F143)),1,"")
A144: ='Master Database'!A107 -> 092 | B144: ='COINS Codes'!B97 -> 0 | C144: ='Master Database'!F107 -> 352 | E144: ='Master Database'!K107 -> 2 | F144: ='Master Database'!E107 -> Private | G144: ='Master Database'!Q107 -> 1012 | H144: ='Master Database'!R107 -> 94.05 | J144: ='Master Database'!L107 -> 0 | K144: ='Master Database'!J107 -> 0 | L144: ='Master Database'!O107 -> 3 | R144: =IF(ISNUMBER(SEARCH("Private",F144)),G144,"") -> 1012 | S144: =IF(ISNUMBER(SEARCH("Private",F144)),I144,"") -> 0 | T144: =IF(ISNUMBER(SEARCH("Rented",G144)),I144,"") | U144: =IF(ISNUMBER(SEARCH("Rented",G144)),J144,"") | V144: =IF(ISNUMBER(SEARCH("Shared Ownership",I144)),J144,"") | W144: =IF(ISNUMBER(SEARCH("Shared Ownership",I144)),#REF!,"") | X144: =IF(ISNUMBER(SEARCH("Commercial",F144)),G144,"") | Y144: =IF(ISNUMBER(SEARCH("Commercial",F144)),I144,"") | Z144: =IF(ISNUMBER(SEARCH("Private",F144)),1,"") -> 1 | AA144: =IF(ISNUMBER(SEARCH("Rented",F144)),1,"") | AB144: =IF(ISNUMBER(SEARCH("Shared Ownership",F144)),1,"") | AC144: =IF(ISNUMBER(SEARCH("Commercial",F144)),1,"")
A145: ='Master Database'!A108 -> 093 | B145: ='COINS Codes'!B98 -> 0 | C145: ='Master Database'!F108 -> 352 | E145: ='Master Database'!K108 -> 2 | F145: ='Master Database'!E108 -> Private | G145: ='Master Database'!Q108 -> 1012 | H145: ='Master Database'!R108 -> 94.05 | J145: ='Master Database'!L108 -> 0 | K145: ='Master Database'!J108 -> 0 | L145: ='Master Database'!O108 -> 3 | R145: =IF(ISNUMBER(SEARCH("Private",F145)),G145,"") -> 1012 | S145: =IF(ISNUMBER(SEARCH("Private",F145)),I145,"") -> 0 | T145: =IF(ISNUMBER(SEARCH("Rented",G145)),I145,"") | U145: =IF(ISNUMBER(SEARCH("Rented",G145)),J145,"") | V145: =IF(ISNUMBER(SEARCH("Shared Ownership",I145)),J145,"") | W145: =IF(ISNUMBER(SEARCH("Shared Ownership",I145)),#REF!,"") | X145: =IF(ISNUMBER(SEARCH("Commercial",F145)),G145,"") | Y145: =IF(ISNUMBER(SEARCH("Commercial",F145)),I145,"") | Z145: =IF(ISNUMBER(SEARCH("Private",F145)),1,"") -> 1 | AA145: =IF(ISNUMBER(SEARCH("Rented",F145)),1,"") | AB145: =IF(ISNUMBER(SEARCH("Shared Ownership",F145)),1,"") | AC145: =IF(ISNUMBER(SEARCH("Commercial",F145)),1,"")
A146: ='Master Database'!A109 -> 094 | B146: ='COINS Codes'!B99 -> 0 | C146: ='Master Database'!F109 -> 354 | E146: ='Master Database'!K109 -> 2 | F146: ='Master Database'!E109 -> Private | G146: ='Master Database'!Q109 -> 1172 | H146: ='Master Database'!R109 -> 108.87 | J146: ='Master Database'!L109 -> 0 | K146: ='Master Database'!J109 -> 0 | L146: ='Master Database'!O109 -> 3 | R146: =IF(ISNUMBER(SEARCH("Private",F146)),G146,"") -> 1172 | S146: =IF(ISNUMBER(SEARCH("Private",F146)),I146,"") -> 0 | T146: =IF(ISNUMBER(SEARCH("Rented",G146)),I146,"") | U146: =IF(ISNUMBER(SEARCH("Rented",G146)),J146,"") | V146: =IF(ISNUMBER(SEARCH("Shared Ownership",I146)),J146,"") | W146: =IF(ISNUMBER(SEARCH("Shared Ownership",I146)),#REF!,"") | X146: =IF(ISNUMBER(SEARCH("Commercial",F146)),G146,"") | Y146: =IF(ISNUMBER(SEARCH("Commercial",F146)),I146,"") | Z146: =IF(ISNUMBER(SEARCH("Private",F146)),1,"") -> 1 | AA146: =IF(ISNUMBER(SEARCH("Rented",F146)),1,"") | AB146: =IF(ISNUMBER(SEARCH("Shared Ownership",F146)),1,"") | AC146: =IF(ISNUMBER(SEARCH("Commercial",F146)),1,"")
A147: ='Master Database'!A110 -> 095 | B147: ='COINS Codes'!B100 -> 0 | C147: ='Master Database'!F110 -> 464 | E147: ='Master Database'!K110 -> 2.5 | F147: ='Master Database'!E110 -> Private | G147: ='Master Database'!Q110 -> 1209 | H147: ='Master Database'!R110 -> 112.36 | J147: ='Master Database'!L110 -> 0 | K147: ='Master Database'!J110 -> 0 | L147: ='Master Database'!O110 -> 4 | R147: =IF(ISNUMBER(SEARCH("Private",F147)),G147,"") -> 1209 | S147: =IF(ISNUMBER(SEARCH("Private",F147)),I147,"") -> 0 | T147: =IF(ISNUMBER(SEARCH("Rented",G147)),I147,"") | U147: =IF(ISNUMBER(SEARCH("Rented",G147)),J147,"") | V147: =IF(ISNUMBER(SEARCH("Shared Ownership",I147)),J147,"") | W147: =IF(ISNUMBER(SEARCH("Shared Ownership",I147)),#REF!,"") | X147: =IF(ISNUMBER(SEARCH("Commercial",F147)),G147,"") | Y147: =IF(ISNUMBER(SEARCH("Commercial",F147)),I147,"") | Z147: =IF(ISNUMBER(SEARCH("Private",F147)),1,"") -> 1 | AA147: =IF(ISNUMBER(SEARCH("Rented",F147)),1,"") | AB147: =IF(ISNUMBER(SEARCH("Shared Ownership",F147)),1,"") | AC147: =IF(ISNUMBER(SEARCH("Commercial",F147)),1,"")
A148: ='Master Database'!A111 -> 096 | B148: ='COINS Codes'!B101 -> 0 | C148: ='Master Database'!F111 -> 464 | E148: ='Master Database'!K111 -> 2.5 | F148: ='Master Database'!E111 -> Private | G148: ='Master Database'!Q111 -> 1209 | H148: ='Master Database'!R111 -> 112.36 | J148: ='Master Database'!L111 -> 0 | K148: ='Master Database'!J111 -> 0 | L148: ='Master Database'!O111 -> 4 | R148: =IF(ISNUMBER(SEARCH("Private",F148)),G148,"") -> 1209 | S148: =IF(ISNUMBER(SEARCH("Private",F148)),I148,"") -> 0 | T148: =IF(ISNUMBER(SEARCH("Rented",G148)),I148,"") | U148: =IF(ISNUMBER(SEARCH("Rented",G148)),J148,"") | V148: =IF(ISNUMBER(SEARCH("Shared Ownership",I148)),J148,"") | W148: =IF(ISNUMBER(SEARCH("Shared Ownership",I148)),#REF!,"") | X148: =IF(ISNUMBER(SEARCH("Commercial",F148)),G148,"") | Y148: =IF(ISNUMBER(SEARCH("Commercial",F148)),I148,"") | Z148: =IF(ISNUMBER(SEARCH("Private",F148)),1,"") -> 1 | AA148: =IF(ISNUMBER(SEARCH("Rented",F148)),1,"") | AB148: =IF(ISNUMBER(SEARCH("Shared Ownership",F148)),1,"") | AC148: =IF(ISNUMBER(SEARCH("Commercial",F148)),1,"")
A149: ='Master Database'!A112 -> 097 | B149: ='COINS Codes'!B102 -> 0 | C149: ='Master Database'!F112 -> 364 | E149: ='Master Database'!K112 -> 2 | F149: ='Master Database'!E112 -> Private | G149: ='Master Database'!Q112 -> 1184 | H149: ='Master Database'!R112 -> 109.99 | J149: ='Master Database'!L112 -> 0 | K149: ='Master Database'!J112 -> 0 | L149: ='Master Database'!O112 -> 3 | R149: =IF(ISNUMBER(SEARCH("Private",F149)),G149,"") -> 1184 | S149: =IF(ISNUMBER(SEARCH("Private",F149)),I149,"") -> 0 | T149: =IF(ISNUMBER(SEARCH("Rented",G149)),I149,"") | U149: =IF(ISNUMBER(SEARCH("Rented",G149)),J149,"") | V149: =IF(ISNUMBER(SEARCH("Shared Ownership",I149)),J149,"") | W149: =IF(ISNUMBER(SEARCH("Shared Ownership",I149)),#REF!,"") | X149: =IF(ISNUMBER(SEARCH("Commercial",F149)),G149,"") | Y149: =IF(ISNUMBER(SEARCH("Commercial",F149)),I149,"") | Z149: =IF(ISNUMBER(SEARCH("Private",F149)),1,"") -> 1 | AA149: =IF(ISNUMBER(SEARCH("Rented",F149)),1,"") | AB149: =IF(ISNUMBER(SEARCH("Shared Ownership",F149)),1,"") | AC149: =IF(ISNUMBER(SEARCH("Commercial",F149)),1,"")
A150: ='Master Database'!A113 -> 098 | B150: ='COINS Codes'!B103 -> 0 | C150: ='Master Database'!F113 -> 364 | E150: ='Master Database'!K113 -> 2 | F150: ='Master Database'!E113 -> Private | G150: ='Master Database'!Q113 -> 1184 | H150: ='Master Database'!R113 -> 109.99 | J150: ='Master Database'!L113 -> 0 | K150: ='Master Database'!J113 -> 0 | L150: ='Master Database'!O113 -> 3 | R150: =IF(ISNUMBER(SEARCH("Private",F150)),G150,"") -> 1184 | S150: =IF(ISNUMBER(SEARCH("Private",F150)),I150,"") -> 0 | T150: =IF(ISNUMBER(SEARCH("Rented",G150)),I150,"") | U150: =IF(ISNUMBER(SEARCH("Rented",G150)),J150,"") | V150: =IF(ISNUMBER(SEARCH("Shared Ownership",I150)),J150,"") | W150: =IF(ISNUMBER(SEARCH("Shared Ownership",I150)),#REF!,"") | X150: =IF(ISNUMBER(SEARCH("Commercial",F150)),G150,"") | Y150: =IF(ISNUMBER(SEARCH("Commercial",F150)),I150,"") | Z150: =IF(ISNUMBER(SEARCH("Private",F150)),1,"") -> 1 | AA150: =IF(ISNUMBER(SEARCH("Rented",F150)),1,"") | AB150: =IF(ISNUMBER(SEARCH("Shared Ownership",F150)),1,"") | AC150: =IF(ISNUMBER(SEARCH("Commercial",F150)),1,"")
A151: ='Master Database'!A114 -> 099 | B151: ='COINS Codes'!B104 -> 0 | C151: ='Master Database'!F114 -> 352 | E151: ='Master Database'!K114 -> 2 | F151: ='Master Database'!E114 -> Private | G151: ='Master Database'!Q114 -> 1012 | H151: ='Master Database'!R114 -> 94.05 | J151: ='Master Database'!L114 -> 0 | K151: ='Master Database'!J114 -> 0 | L151: ='Master Database'!O114 -> 3 | R151: =IF(ISNUMBER(SEARCH("Private",F151)),G151,"") -> 1012 | S151: =IF(ISNUMBER(SEARCH("Private",F151)),I151,"") -> 0 | T151: =IF(ISNUMBER(SEARCH("Rented",G151)),I151,"") | U151: =IF(ISNUMBER(SEARCH("Rented",G151)),J151,"") | V151: =IF(ISNUMBER(SEARCH("Shared Ownership",I151)),J151,"") | W151: =IF(ISNUMBER(SEARCH("Shared Ownership",I151)),#REF!,"") | X151: =IF(ISNUMBER(SEARCH("Commercial",F151)),G151,"") | Y151: =IF(ISNUMBER(SEARCH("Commercial",F151)),I151,"") | Z151: =IF(ISNUMBER(SEARCH("Private",F151)),1,"") -> 1 | AA151: =IF(ISNUMBER(SEARCH("Rented",F151)),1,"") | AB151: =IF(ISNUMBER(SEARCH("Shared Ownership",F151)),1,"") | AC151: =IF(ISNUMBER(SEARCH("Commercial",F151)),1,"")
A152: ='Master Database'!A115 -> 100 | B152: ='COINS Codes'!B105 -> 0 | C152: ='Master Database'!F115 -> 352 | E152: ='Master Database'!K115 -> 2 | F152: ='Master Database'!E115 -> Private | G152: ='Master Database'!Q115 -> 1012 | H152: ='Master Database'!R115 -> 94.05 | J152: ='Master Database'!L115 -> 0 | K152: ='Master Database'!J115 -> 0 | L152: ='Master Database'!O115 -> 3 | R152: =IF(ISNUMBER(SEARCH("Private",F152)),G152,"") -> 1012 | S152: =IF(ISNUMBER(SEARCH("Private",F152)),I152,"") -> 0 | T152: =IF(ISNUMBER(SEARCH("Rented",G152)),I152,"") | U152: =IF(ISNUMBER(SEARCH("Rented",G152)),J152,"") | V152: =IF(ISNUMBER(SEARCH("Shared Ownership",I152)),J152,"") | W152: =IF(ISNUMBER(SEARCH("Shared Ownership",I152)),#REF!,"") | X152: =IF(ISNUMBER(SEARCH("Commercial",F152)),G152,"") | Y152: =IF(ISNUMBER(SEARCH("Commercial",F152)),I152,"") | Z152: =IF(ISNUMBER(SEARCH("Private",F152)),1,"") -> 1 | AA152: =IF(ISNUMBER(SEARCH("Rented",F152)),1,"") | AB152: =IF(ISNUMBER(SEARCH("Shared Ownership",F152)),1,"") | AC152: =IF(ISNUMBER(SEARCH("Commercial",F152)),1,"")
A153: ='Master Database'!A116 -> 101 | B153: ='COINS Codes'!B106 -> 0 | C153: ='Master Database'!F116 -> 352 | E153: ='Master Database'!K116 -> 2 | F153: ='Master Database'!E116 -> Private | G153: ='Master Database'!Q116 -> 1012 | H153: ='Master Database'!R116 -> 94.05 | J153: ='Master Database'!L116 -> 0 | K153: ='Master Database'!J116 -> 0 | L153: ='Master Database'!O116 -> 3 | R153: =IF(ISNUMBER(SEARCH("Private",F153)),G153,"") -> 1012 | S153: =IF(ISNUMBER(SEARCH("Private",F153)),I153,"") -> 0 | T153: =IF(ISNUMBER(SEARCH("Rented",G153)),I153,"") | U153: =IF(ISNUMBER(SEARCH("Rented",G153)),J153,"") | V153: =IF(ISNUMBER(SEARCH("Shared Ownership",I153)),J153,"") | W153: =IF(ISNUMBER(SEARCH("Shared Ownership",I153)),#REF!,"") | X153: =IF(ISNUMBER(SEARCH("Commercial",F153)),G153,"") | Y153: =IF(ISNUMBER(SEARCH("Commercial",F153)),I153,"") | Z153: =IF(ISNUMBER(SEARCH("Private",F153)),1,"") -> 1 | AA153: =IF(ISNUMBER(SEARCH("Rented",F153)),1,"") | AB153: =IF(ISNUMBER(SEARCH("Shared Ownership",F153)),1,"") | AC153: =IF(ISNUMBER(SEARCH("Commercial",F153)),1,"")
... A251: ='Master Database'!A214 -> 199 | B251: ='COINS Codes'!B204 -> 0 | C251: ='Master Database'!F214 -> BLOCK C | E251: ='Master Database'!K214 -> 0 | F251: ='Master Database'!E214 -> First Homes | G251: ='Master Database'!Q214 -> 552 | H251: ='Master Database'!R214 -> 51.28 | J251: ='Master Database'!L214 -> FF | K251: ='Master Database'!J214 -> 0 | L251: ='Master Database'!O214 -> 1 | R251: =IF(ISNUMBER(SEARCH("Private",F251)),G251,"") | S251: =IF(ISNUMBER(SEARCH("Private",F251)),I251,"") | T251: =IF(ISNUMBER(SEARCH("Rented",G251)),I251,"") | U251: =IF(ISNUMBER(SEARCH("Rented",G251)),J251,"") | V251: =IF(ISNUMBER(SEARCH("Shared Ownership",I251)),J251,"") | W251: =IF(ISNUMBER(SEARCH("Shared Ownership",I251)),#REF!,"") | X251: =IF(ISNUMBER(SEARCH("Commercial",F251)),G251,"") | Y251: =IF(ISNUMBER(SEARCH("Commercial",F251)),I251,"") | Z251: =IF(ISNUMBER(SEARCH("Private",F251)),1,"") | AA251: =IF(ISNUMBER(SEARCH("Rented",F251)),1,"") | AB251: =IF(ISNUMBER(SEARCH("Shared Ownership",F251)),1,"") | AC251: =IF(ISNUMBER(SEARCH("Commercial",F251)),1,"")
A252: ='Master Database'!A215 -> 200 | B252: ='COINS Codes'!B205 -> 0 | C252: ='Master Database'!F215 -> BLOCK C | E252: ='Master Database'!K215 -> 0 | F252: ='Master Database'!E215 -> First Homes | G252: ='Master Database'!Q215 -> 552 | H252: ='Master Database'!R215 -> 51.28 | J252: ='Master Database'!L215 -> FF | K252: ='Master Database'!J215 -> 0 | L252: ='Master Database'!O215 -> 1
A253: ='Master Database'!A216 -> 201 | B253: ='COINS Codes'!B206 -> 0 | C253: ='Master Database'!F216 -> BLOCK C | E253: ='Master Database'!K216 -> 0 | F253: ='Master Database'!E216 -> First Homes | G253: ='Master Database'!Q216 -> 552 | H253: ='Master Database'!R216 -> 51.28 | J253: ='Master Database'!L216 -> SF | K253: ='Master Database'!J216 -> 0 | L253: ='Master Database'!O216 -> 1
A254: ='Master Database'!A217 -> 202 | B254: ='COINS Codes'!B207 -> 0 | C254: ='Master Database'!F217 -> BLOCK C | E254: ='Master Database'!K217 -> 0 | F254: ='Master Database'!E217 -> First Homes | G254: ='Master Database'!Q217 -> 552 | H254: ='Master Database'!R217 -> 51.28 | J254: ='Master Database'!L217 -> SF | K254: ='Master Database'!J217 -> 0 | L254: ='Master Database'!O217 -> 1
A255: ='Master Database'!A218 -> 203 | B255: ='COINS Codes'!B208 -> 0 | C255: ='Master Database'!F218 -> BLOCK A | E255: ='Master Database'!K218 -> 0 | F255: ='Master Database'!E218 -> First Homes | G255: ='Master Database'!Q218 -> 763 | H255: ='Master Database'!R218 -> 70.88 | J255: ='Master Database'!L218 -> GF | K255: ='Master Database'!J218 -> 0 | L255: ='Master Database'!O218 -> 2
A256: ='Master Database'!A219 -> 204 | B256: ='COINS Codes'!B209 -> 0 | C256: ='Master Database'!F219 -> BLOCK A | E256: ='Master Database'!K219 -> 0 | F256: ='Master Database'!E219 -> First Homes | G256: ='Master Database'!Q219 -> 763 | H256: ='Master Database'!R219 -> 70.88 | J256: ='Master Database'!L219 -> GF | K256: ='Master Database'!J219 -> 0 | L256: ='Master Database'!O219 -> 2
A257: ='Master Database'!A220 -> 205 | B257: ='COINS Codes'!B210 -> 0 | C257: ='Master Database'!F220 -> BLOCK A | E257: ='Master Database'!K220 -> 0 | F257: ='Master Database'!E220 -> First Homes | G257: ='Master Database'!Q220 -> 763 | H257: ='Master Database'!R220 -> 70.88 | J257: ='Master Database'!L220 -> GF | K257: ='Master Database'!J220 -> 0 | L257: ='Master Database'!O220 -> 2
A258: ='Master Database'!A221 -> 206 | B258: ='COINS Codes'!B211 -> 0 | C258: ='Master Database'!F221 -> BLOCK A | E258: ='Master Database'!K221 -> 0 | F258: ='Master Database'!E221 -> First Homes | G258: ='Master Database'!Q221 -> 763 | H258: ='Master Database'!R221 -> 70.88 | J258: ='Master Database'!L221 -> FF | K258: ='Master Database'!J221 -> 0 | L258: ='Master Database'!O221 -> 2
A259: ='Master Database'!A222 -> 207 | B259: ='COINS Codes'!B212 -> 0 | C259: ='Master Database'!F222 -> BLOCK A | E259: ='Master Database'!K222 -> 0 | F259: ='Master Database'!E222 -> First Homes | G259: ='Master Database'!Q222 -> 763 | H259: ='Master Database'!R222 -> 70.88 | J259: ='Master Database'!L222 -> FF | K259: ='Master Database'!J222 -> 0 | L259: ='Master Database'!O222 -> 2
A260: ='Master Database'!A223 -> 208 | B260: ='COINS Codes'!B213 -> 0 | C260: ='Master Database'!F223 -> BLOCK A | E260: ='Master Database'!K223 -> 0 | F260: ='Master Database'!E223 -> First Homes | G260: ='Master Database'!Q223 -> 763 | H260: ='Master Database'!R223 -> 70.88 | J260: ='Master Database'!L223 -> FF | K260: ='Master Database'!J223 -> 0 | L260: ='Master Database'!O223 -> 2
A261: ='Master Database'!A224 -> 209 | B261: ='COINS Codes'!B214 -> 0 | C261: ='Master Database'!F224 -> BLOCK A | E261: ='Master Database'!K224 -> 0 | F261: ='Master Database'!E224 -> First Homes | G261: ='Master Database'!Q224 -> 763 | H261: ='Master Database'!R224 -> 70.88 | J261: ='Master Database'!L224 -> SF | K261: ='Master Database'!J224 -> 0 | L261: ='Master Database'!O224 -> 2
A262: ='Master Database'!A225 -> 210 | B262: ='COINS Codes'!B215 -> 0 | C262: ='Master Database'!F225 -> BLOCK A | E262: ='Master Database'!K225 -> 0 | F262: ='Master Database'!E225 -> First Homes | G262: ='Master Database'!Q225 -> 763 | H262: ='Master Database'!R225 -> 70.88 | J262: ='Master Database'!L225 -> SF | K262: ='Master Database'!J225 -> 0 | L262: ='Master Database'!O225 -> 2
A263: ='Master Database'!A226 -> 211 | B263: ='COINS Codes'!B216 -> 0 | C263: ='Master Database'!F226 -> BLOCK A | E263: ='Master Database'!K226 -> 0 | F263: ='Master Database'!E226 -> First Homes | G263: ='Master Database'!Q226 -> 763 | H263: ='Master Database'!R226 -> 70.88 | J263: ='Master Database'!L226 -> SF | K263: ='Master Database'!J226 -> 0 | L263: ='Master Database'!O226 -> 2
... A351: ='Master Database'!A314 -> 299 | B351: ='COINS Codes'!B304 -> 0 | C351: ='Master Database'!F314 -> 466 | E351: ='Master Database'!K314 -> 2 | F351: ='Master Database'!E314 -> Private | G351: ='Master Database'!Q314 -> 1397 | H351: ='Master Database'!R314 -> 129.81 | J351: ='Master Database'!L314 -> 0 | K351: ='Master Database'!J314 -> 0 | L351: ='Master Database'!O314 -> 4
Q352: TOTAL | R352: =SUM(R52:R351) -> 128265 | S352: =SUM(S52:S351) -> 108.87 | T352: =SUM(T52:T351) -> 0 | U352: =SUM(U52:U351) -> 0 | V352: =SUM(V52:V351) -> 0 | W352: =SUM(W52:W351) -> 0 | X352: =SUM(X52:X351) -> 0 | Y352: =SUM(Y52:Y351) -> 0 | ... AC352: =SUM(AC52:AC351) -> 0
A354: Site Gross Acres | E354: =#REF! -> #REF! | G354: Net Sales Area
G356: Totals | H356: ft² | J356: m²
A357: Site Net Acres | E357: =#REF! -> #REF! | G357: Private | H357: =R352 -> 128265 | J357: =S352 -> 108.87
...

Sheet Ext Materials Schedule
A1: EXTERNAL MATERIALS SCHEDULE
A2: LSE*** | C2: Site Name & Address | S2: REV: | T2: ='Master Database'!W7 -> 0
A4: ='Master Database'!A15 -> Plot No. | B4: ='Master Database'!C15 -> Phase No. | C4: ='Master Database'!D15 -> Block No. | D4: ='Master Database'!F15 -> House Type Name | E4: ='Master Database'!E15 -> Tenure | F4: ='Master Database'!AE15 -> Allocated Parking Space (No.) | G4: ='Master Database'!AF15 -> Allocated Parking Space (No.) | H4: ='Master Database'!AG15 -> Allocated Parking Space (No.) | I4: ='Master Database'!AH15 -> Allocated Parking Space (No.) | J4: ='Master Database'!AI15 -> Allocated Parking Space (No.) | K4: ='Master Database'!AJ15 -> Allocated Parking Space (No.) | L4: ='Master Database'!AK15 -> Allocated Parking Space (No.) | M4: ='Master Database'!AL15 -> Allocated Parking Space (No.) | ... P4: ='Master Database'!AO15 -> Allocated Parking Space (No.) | Q4: ='Master Database'!AR15 -> Allocated Parking Space (No.) | R4: ='Master Database'!AS15 -> Allocated Parking Space (No.) | S4: ='Master Database'!AT15 -> Allocated Parking Space (No.) | T4: ='Master Database'!AU15 -> Allocated Parking Space (No.) | AB4: Sales Class
A5: ='Master Database'!A16 -> 001 | B5: ='Master Database'!C16 -> 0 | C5: ='Master Database'!D16 -> 0 | D5: ='Master Database'!F16 -> 354 | E5: ='Master Database'!E16 -> Private | F5: ='Master Database'!AE16 -> 0 | G5: ='Master Database'!AF16 -> 0 | H5: ='Master Database'!AG16 -> 0 | I5: ='Master Database'!AH16 -> 0 | J5: ='Master Database'!AI16 -> 0 | K5: ='Master Database'!AJ16 -> 0 | L5: ='Master Database'!AK16 -> 0 | M5: ='Master Database'!AL16 -> 0 | ... P5: ='Master Database'!AO16 -> 0 | Q5: ='Master Database'!AR16 -> 0 | R5: ='Master Database'!AS16 -> 0 | S5: ='Master Database'!AT16 -> 0 | T5: ='Master Database'!AU16 -> 0 | AB5: =#REF! -> #REF!
A6: ='Master Database'!A17 -> 002 | B6: ='Master Database'!C17 -> 0 | C6: ='Master Database'!D17 -> 0 | D6: ='Master Database'!F17 -> 352 | E6: ='Master Database'!E17 -> Private | F6: ='Master Database'!AE17 -> 0 | G6: ='Master Database'!AF17 -> 0 | H6: ='Master Database'!AG17 -> 0 | I6: ='Master Database'!AH17 -> 0 | J6: ='Master Database'!AI17 -> 0 | K6: ='Master Database'!AJ17 -> 0 | L6: ='Master Database'!AK17 -> 0 | M6: ='Master Database'!AL17 -> 0 | ... P6: ='Master Database'!AO17 -> 0 | Q6: ='Master Database'!AR17 -> 0 | R6: ='Master Database'!AS17 -> 0 | S6: ='Master Database'!AT17 -> 0 | T6: ='Master Database'!AU17 -> 0 | AB6: =#REF! -> #REF!
A7: ='Master Database'!A18 -> 003 | B7: ='Master Database'!C18 -> 0 | C7: ='Master Database'!D18 -> 0 | D7: ='Master Database'!F18 -> 462 | E7: ='Master Database'!E18 -> Private | F7: ='Master Database'!AE18 -> 0 | G7: ='Master Database'!AF18 -> 0 | H7: ='Master Database'!AG18 -> 0 | I7: ='Master Database'!AH18 -> 0 | J7: ='Master Database'!AI18 -> 0 | K7: ='Master Database'!AJ18 -> 0 | L7: ='Master Database'!AK18 -> 0 | M7: ='Master Database'!AL18 -> 0 | ... P7: ='Master Database'!AO18 -> 0 | Q7: ='Master Database'!AR18 -> 0 | R7: ='Master Database'!AS18 -> 0 | S7: ='Master Database'!AT18 -> 0 | T7: ='Master Database'!AU18 -> 0 | AB7: =#REF! -> #REF!
A8: ='Master Database'!A19 -> 004 | B8: ='Master Database'!C19 -> 0 | C8: ='Master Database'!D19 -> 0 | D8: ='Master Database'!F19 -> 581 | E8: ='Master Database'!E19 -> Private | F8: ='Master Database'!AE19 -> 0 | G8: ='Master Database'!AF19 -> 0 | H8: ='Master Database'!AG19 -> 0 | I8: ='Master Database'!AH19 -> 0 | J8: ='Master Database'!AI19 -> 0 | K8: ='Master Database'!AJ19 -> 0 | L8: ='Master Database'!AK19 -> 0 | M8: ='Master Database'!AL19 -> 0 | ... P8: ='Master Database'!AO19 -> 0 | Q8: ='Master Database'!AR19 -> 0 | R8: ='Master Database'!AS19 -> 0 | S8: ='Master Database'!AT19 -> 0 | T8: ='Master Database'!AU19 -> 0 | AB8: =#REF! -> #REF!
A9: ='Master Database'!A20 -> 005 | B9: ='Master Database'!C20 -> 0 | C9: ='Master Database'!D20 -> 0 | D9: ='Master Database'!F20 -> 466 | E9: ='Master Database'!E20 -> Private | F9: ='Master Database'!AE20 -> 0 | G9: ='Master Database'!AF20 -> 0 | H9: ='Master Database'!AG20 -> 0 | I9: ='Master Database'!AH20 -> 0 | J9: ='Master Database'!AI20 -> 0 | K9: ='Master Database'!AJ20 -> 0 | L9: ='Master Database'!AK20 -> 0 | M9: ='Master Database'!AL20 -> 0 | ... P9: ='Master Database'!AO20 -> 0 | Q9: ='Master Database'!AR20 -> 0 | R9: ='Master Database'!AS20 -> 0 | S9: ='Master Database'!AT20 -> 0 | T9: ='Master Database'!AU20 -> 0 | AB9: =#REF! -> #REF!
A10: ='Master Database'!A21 -> 006 | B10: ='Master Database'!C21 -> 0 | C10: ='Master Database'!D21 -> 0 | D10: ='Master Database'!F21 -> 466 | E10: ='Master Database'!E21 -> Private | F10: ='Master Database'!AE21 -> 0 | G10: ='Master Database'!AF21 -> 0 | H10: ='Master Database'!AG21 -> 0 | I10: ='Master Database'!AH21 -> 0 | J10: ='Master Database'!AI21 -> 0 | K10: ='Master Database'!AJ21 -> 0 | L10: ='Master Database'!AK21 -> 0 | M10: ='Master Database'!AL21 -> 0 | ... P10: ='Master Database'!AO21 -> 0 | Q10: ='Master Database'!AR21 -> 0 | R10: ='Master Database'!AS21 -> 0 | S10: ='Master Database'!AT21 -> 0 | T10: ='Master Database'!AU21 -> 0 | AB10: =#REF! -> #REF!
A11: ='Master Database'!A22 -> 007 | B11: ='Master Database'!C22 -> 0 | C11: ='Master Database'!D22 -> 0 | D11: ='Master Database'!F22 -> 462 | E11: ='Master Database'!E22 -> Private | F11: ='Master Database'!AE22 -> 0 | G11: ='Master Database'!AF22 -> 0 | H11: ='Master Database'!AG22 -> 0 | I11: ='Master Database'!AH22 -> 0 | J11: ='Master Database'!AI22 -> 0 | K11: ='Master Database'!AJ22 -> 0 | L11: ='Master Database'!AK22 -> 0 | M11: ='Master Database'!AL22 -> 0 | ... P11: ='Master Database'!AO22 -> 0 | Q11: ='Master Database'!AR22 -> 0 | R11: ='Master Database'!AS22 -> 0 | S11: ='Master Database'!AT22 -> 0 | T11: ='Master Database'!AU22 -> 0 | AB11: =#REF! -> #REF!
A12: ='Master Database'!A23 -> 008 | B12: ='Master Database'!C23 -> 0 | C12: ='Master Database'!D23 -> 0 | D12: ='Master Database'!F23 -> 581 | E12: ='Master Database'!E23 -> Private | F12: ='Master Database'!AE23 -> 0 | G12: ='Master Database'!AF23 -> 0 | H12: ='Master Database'!AG23 -> 0 | I12: ='Master Database'!AH23 -> 0 | J12: ='Master Database'!AI23 -> 0 | K12: ='Master Database'!AJ23 -> 0 | L12: ='Master Database'!AK23 -> 0 | M12: ='Master Database'!AL23 -> 0 | ... P12: ='Master Database'!AO23 -> 0 | Q12: ='Master Database'!AR23 -> 0 | R12: ='Master Database'!AS23 -> 0 | S12: ='Master Database'!AT23 -> 0 | T12: ='Master Database'!AU23 -> 0 | AB12: =#REF! -> #REF!
A13: ='Master Database'!A24 -> 009 | B13: ='Master Database'!C24 -> 0 | C13: ='Master Database'!D24 -> 0 | D13: ='Master Database'!F24 -> 354 | E13: ='Master Database'!E24 -> Private | F13: ='Master Database'!AE24 -> 0 | G13: ='Master Database'!AF24 -> 0 | H13: ='Master Database'!AG24 -> 0 | I13: ='Master Database'!AH24 -> 0 | J13: ='Master Database'!AI24 -> 0 | K13: ='Master Database'!AJ24 -> 0 | L13: ='Master Database'!AK24 -> 0 | M13: ='Master Database'!AL24 -> 0 | ... P13: ='Master Database'!AO24 -> 0 | Q13: ='Master Database'!AR24 -> 0 | R13: ='Master Database'!AS24 -> 0 | S13: ='Master Database'!AT24 -> 0 | T13: ='Master Database'!AU24 -> 0 | AB13: =#REF! -> #REF!
A14: ='Master Database'!A25 -> 010 | B14: ='Master Database'!C25 -> 0 | C14: ='Master Database'!D25 -> 0 | D14: ='Master Database'!F25 -> 352 | E14: ='Master Database'!E25 -> Private | F14: ='Master Database'!AE25 -> 0 | G14: ='Master Database'!AF25 -> 0 | H14: ='Master Database'!AG25 -> 0 | I14: ='Master Database'!AH25 -> 0 | J14: ='Master Database'!AI25 -> 0 | K14: ='Master Database'!AJ25 -> 0 | L14: ='Master Database'!AK25 -> 0 | M14: ='Master Database'!AL25 -> 0 | ... P14: ='Master Database'!AO25 -> 0 | Q14: ='Master Database'!AR25 -> 0 | R14: ='Master Database'!AS25 -> 0 | S14: ='Master Database'!AT25 -> 0 | T14: ='Master Database'!AU25 -> 0 | AB14: =#REF! -> #REF!
A15: ='Master Database'!A26 -> 011 | B15: ='Master Database'!C26 -> 0 | C15: ='Master Database'!D26 -> 0 | D15: ='Master Database'!F26 -> 352 | E15: ='Master Database'!E26 -> Private | F15: ='Master Database'!AE26 -> 0 | G15: ='Master Database'!AF26 -> 0 | H15: ='Master Database'!AG26 -> 0 | I15: ='Master Database'!AH26 -> 0 | J15: ='Master Database'!AI26 -> 0 | K15: ='Master Database'!AJ26 -> 0 | L15: ='Master Database'!AK26 -> 0 | M15: ='Master Database'!AL26 -> 0 | ... P15: ='Master Database'!AO26 -> 0 | Q15: ='Master Database'!AR26 -> 0 | R15: ='Master Database'!AS26 -> 0 | S15: ='Master Database'!AT26 -> 0 | T15: ='Master Database'!AU26 -> 0 | AB15: =#REF! -> #REF!
A16: ='Master Database'!A27 -> 012 | B16: ='Master Database'!C27 -> 0 | C16: ='Master Database'!D27 -> 0 | D16: ='Master Database'!F27 -> 242 | E16: ='Master Database'!E27 -> Rented | F16: ='Master Database'!AE27 -> 0 | G16: ='Master Database'!AF27 -> 0 | H16: ='Master Database'!AG27 -> 0 | I16: ='Master Database'!AH27 -> 0 | J16: ='Master Database'!AI27 -> 0 | K16: ='Master Database'!AJ27 -> 0 | L16: ='Master Database'!AK27 -> 0 | M16: ='Master Database'!AL27 -> 0 | ... P16: ='Master Database'!AO27 -> 0 | Q16: ='Master Database'!AR27 -> 0 | R16: ='Master Database'!AS27 -> 0 | S16: ='Master Database'!AT27 -> 0 | T16: ='Master Database'!AU27 -> 0 | AB16: =#REF! -> #REF!
... A93: ='Master Database'!A104 -> 089 | B93: ='Master Database'!C104 -> 0 | C93: ='Master Database'!D104 -> 0 | D93: ='Master Database'!F104 -> 1BM | E93: ='Master Database'!E104 -> Rented | F93: ='Master Database'!AE104 -> 0 | G93: ='Master Database'!AF104 -> 0 | H93: ='Master Database'!AG104 -> 0 | I93: ='Master Database'!AH104 -> 0 | J93: ='Master Database'!AI104 -> 0 | K93: ='Master Database'!AJ104 -> 0 | L93: ='Master Database'!AK104 -> 0 | M93: ='Master Database'!AL104 -> 0 | ... P93: ='Master Database'!AO104 -> 0 | Q93: ='Master Database'!AR104 -> 0 | R93: ='Master Database'!AS104 -> 0 | S93: ='Master Database'!AT104 -> 0 | T93: ='Master Database'!AU104 -> 0 | AB93: =#REF! -> #REF!
A94: ='Master Database'!#REF! -> #REF! | B94: ='Master Database'!#REF! -> #REF! | C94: ='Master Database'!#REF! -> #REF! | D94: ='Master Database'!#REF! -> #REF! | E94: ='Master Database'!#REF! -> #REF! | F94: ='Master Database'!#REF! -> #REF! | G94: ='Master Database'!#REF! -> #REF! | H94: ='Master Database'!#REF! -> #REF! | ... T94: ='Master Database'!#REF! -> #REF! | AB94: =#REF! -> #REF!
A95: ='Master Database'!A105 -> 090 | B95: ='Master Database'!C105 -> 0 | C95: ='Master Database'!D105 -> 0 | D95: ='Master Database'!F105 -> 242 | E95: ='Master Database'!E105 -> Rented | F95: ='Master Database'!AE105 -> 0 | G95: ='Master Database'!AF105 -> 0 | H95: ='Master Database'!AG105 -> 0 | I95: ='Master Database'!AH105 -> 0 | J95: ='Master Database'!AI105 -> 0 | K95: ='Master Database'!AJ105 -> 0 | L95: ='Master Database'!AK105 -> 0 | M95: ='Master Database'!AL105 -> 0 | ... P95: ='Master Database'!AO105 -> 0 | Q95: ='Master Database'!AR105 -> 0 | R95: ='Master Database'!AS105 -> 0 | S95: ='Master Database'!AT105 -> 0 | T95: ='Master Database'!AU105 -> 0 | AB95: =#REF! -> #REF!
A96: ='Master Database'!A106 -> 091 | B96: ='Master Database'!C106 -> 0 | C96: ='Master Database'!D106 -> 0 | D96: ='Master Database'!F106 -> 352 | E96: ='Master Database'!E106 -> Private | F96: ='Master Database'!AE106 -> 0 | G96: ='Master Database'!AF106 -> 0 | H96: ='Master Database'!AG106 -> 0 | I96: ='Master Database'!AH106 -> 0 | J96: ='Master Database'!AI106 -> 0 | K96: ='Master Database'!AJ106 -> 0 | L96: ='Master Database'!AK106 -> 0 | M96: ='Master Database'!AL106 -> 0 | ... P96: ='Master Database'!AO106 -> 0 | Q96: ='Master Database'!AR106 -> 0 | R96: ='Master Database'!AS106 -> 0 | S96: ='Master Database'!AT106 -> 0 | T96: ='Master Database'!AU106 -> 0 | AB96: =#REF! -> #REF!
A97: ='Master Database'!A107 -> 092 | B97: ='Master Database'!C107 -> 0 | C97: ='Master Database'!D107 -> 0 | D97: ='Master Database'!F107 -> 352 | E97: ='Master Database'!E107 -> Private | F97: ='Master Database'!AE107 -> 0 | G97: ='Master Database'!AF107 -> 0 | H97: ='Master Database'!AG107 -> 0 | I97: ='Master Database'!AH107 -> 0 | J97: ='Master Database'!AI107 -> 0 | K97: ='Master Database'!AJ107 -> 0 | L97: ='Master Database'!AK107 -> 0 | M97: ='Master Database'!AL107 -> 0 | ... P97: ='Master Database'!AO107 -> 0 | Q97: ='Master Database'!AR107 -> 0 | R97: ='Master Database'!AS107 -> 0 | S97: ='Master Database'!AT107 -> 0 | T97: ='Master Database'!AU107 -> 0 | AB97: =#REF! -> #REF!
A98: ='Master Database'!A108 -> 093 | B98: ='Master Database'!C108 -> 0 | C98: ='Master Database'!D108 -> 0 | D98: ='Master Database'!F108 -> 352 | E98: ='Master Database'!E108 -> Private | F98: ='Master Database'!AE108 -> 0 | G98: ='Master Database'!AF108 -> 0 | H98: ='Master Database'!AG108 -> 0 | I98: ='Master Database'!AH108 -> 0 | J98: ='Master Database'!AI108 -> 0 | K98: ='Master Database'!AJ108 -> 0 | L98: ='Master Database'!AK108 -> 0 | M98: ='Master Database'!AL108 -> 0 | ... P98: ='Master Database'!AO108 -> 0 | Q98: ='Master Database'!AR108 -> 0 | R98: ='Master Database'!AS108 -> 0 | S98: ='Master Database'!AT108 -> 0 | T98: ='Master Database'!AU108 -> 0 | AB98: =#REF! -> #REF!
A99: ='Master Database'!A109 -> 094 | B99: ='Master Database'!C109 -> 0 | C99: ='Master Database'!D109 -> 0 | D99: ='Master Database'!F109 -> 354 | E99: ='Master Database'!E109 -> Private | F99: ='Master Database'!AE109 -> 0 | G99: ='Master Database'!AF109 -> 0 | H99: ='Master Database'!AG109 -> 0 | I99: ='Master Database'!AH109 -> 0 | J99: ='Master Database'!AI109 -> 0 | K99: ='Master Database'!AJ109 -> 0 | L99: ='Master Database'!AK109 -> 0 | M99: ='Master Database'!AL109 -> 0 | ... P99: ='Master Database'!AO109 -> 0 | Q99: ='Master Database'!AR109 -> 0 | R99: ='Master Database'!AS109 -> 0 | S99: ='Master Database'!AT109 -> 0 | T99: ='Master Database'!AU109 -> 0 | AB99: =#REF! -> #REF!
A100: ='Master Database'!A110 -> 095 | B100: ='Master Database'!C110 -> 0 | C100: ='Master Database'!D110 -> 0 | D100: ='Master Database'!F110 -> 464 | E100: ='Master Database'!E110 -> Private | F100: ='Master Database'!AE110 -> 0 | G100: ='Master Database'!AF110 -> 0 | H100: ='Master Database'!AG110 -> 0 | I100: ='Master Database'!AH110 -> 0 | J100: ='Master Database'!AI110 -> 0 | K100: ='Master Database'!AJ110 -> 0 | L100: ='Master Database'!AK110 -> 0 | M100: ='Master Database'!AL110 -> 0 | ... P100: ='Master Database'!AO110 -> 0 | Q100: ='Master Database'!AR110 -> 0 | R100: ='Master Database'!AS110 -> 0 | S100: ='Master Database'!AT110 -> 0 | T100: ='Master Database'!AU110 -> 0 | AB100: =#REF! -> #REF!
A101: ='Master Database'!A111 -> 096 | B101: ='Master Database'!C111 -> 0 | C101: ='Master Database'!D111 -> 0 | D101: ='Master Database'!F111 -> 464 | E101: ='Master Database'!E111 -> Private | F101: ='Master Database'!AE111 -> 0 | G101: ='Master Database'!AF111 -> 0 | H101: ='Master Database'!AG111 -> 0 | I101: ='Master Database'!AH111 -> 0 | J101: ='Master Database'!AI111 -> 0 | K101: ='Master Database'!AJ111 -> 0 | L101: ='Master Database'!AK111 -> 0 | M101: ='Master Database'!AL111 -> 0 | ... P101: ='Master Database'!AO111 -> 0 | Q101: ='Master Database'!AR111 -> 0 | R101: ='Master Database'!AS111 -> 0 | S101: ='Master Database'!AT111 -> 0 | T101: ='Master Database'!AU111 -> 0 | AB101: =#REF! -> #REF!
A102: ='Master Database'!A112 -> 097 | B102: ='Master Database'!C112 -> 0 | C102: ='Master Database'!D112 -> 0 | D102: ='Master Database'!F112 -> 364 | E102: ='Master Database'!E112 -> Private | F102: ='Master Database'!AE112 -> 0 | G102: ='Master Database'!AF112 -> 0 | H102: ='Master Database'!AG112 -> 0 | I102: ='Master Database'!AH112 -> 0 | J102: ='Master Database'!AI112 -> 0 | K102: ='Master Database'!AJ112 -> 0 | L102: ='Master Database'!AK112 -> 0 | M102: ='Master Database'!AL112 -> 0 | ... P102: ='Master Database'!AO112 -> 0 | Q102: ='Master Database'!AR112 -> 0 | R102: ='Master Database'!AS112 -> 0 | S102: ='Master Database'!AT112 -> 0 | T102: ='Master Database'!AU112 -> 0 | AB102: =#REF! -> #REF!
A103: ='Master Database'!A113 -> 098 | B103: ='Master Database'!C113 -> 0 | C103: ='Master Database'!D113 -> 0 | D103: ='Master Database'!F113 -> 364 | E103: ='Master Database'!E113 -> Private | F103: ='Master Database'!AE113 -> 0 | G103: ='Master Database'!AF113 -> 0 | H103: ='Master Database'!AG113 -> 0 | I103: ='Master Database'!AH113 -> 0 | J103: ='Master Database'!AI113 -> 0 | K103: ='Master Database'!AJ113 -> 0 | L103: ='Master Database'!AK113 -> 0 | M103: ='Master Database'!AL113 -> 0 | ... P103: ='Master Database'!AO113 -> 0 | Q103: ='Master Database'!AR113 -> 0 | R103: ='Master Database'!AS113 -> 0 | S103: ='Master Database'!AT113 -> 0 | T103: ='Master Database'!AU113 -> 0 | AB103: =#REF! -> #REF!
A104: ='Master Database'!A114 -> 099 | B104: ='Master Database'!C114 -> 0 | C104: ='Master Database'!D114 -> 0 | D104: ='Master Database'!F114 -> 352 | E104: ='Master Database'!E114 -> Private | F104: ='Master Database'!AE114 -> 0 | G104: ='Master Database'!AF114 -> 0 | H104: ='Master Database'!AG114 -> 0 | I104: ='Master Database'!AH114 -> 0 | J104: ='Master Database'!AI114 -> 0 | K104: ='Master Database'!AJ114 -> 0 | L104: ='Master Database'!AK114 -> 0 | M104: ='Master Database'!AL114 -> 0 | ... P104: ='Master Database'!AO114 -> 0 | Q104: ='Master Database'!AR114 -> 0 | R104: ='Master Database'!AS114 -> 0 | S104: ='Master Database'!AT114 -> 0 | T104: ='Master Database'!AU114 -> 0 | AB104: =#REF! -> #REF!
A105: ='Master Database'!A115 -> 100 | B105: ='Master Database'!C115 -> 0 | C105: ='Master Database'!D115 -> 0 | D105: ='Master Database'!F115 -> 352 | E105: ='Master Database'!E115 -> Private | F105: ='Master Database'!AE115 -> 0 | G105: ='Master Database'!AF115 -> 0 | H105: ='Master Database'!AG115 -> 0 | I105: ='Master Database'!AH115 -> 0 | J105: ='Master Database'!AI115 -> 0 | K105: ='Master Database'!AJ115 -> 0 | L105: ='Master Database'!AK115 -> 0 | M105: ='Master Database'!AL115 -> 0 | ... P105: ='Master Database'!AO115 -> 0 | Q105: ='Master Database'!AR115 -> 0 | R105: ='Master Database'!AS115 -> 0 | S105: ='Master Database'!AT115 -> 0 | T105: ='Master Database'!AU115 -> 0 | AB105: =#REF! -> #REF!
A106: ='Master Database'!A116 -> 101 | B106: ='Master Database'!C116 -> 0 | C106: ='Master Database'!D116 -> 0 | D106: ='Master Database'!F116 -> 352 | E106: ='Master Database'!E116 -> Private | F106: ='Master Database'!AE116 -> 0 | G106: ='Master Database'!AF116 -> 0 | H106: ='Master Database'!AG116 -> 0 | I106: ='Master Database'!AH116 -> 0 | J106: ='Master Database'!AI116 -> 0 | K106: ='Master Database'!AJ116 -> 0 | L106: ='Master Database'!AK116 -> 0 | M106: ='Master Database'!AL116 -> 0 | ... P106: ='Master Database'!AO116 -> 0 | Q106: ='Master Database'!AR116 -> 0 | R106: ='Master Database'!AS116 -> 0 | S106: ='Master Database'!AT116 -> 0 | T106: ='Master Database'!AU116 -> 0 | AB106: =#REF! -> #REF!
... A304: ='Master Database'!A314 -> 299 | B304: ='Master Database'!C314 -> 0 | C304: ='Master Database'!D314 -> 0 | D304: ='Master Database'!F314 -> 466 | E304: ='Master Database'!E314 -> Private | F304: ='Master Database'!AE314 -> 0 | G304: ='Master Database'!AF314 -> 0 | H304: ='Master Database'!AG314 -> 0 | I304: ='Master Database'!AH314 -> 0 | J304: ='Master Database'!AI314 -> 0 | K304: ='Master Database'!AJ314 -> 0 | L304: ='Master Database'!AK314 -> 0 | M304: ='Master Database'!AL314 -> 0 | ... P304: ='Master Database'!AO314 -> 0 | Q304: ='Master Database'!AR314 -> 0 | R304: ='Master Database'!AS314 -> 0 | S304: ='Master Database'!AT314 -> 0 | T304: ='Master Database'!AU314 -> 0 | AB304: =#REF! -> #REF!

Sheet Postal Addresses
A1: POSTAL ADDRESSES
A2: LSE*** | C2: Site Name & Address | I2: REV: | J2: ='Master Database'!W8 -> 0
A4: ='Master Database'!A15 -> Plot No. | B4: ='Master Database'!D15 -> Block No. | C4: ='Master Database'!AZ15 -> Allocated Parking Space (No.) | D4: ='Master Database'!BA15 -> Allocated Parking Space (No.) | E4: ='Master Database'!BB15 -> Allocated Parking Space (No.) | F4: ='Master Database'!BC15 -> Allocated Parking Space (No.) | G4: ='Master Database'!BD15 -> Allocated Parking Space (No.) | H4: ='Master Database'!BE15 -> Allocated Parking Space (No.) | I4: ='Master Database'!BF15 -> Allocated Parking Space (No.) | J4: ='Master Database'!E15 -> Tenure
A5: ='Master Database'!A16 -> 001 | B5: ='Master Database'!D16 -> 0 | C5: ='Master Database'!AZ16 -> 0 | D5: ='Master Database'!BA16 -> 0 | E5: ='Master Database'!BB16 -> 0 | F5: ='Master Database'!BC16 -> 0 | G5: ='Master Database'!BD16 -> 0 | H5: ='Master Database'!BE16 -> 0 | I5: ='Master Database'!BF16 -> 0 | J5: ='Master Database'!E16 -> Private
A6: ='Master Database'!A17 -> 002 | B6: ='Master Database'!D17 -> 0 | C6: ='Master Database'!AZ17 -> 0 | D6: ='Master Database'!BA17 -> 0 | E6: ='Master Database'!BB17 -> 0 | F6: ='Master Database'!BC17 -> 0 | G6: ='Master Database'!BD17 -> 0 | H6: ='Master Database'!BE17 -> 0 | I6: ='Master Database'!BF17 -> 0 | J6: ='Master Database'!E17 -> Private
A7: ='Master Database'!A18 -> 003 | B7: ='Master Database'!D18 -> 0 | C7: ='Master Database'!AZ18 -> 0 | D7: ='Master Database'!BA18 -> 0 | E7: ='Master Database'!BB18 -> 0 | F7: ='Master Database'!BC18 -> 0 | G7: ='Master Database'!BD18 -> 0 | H7: ='Master Database'!BE18 -> 0 | I7: ='Master Database'!BF18 -> 0 | J7: ='Master Database'!E18 -> Private
A8: ='Master Database'!A19 -> 004 | B8: ='Master Database'!D19 -> 0 | C8: ='Master Database'!AZ19 -> 0 | D8: ='Master Database'!BA19 -> 0 | E8: ='Master Database'!BB19 -> 0 | F8: ='Master Database'!BC19 -> 0 | G8: ='Master Database'!BD19 -> 0 | H8: ='Master Database'!BE19 -> 0 | I8: ='Master Database'!BF19 -> 0 | J8: ='Master Database'!E19 -> Private
A9: ='Master Database'!A20 -> 005 | B9: ='Master Database'!D20 -> 0 | C9: ='Master Database'!AZ20 -> 0 | D9: ='Master Database'!BA20 -> 0 | E9: ='Master Database'!BB20 -> 0 | F9: ='Master Database'!BC20 -> 0 | G9: ='Master Database'!BD20 -> 0 | H9: ='Master Database'!BE20 -> 0 | I9: ='Master Database'!BF20 -> 0 | J9: ='Master Database'!E20 -> Private
A10: ='Master Database'!A21 -> 006 | B10: ='Master Database'!D21 -> 0 | C10: ='Master Database'!AZ21 -> 0 | D10: ='Master Database'!BA21 -> 0 | E10: ='Master Database'!BB21 -> 0 | F10: ='Master Database'!BC21 -> 0 | G10: ='Master Database'!BD21 -> 0 | H10: ='Master Database'!BE21 -> 0 | I10: ='Master Database'!BF21 -> 0 | J10: ='Master Database'!E21 -> Private
A11: ='Master Database'!A22 -> 007 | B11: ='Master Database'!D22 -> 0 | C11: ='Master Database'!AZ22 -> 0 | D11: ='Master Database'!BA22 -> 0 | E11: ='Master Database'!BB22 -> 0 | F11: ='Master Database'!BC22 -> 0 | G11: ='Master Database'!BD22 -> 0 | H11: ='Master Database'!BE22 -> 0 | I11: ='Master Database'!BF22 -> 0 | J11: ='Master Database'!E22 -> Private
A12: ='Master Database'!A23 -> 008 | B12: ='Master Database'!D23 -> 0 | C12: ='Master Database'!AZ23 -> 0 | D12: ='Master Database'!BA23 -> 0 | E12: ='Master Database'!BB23 -> 0 | F12: ='Master Database'!BC23 -> 0 | G12: ='Master Database'!BD23 -> 0 | H12: ='Master Database'!BE23 -> 0 | I12: ='Master Database'!BF23 -> 0 | J12: ='Master Database'!E23 -> Private
A13: ='Master Database'!A24 -> 009 | B13: ='Master Database'!D24 -> 0 | C13: ='Master Database'!AZ24 -> 0 | D13: ='Master Database'!BA24 -> 0 | E13: ='Master Database'!BB24 -> 0 | F13: ='Master Database'!BC24 -> 0 | G13: ='Master Database'!BD24 -> 0 | H13: ='Master Database'!BE24 -> 0 | I13: ='Master Database'!BF24 -> 0 | J13: ='Master Database'!E24 -> Private
A14: ='Master Database'!A25 -> 010 | B14: ='Master Database'!D25 -> 0 | C14: ='Master Database'!AZ25 -> 0 | D14: ='Master Database'!BA25 -> 0 | E14: ='Master Database'!BB25 -> 0 | F14: ='Master Database'!BC25 -> 0 | G14: ='Master Database'!BD25 -> 0 | H14: ='Master Database'!BE25 -> 0 | I14: ='Master Database'!BF25 -> 0 | J14: ='Master Database'!E25 -> Private
A15: ='Master Database'!A26 -> 011 | B15: ='Master Database'!D26 -> 0 | C15: ='Master Database'!AZ26 -> 0 | D15: ='Master Database'!BA26 -> 0 | E15: ='Master Database'!BB26 -> 0 | F15: ='Master Database'!BC26 -> 0 | G15: ='Master Database'!BD26 -> 0 | H15: ='Master Database'!BE26 -> 0 | I15: ='Master Database'!BF26 -> 0 | J15: ='Master Database'!E26 -> Private
... A93: ='Master Database'!A104 -> 089 | B93: ='Master Database'!D104 -> 0 | C93: ='Master Database'!AZ104 -> 0 | D93: ='Master Database'!BA104 -> 0 | E93: ='Master Database'!BB104 -> 0 | F93: ='Master Database'!BC104 -> 0 | G93: ='Master Database'!BD104 -> 0 | H93: ='Master Database'!BE104 -> 0 | I93: ='Master Database'!BF104 -> 0 | J93: ='Master Database'!E104 -> Rented
A94: ='Master Database'!#REF! -> #REF! | B94: ='Master Database'!#REF! -> #REF! | C94: ='Master Database'!#REF! -> #REF! | D94: ='Master Database'!#REF! -> #REF! | E94: ='Master Database'!#REF! -> #REF! | F94: ='Master Database'!#REF! -> #REF! | G94: ='Master Database'!#REF! -> #REF! | H94: ='Master Database'!#REF! -> #REF! | ... J94: ='Master Database'!#REF! -> #REF!
A95: ='Master Database'!A105 -> 090 | B95: ='Master Database'!D105 -> 0 | C95: ='Master Database'!AZ105 -> 0 | D95: ='Master Database'!BA105 -> 0 | E95: ='Master Database'!BB105 -> 0 | F95: ='Master Database'!BC105 -> 0 | G95: ='Master Database'!BD105 -> 0 | H95: ='Master Database'!BE105 -> 0 | I95: ='Master Database'!BF105 -> 0 | J95: ='Master Database'!E105 -> Rented
A96: ='Master Database'!A106 -> 091 | B96: ='Master Database'!D106 -> 0 | C96: ='Master Database'!AZ106 -> 0 | D96: ='Master Database'!BA106 -> 0 | E96: ='Master Database'!BB106 -> 0 | F96: ='Master Database'!BC106 -> 0 | G96: ='Master Database'!BD106 -> 0 | H96: ='Master Database'!BE106 -> 0 | I96: ='Master Database'!BF106 -> 0 | J96: ='Master Database'!E106 -> Private
A97: ='Master Database'!A107 -> 092 | B97: ='Master Database'!D107 -> 0 | C97: ='Master Database'!AZ107 -> 0 | D97: ='Master Database'!BA107 -> 0 | E97: ='Master Database'!BB107 -> 0 | F97: ='Master Database'!BC107 -> 0 | G97: ='Master Database'!BD107 -> 0 | H97: ='Master Database'!BE107 -> 0 | I97: ='Master Database'!BF107 -> 0 | J97: ='Master Database'!E107 -> Private
A98: ='Master Database'!A108 -> 093 | B98: ='Master Database'!D108 -> 0 | C98: ='Master Database'!AZ108 -> 0 | D98: ='Master Database'!BA108 -> 0 | E98: ='Master Database'!BB108 -> 0 | F98: ='Master Database'!BC108 -> 0 | G98: ='Master Database'!BD108 -> 0 | H98: ='Master Database'!BE108 -> 0 | I98: ='Master Database'!BF108 -> 0 | J98: ='Master Database'!E108 -> Private
A99: ='Master Database'!A109 -> 094 | B99: ='Master Database'!D109 -> 0 | C99: ='Master Database'!AZ109 -> 0 | D99: ='Master Database'!BA109 -> 0 | E99: ='Master Database'!BB109 -> 0 | F99: ='Master Database'!BC109 -> 0 | G99: ='Master Database'!BD109 -> 0 | H99: ='Master Database'!BE109 -> 0 | I99: ='Master Database'!BF109 -> 0 | J99: ='Master Database'!E109 -> Private
A100: ='Master Database'!A110 -> 095 | B100: ='Master Database'!D110 -> 0 | C100: ='Master Database'!AZ110 -> 0 | D100: ='Master Database'!BA110 -> 0 | E100: ='Master Database'!BB110 -> 0 | F100: ='Master Database'!BC110 -> 0 | G100: ='Master Database'!BD110 -> 0 | H100: ='Master Database'!BE110 -> 0 | I100: ='Master Database'!BF110 -> 0 | J100: ='Master Database'!E110 -> Private
A101: ='Master Database'!A111 -> 096 | B101: ='Master Database'!D111 -> 0 | C101: ='Master Database'!AZ111 -> 0 | D101: ='Master Database'!BA111 -> 0 | E101: ='Master Database'!BB111 -> 0 | F101: ='Master Database'!BC111 -> 0 | G101: ='Master Database'!BD111 -> 0 | H101: ='Master Database'!BE111 -> 0 | I101: ='Master Database'!BF111 -> 0 | J101: ='Master Database'!E111 -> Private
A102: ='Master Database'!A112 -> 097 | B102: ='Master Database'!D112 -> 0 | C102: ='Master Database'!AZ112 -> 0 | D102: ='Master Database'!BA112 -> 0 | E102: ='Master Database'!BB112 -> 0 | F102: ='Master Database'!BC112 -> 0 | G102: ='Master Database'!BD112 -> 0 | H102: ='Master Database'!BE112 -> 0 | I102: ='Master Database'!BF112 -> 0 | J102: ='Master Database'!E112 -> Private
A103: ='Master Database'!A113 -> 098 | B103: ='Master Database'!D113 -> 0 | C103: ='Master Database'!AZ113 -> 0 | D103: ='Master Database'!BA113 -> 0 | E103: ='Master Database'!BB113 -> 0 | F103: ='Master Database'!BC113 -> 0 | G103: ='Master Database'!BD113 -> 0 | H103: ='Master Database'!BE113 -> 0 | I103: ='Master Database'!BF113 -> 0 | J103: ='Master Database'!E113 -> Private
A104: ='Master Database'!A114 -> 099 | B104: ='Master Database'!D114 -> 0 | C104: ='Master Database'!AZ114 -> 0 | D104: ='Master Database'!BA114 -> 0 | E104: ='Master Database'!BB114 -> 0 | F104: ='Master Database'!BC114 -> 0 | G104: ='Master Database'!BD114 -> 0 | H104: ='Master Database'!BE114 -> 0 | I104: ='Master Database'!BF114 -> 0 | J104: ='Master Database'!E114 -> Private
A105: ='Master Database'!A115 -> 100 | B105: ='Master Database'!D115 -> 0 | C105: ='Master Database'!AZ115 -> 0 | D105: ='Master Database'!BA115 -> 0 | E105: ='Master Database'!BB115 -> 0 | F105: ='Master Database'!BC115 -> 0 | G105: ='Master Database'!BD115 -> 0 | H105: ='Master Database'!BE115 -> 0 | I105: ='Master Database'!BF115 -> 0 | J105: ='Master Database'!E115 -> Private
A106: ='Master Database'!A116 -> 101 | B106: ='Master Database'!D116 -> 0 | C106: ='Master Database'!AZ116 -> 0 | D106: ='Master Database'!BA116 -> 0 | E106: ='Master Database'!BB116 -> 0 | F106: ='Master Database'!BC116 -> 0 | G106: ='Master Database'!BD116 -> 0 | H106: ='Master Database'!BE116 -> 0 | I106: ='Master Database'!BF116 -> 0 | J106: ='Master Database'!E116 -> Private
... A304: ='Master Database'!A314 -> 299 | B304: ='Master Database'!D314 -> 0 | C304: ='Master Database'!AZ314 -> 0 | D304: ='Master Database'!BA314 -> 0 | E304: ='Master Database'!BB314 -> 0 | F304: ='Master Database'!BC314 -> 0 | G304: ='Master Database'!BD314 -> 0 | H304: ='Master Database'!BE314 -> 0 | I304: ='Master Database'!BF314 -> 0 | J304: ='Master Database'!E314 -> Private

Sheet MPANs-MRPNs
A1: MPAN / MRPN
A2: LSE*** | C2: Site Name & Address | K2: REV: | L2: ='Master Database'!W9 -> 0
A4: Plot No | B4: Block | C4: Postal No | D4: Address 1 | E4: Address 2 | F4: Address 3 | G4: Town | H4: County | I4: Post code | J4: Tenure | K4: MPANs | L4: MRPNs
A5: ='Master Database'!A16 -> 001 | B5: ='Master Database'!D16 -> 0 | C5: ='Master Database'!AZ16 -> 0 | D5: ='Master Database'!BA16 -> 0 | E5: ='Master Database'!BB16 -> 0 | F5: ='Master Database'!BC16 -> 0 | G5: ='Master Database'!BD16 -> 0 | H5: ='Master Database'!BE16 -> 0 | I5: ='Master Database'!BF16 -> 0 | J5: ='Master Database'!E16 -> Private | K5: ='Master Database'!AX16 -> 0 | L5: ='Master Database'!AY16 -> 0
A6: ='Master Database'!A17 -> 002 | B6: ='Master Database'!D17 -> 0 | C6: ='Master Database'!AZ17 -> 0 | D6: ='Master Database'!BA17 -> 0 | E6: ='Master Database'!BB17 -> 0 | F6: ='Master Database'!BC17 -> 0 | G6: ='Master Database'!BD17 -> 0 | H6: ='Master Database'!BE17 -> 0 | I6: ='Master Database'!BF17 -> 0 | J6: ='Master Database'!E17 -> Private | K6: ='Master Database'!AX17 -> 0 | L6: ='Master Database'!AY17 -> 0
A7: ='Master Database'!A18 -> 003 | B7: ='Master Database'!D18 -> 0 | C7: ='Master Database'!AZ18 -> 0 | D7: ='Master Database'!BA18 -> 0 | E7: ='Master Database'!BB18 -> 0 | F7: ='Master Database'!BC18 -> 0 | G7: ='Master Database'!BD18 -> 0 | H7: ='Master Database'!BE18 -> 0 | I7: ='Master Database'!BF18 -> 0 | J7: ='Master Database'!E18 -> Private | K7: ='Master Database'!AX18 -> 0 | L7: ='Master Database'!AY18 -> 0
A8: ='Master Database'!A19 -> 004 | B8: ='Master Database'!D19 -> 0 | C8: ='Master Database'!AZ19 -> 0 | D8: ='Master Database'!BA19 -> 0 | E8: ='Master Database'!BB19 -> 0 | F8: ='Master Database'!BC19 -> 0 | G8: ='Master Database'!BD19 -> 0 | H8: ='Master Database'!BE19 -> 0 | I8: ='Master Database'!BF19 -> 0 | J8: ='Master Database'!E19 -> Private | K8: ='Master Database'!AX19 -> 0 | L8: ='Master Database'!AY19 -> 0
A9: ='Master Database'!A20 -> 005 | B9: ='Master Database'!D20 -> 0 | C9: ='Master Database'!AZ20 -> 0 | D9: ='Master Database'!BA20 -> 0 | E9: ='Master Database'!BB20 -> 0 | F9: ='Master Database'!BC20 -> 0 | G9: ='Master Database'!BD20 -> 0 | H9: ='Master Database'!BE20 -> 0 | I9: ='Master Database'!BF20 -> 0 | J9: ='Master Database'!E20 -> Private | K9: ='Master Database'!AX20 -> 0 | L9: ='Master Database'!AY20 -> 0
A10: ='Master Database'!A21 -> 006 | B10: ='Master Database'!D21 -> 0 | C10: ='Master Database'!AZ21 -> 0 | D10: ='Master Database'!BA21 -> 0 | E10: ='Master Database'!BB21 -> 0 | F10: ='Master Database'!BC21 -> 0 | G10: ='Master Database'!BD21 -> 0 | H10: ='Master Database'!BE21 -> 0 | I10: ='Master Database'!BF21 -> 0 | J10: ='Master Database'!E21 -> Private | K10: ='Master Database'!AX21 -> 0 | L10: ='Master Database'!AY21 -> 0
A11: ='Master Database'!A22 -> 007 | B11: ='Master Database'!D22 -> 0 | C11: ='Master Database'!AZ22 -> 0 | D11: ='Master Database'!BA22 -> 0 | E11: ='Master Database'!BB22 -> 0 | F11: ='Master Database'!BC22 -> 0 | G11: ='Master Database'!BD22 -> 0 | H11: ='Master Database'!BE22 -> 0 | I11: ='Master Database'!BF22 -> 0 | J11: ='Master Database'!E22 -> Private | K11: ='Master Database'!AX22 -> 0 | L11: ='Master Database'!AY22 -> 0
A12: ='Master Database'!A23 -> 008 | B12: ='Master Database'!D23 -> 0 | C12: ='Master Database'!AZ23 -> 0 | D12: ='Master Database'!BA23 -> 0 | E12: ='Master Database'!BB23 -> 0 | F12: ='Master Database'!BC23 -> 0 | G12: ='Master Database'!BD23 -> 0 | H12: ='Master Database'!BE23 -> 0 | I12: ='Master Database'!BF23 -> 0 | J12: ='Master Database'!E23 -> Private | K12: ='Master Database'!AX23 -> 0 | L12: ='Master Database'!AY23 -> 0
A13: ='Master Database'!A24 -> 009 | B13: ='Master Database'!D24 -> 0 | C13: ='Master Database'!AZ24 -> 0 | D13: ='Master Database'!BA24 -> 0 | E13: ='Master Database'!BB24 -> 0 | F13: ='Master Database'!BC24 -> 0 | G13: ='Master Database'!BD24 -> 0 | H13: ='Master Database'!BE24 -> 0 | I13: ='Master Database'!BF24 -> 0 | J13: ='Master Database'!E24 -> Private | K13: ='Master Database'!AX24 -> 0 | L13: ='Master Database'!AY24 -> 0
A14: ='Master Database'!A25 -> 010 | B14: ='Master Database'!D25 -> 0 | C14: ='Master Database'!AZ25 -> 0 | D14: ='Master Database'!BA25 -> 0 | E14: ='Master Database'!BB25 -> 0 | F14: ='Master Database'!BC25 -> 0 | G14: ='Master Database'!BD25 -> 0 | H14: ='Master Database'!BE25 -> 0 | I14: ='Master Database'!BF25 -> 0 | J14: ='Master Database'!E25 -> Private | K14: ='Master Database'!AX25 -> 0 | L14: ='Master Database'!AY25 -> 0
A15: ='Master Database'!A26 -> 011 | B15: ='Master Database'!D26 -> 0 | C15: ='Master Database'!AZ26 -> 0 | D15: ='Master Database'!BA26 -> 0 | E15: ='Master Database'!BB26 -> 0 | F15: ='Master Database'!BC26 -> 0 | G15: ='Master Database'!BD26 -> 0 | H15: ='Master Database'!BE26 -> 0 | I15: ='Master Database'!BF26 -> 0 | J15: ='Master Database'!E26 -> Private | K15: ='Master Database'!AX26 -> 0 | L15: ='Master Database'!AY26 -> 0
A16: ='Master Database'!A27 -> 012 | B16: ='Master Database'!D27 -> 0 | C16: ='Master Database'!AZ27 -> 0 | D16: ='Master Database'!BA27 -> 0 | E16: ='Master Database'!BB27 -> 0 | F16: ='Master Database'!BC27 -> 0 | G16: ='Master Database'!BD27 -> 0 | H16: ='Master Database'!BE27 -> 0 | I16: ='Master Database'!BF27 -> 0 | J16: ='Master Database'!E27 -> Rented | K16: ='Master Database'!AX27 -> 0 | L16: ='Master Database'!AY27 -> 0
... A93: ='Master Database'!A104 -> 089 | B93: ='Master Database'!D104 -> 0 | C93: ='Master Database'!AZ104 -> 0 | D93: ='Master Database'!BA104 -> 0 | E93: ='Master Database'!BB104 -> 0 | F93: ='Master Database'!BC104 -> 0 | G93: ='Master Database'!BD104 -> 0 | H93: ='Master Database'!BE104 -> 0 | I93: ='Master Database'!BF104 -> 0 | J93: ='Master Database'!E104 -> Rented | K93: ='Master Database'!AX104 -> 0 | L93: ='Master Database'!AY104 -> 0
A94: ='Master Database'!#REF! -> #REF! | B94: ='Master Database'!#REF! -> #REF! | C94: ='Master Database'!#REF! -> #REF! | D94: ='Master Database'!#REF! -> #REF! | E94: ='Master Database'!#REF! -> #REF! | F94: ='Master Database'!#REF! -> #REF! | G94: ='Master Database'!#REF! -> #REF! | H94: ='Master Database'!#REF! -> #REF! | ... L94: ='Master Database'!#REF! -> #REF!
A95: ='Master Database'!A105 -> 090 | B95: ='Master Database'!D105 -> 0 | C95: ='Master Database'!AZ105 -> 0 | D95: ='Master Database'!BA105 -> 0 | E95: ='Master Database'!BB105 -> 0 | F95: ='Master Database'!BC105 -> 0 | G95: ='Master Database'!BD105 -> 0 | H95: ='Master Database'!BE105 -> 0 | I95: ='Master Database'!BF105 -> 0 | J95: ='Master Database'!E105 -> Rented | K95: ='Master Database'!AX105 -> 0 | L95: ='Master Database'!AY105 -> 0
A96: ='Master Database'!A106 -> 091 | B96: ='Master Database'!D106 -> 0 | C96: ='Master Database'!AZ106 -> 0 | D96: ='Master Database'!BA106 -> 0 | E96: ='Master Database'!BB106 -> 0 | F96: ='Master Database'!BC106 -> 0 | G96: ='Master Database'!BD106 -> 0 | H96: ='Master Database'!BE106 -> 0 | I96: ='Master Database'!BF106 -> 0 | J96: ='Master Database'!E106 -> Private | K96: ='Master Database'!AX106 -> 0 | L96: ='Master Database'!AY106 -> 0
A97: ='Master Database'!A107 -> 092 | B97: ='Master Database'!D107 -> 0 | C97: ='Master Database'!AZ107 -> 0 | D97: ='Master Database'!BA107 -> 0 | E97: ='Master Database'!BB107 -> 0 | F97: ='Master Database'!BC107 -> 0 | G97: ='Master Database'!BD107 -> 0 | H97: ='Master Database'!BE107 -> 0 | I97: ='Master Database'!BF107 -> 0 | J97: ='Master Database'!E107 -> Private | K97: ='Master Database'!AX107 -> 0 | L97: ='Master Database'!AY107 -> 0
A98: ='Master Database'!A108 -> 093 | B98: ='Master Database'!D108 -> 0 | C98: ='Master Database'!AZ108 -> 0 | D98: ='Master Database'!BA108 -> 0 | E98: ='Master Database'!BB108 -> 0 | F98: ='Master Database'!BC108 -> 0 | G98: ='Master Database'!BD108 -> 0 | H98: ='Master Database'!BE108 -> 0 | I98: ='Master Database'!BF108 -> 0 | J98: ='Master Database'!E108 -> Private | K98: ='Master Database'!AX108 -> 0 | L98: ='Master Database'!AY108 -> 0
A99: ='Master Database'!A109 -> 094 | B99: ='Master Database'!D109 -> 0 | C99: ='Master Database'!AZ109 -> 0 | D99: ='Master Database'!BA109 -> 0 | E99: ='Master Database'!BB109 -> 0 | F99: ='Master Database'!BC109 -> 0 | G99: ='Master Database'!BD109 -> 0 | H99: ='Master Database'!BE109 -> 0 | I99: ='Master Database'!BF109 -> 0 | J99: ='Master Database'!E109 -> Private | K99: ='Master Database'!AX109 -> 0 | L99: ='Master Database'!AY109 -> 0
A100: ='Master Database'!A110 -> 095 | B100: ='Master Database'!D110 -> 0 | C100: ='Master Database'!AZ110 -> 0 | D100: ='Master Database'!BA110 -> 0 | E100: ='Master Database'!BB110 -> 0 | F100: ='Master Database'!BC110 -> 0 | G100: ='Master Database'!BD110 -> 0 | H100: ='Master Database'!BE110 -> 0 | I100: ='Master Database'!BF110 -> 0 | J100: ='Master Database'!E110 -> Private | K100: ='Master Database'!AX110 -> 0 | L100: ='Master Database'!AY110 -> 0
A101: ='Master Database'!A111 -> 096 | B101: ='Master Database'!D111 -> 0 | C101: ='Master Database'!AZ111 -> 0 | D101: ='Master Database'!BA111 -> 0 | E101: ='Master Database'!BB111 -> 0 | F101: ='Master Database'!BC111 -> 0 | G101: ='Master Database'!BD111 -> 0 | H101: ='Master Database'!BE111 -> 0 | I101: ='Master Database'!BF111 -> 0 | J101: ='Master Database'!E111 -> Private | K101: ='Master Database'!AX111 -> 0 | L101: ='Master Database'!AY111 -> 0
A102: ='Master Database'!A112 -> 097 | B102: ='Master Database'!D112 -> 0 | C102: ='Master Database'!AZ112 -> 0 | D102: ='Master Database'!BA112 -> 0 | E102: ='Master Database'!BB112 -> 0 | F102: ='Master Database'!BC112 -> 0 | G102: ='Master Database'!BD112 -> 0 | H102: ='Master Database'!BE112 -> 0 | I102: ='Master Database'!BF112 -> 0 | J102: ='Master Database'!E112 -> Private | K102: ='Master Database'!AX112 -> 0 | L102: ='Master Database'!AY112 -> 0
A103: ='Master Database'!A113 -> 098 | B103: ='Master Database'!D113 -> 0 | C103: ='Master Database'!AZ113 -> 0 | D103: ='Master Database'!BA113 -> 0 | E103: ='Master Database'!BB113 -> 0 | F103: ='Master Database'!BC113 -> 0 | G103: ='Master Database'!BD113 -> 0 | H103: ='Master Database'!BE113 -> 0 | I103: ='Master Database'!BF113 -> 0 | J103: ='Master Database'!E113 -> Private | K103: ='Master Database'!AX113 -> 0 | L103: ='Master Database'!AY113 -> 0
A104: ='Master Database'!A114 -> 099 | B104: ='Master Database'!D114 -> 0 | C104: ='Master Database'!AZ114 -> 0 | D104: ='Master Database'!BA114 -> 0 | E104: ='Master Database'!BB114 -> 0 | F104: ='Master Database'!BC114 -> 0 | G104: ='Master Database'!BD114 -> 0 | H104: ='Master Database'!BE114 -> 0 | I104: ='Master Database'!BF114 -> 0 | J104: ='Master Database'!E114 -> Private | K104: ='Master Database'!AX114 -> 0 | L104: ='Master Database'!AY114 -> 0
A105: ='Master Database'!A115 -> 100 | B105: ='Master Database'!D115 -> 0 | C105: ='Master Database'!AZ115 -> 0 | D105: ='Master Database'!BA115 -> 0 | E105: ='Master Database'!BB115 -> 0 | F105: ='Master Database'!BC115 -> 0 | G105: ='Master Database'!BD115 -> 0 | H105: ='Master Database'!BE115 -> 0 | I105: ='Master Database'!BF115 -> 0 | J105: ='Master Database'!E115 -> Private | K105: ='Master Database'!AX115 -> 0 | L105: ='Master Database'!AY115 -> 0
A106: ='Master Database'!A116 -> 101 | B106: ='Master Database'!D116 -> 0 | C106: ='Master Database'!AZ116 -> 0 | D106: ='Master Database'!BA116 -> 0 | E106: ='Master Database'!BB116 -> 0 | F106: ='Master Database'!BC116 -> 0 | G106: ='Master Database'!BD116 -> 0 | H106: ='Master Database'!BE116 -> 0 | I106: ='Master Database'!BF116 -> 0 | J106: ='Master Database'!E116 -> Private | K106: ='Master Database'!AX116 -> 0 | L106: ='Master Database'!AY116 -> 0
... A204: ='Master Database'!A214 -> 199 | B204: ='Master Database'!D214 -> 0 | C204: ='Master Database'!AZ214 -> 0 | D204: ='Master Database'!BA214 -> 0 | E204: ='Master Database'!BB214 -> 0 | F204: ='Master Database'!BC214 -> 0 | G204: ='Master Database'!BD214 -> 0 | H204: ='Master Database'!BE214 -> 0 | I204: ='Master Database'!BF214 -> 0 | J204: ='Master Database'!E214 -> First Homes | K204: ='Master Database'!AX214 -> 0 | L204: ='Master Database'!AY214 -> 0
