Workbook

Sheet Scope

Sheet Single Heat Pump
D2: Project Details (optional)
D3: Installation address | E3: 55 College Lane, Hurstpierpoint, West Sussex BN69AD
D4: Heat pump make & model | E4: Samsung Monobloc EHS Mono R32- 12kW
D5: Heat pump installation location | E5: By kitchen in outdoor space
B7: Step | D7: Assessment Position 1 | E7: Assessment Position 2 | F7: Assessment Position 3 | G7: Assessment Position 4
B8: 1 | C8: Date calculation undertaken | D8: 46275 | E8: 46275
B9: 2 | C9: Description of assessment position | D9: Neighbour 1 upstairs window, direct view. | E9: Neighbour 2 downstairs window, indirect view
B10: 3 | C10: A-weighted sound power level, dB(A) | D10: 64 | E10: 64
B11: 4 | C11: Determination of directivity (Q) - select number of reflective surfaces | D11: two reflective surfaces | E11: two reflective surfaces | F11: two reflective surfaces | G11: one reflective surface
B12: 5 | C12: Distance from heat pump to assessment positions, in m | D12: 40 | E12: 30
B13: 6 | C13: Determination of barrier correction - select barrier type | D13: vegetation | E13: vegetation | F13: close board fence (<18mm thick boards) | G13: close board fence (<18mm thick boards)
C14: Determination of barrier correction - select line of sight | D14: partial view | E14: partial view | F14: no view | G14: no view
B15: 7 | C15: Calculate sound pressure level | D15: =Calculations!B9 -> 27 | E15: =Calculations!C9 -> 29.5 | F15: =Calculations!D9 -> #DIV/0! | G15: =Calculations!E9 -> #DIV/0!
B16: 8 | C16: Pass/fail noise limit of 37.0 dB(A) | D16: =Calculations!B11 -> pass | E16: =Calculations!C11 -> pass | F16: =Calculations!D11 -> #DIV/0! | G16: =Calculations!E11 -> #DIV/0!

Sheet Two Heat Pumps
E2: Project Details (optional)
E3: Installation address
E4: First heat pump make & model
E5: First heat pump installation location
E6: Second heat pump make & model
E7: Second heat pump installation location
B9: Step | E9: Assessment Position 1 | F9: Assessment Position 2 | G9: Assessment Position 3 | H9: Assessment Position 4
B10: 1 | D10: Date calculation undertaken
B11: 2 | D11: Description of assessment position
B12: 3 | C12: First heat pump | D12: A-weighted sound power level, dB(A)
B13: 4 | D13: Determination of directivity (Q) - select number of reflective surfaces | E13: two reflective surfaces | F13: two reflective surfaces | G13: two reflective surfaces | H13: one reflective surface
B14: 5 | D14: Distance from heat pump to assessment positions, in m
B15: 6 | D15: Determination of barrier correction - select barrier type | E15: open fencing | F15: open fencing | G15: close board fence (<18mm thick boards) | H15: close board fence (<18mm thick boards)
D16: Determination of barrier correction - select line of sight | E16: no view | F16: partial view | G16: no view | H16: no view
B18: 3 | C18: Second heat pump | D18: A-weighted sound power level, dB(A)
B19: 4 | D19: Determination of directivity (Q) - select number of reflective surfaces | E19: two reflective surfaces | F19: two reflective surfaces | G19: two reflective surfaces | H19: one reflective surface
B20: 5 | D20: Distance from heat pump to assessment positions, in m
B21: 6 | D21: Determination of barrier correction - select barrier type | E21: open fencing | F21: close board fence (<18mm thick boards) | G21: close board fence (<18mm thick boards) | H21: close board fence (<18mm thick boards)
D22: Determination of barrier correction - select line of sight | E22: no view | F22: partial view | G22: no view | H22: no view
B23: 7 | D23: Calculate sound pressure level (total from two heat pumps) | E23: =Calculations!B35 -> #DIV/0! | F23: =Calculations!C35 -> #DIV/0! | G23: =Calculations!D35 -> #DIV/0! | H23: =Calculations!E35 -> #DIV/0!
B24: 8 | D24: Pass/fail noise limit of 37.0 dB(A) | E24: =Calculations!B36 -> #DIV/0! | F24: =Calculations!C36 -> #DIV/0! | G24: =Calculations!D36 -> #DIV/0! | H24: =Calculations!E36 -> #DIV/0!

Sheet Four Heat Pumps
E2: Project Details (optional)
E3: Installation address
E4: First heat pump make & model
E5: First heat pump installation location
E6: Second heat pump make & model
E7: Second heat pump installation location
E8: Third heat pump make & model
E9: Third heat pump installation location
E10: Fourth heat pump make & model
E11: Fourth heat pump installation location
B13: Step | E13: Assessment Position 1 | F13: Assessment Position 2 | G13: Assessment Position 3 | H13: Assessment Position 4
B14: 1 | D14: Date calculation undertaken
B15: 2 | D15: Description of assessment position
B16: 3 | C16: First heat pump | D16: A-weighted sound power level, dB(A)
B17: 4 | D17: Determination of directivity (Q) - select number of reflective surfaces | E17: two reflective surfaces | F17: two reflective surfaces | G17: two reflective surfaces | H17: one reflective surface
B18: 5 | D18: Distance from heat pump to assessment positions, in m
B19: 6 | D19: Determination of barrier correction - select barrier type | E19: open fencing | F19: close board fence (<18mm thick boards) | G19: close board fence (<18mm thick boards) | H19: close board fence (<18mm thick boards)
D20: Determination of barrier correction - select line of sight | E20: no view | F20: partial view | G20: no view | H20: no view
B22: 3 | C22: Second heat pump | D22: A-weighted sound power level, dB(A)
B23: 4 | D23: Determination of directivity (Q) - select number of reflective surfaces | E23: two reflective surfaces | F23: two reflective surfaces | G23: two reflective surfaces | H23: one reflective surface
B24: 5 | D24: Distance from heat pump to assessment positions, in m
B25: 6 | D25: Determination of barrier correction - select barrier type | E25: open fencing | F25: close board fence (<18mm thick boards) | G25: close board fence (<18mm thick boards) | H25: close board fence (<18mm thick boards)
D26: Determination of barrier correction - select line of sight | E26: no view | F26: partial view | G26: no view | H26: no view
B28: 3 | C28: Third heat pump | D28: A-weighted sound power level, dB(A)
B29: 4 | D29: Determination of directivity (Q) - select number of reflective surfaces | E29: two reflective surfaces | F29: two reflective surfaces | G29: two reflective surfaces | H29: one reflective surface
B30: 5 | D30: Distance from heat pump to assessment positions, in m
B31: 6 | D31: Determination of barrier correction - select barrier type | E31: open fencing | F31: close board fence (<18mm thick boards) | G31: close board fence (<18mm thick boards) | H31: close board fence (<18mm thick boards)
D32: Determination of barrier correction - select line of sight | E32: no view | F32: partial view | G32: no view | H32: no view
B34: 3 | C34: Fourth heat pump | D34: A-weighted sound power level, dB(A) | E34: Mcs123
B35: 4 | D35: Determination of directivity (Q) - select number of reflective surfaces | E35: two reflective surfaces | F35: two reflective surfaces | G35: two reflective surfaces | H35: one reflective surface
B36: 5 | D36: Distance from heat pump to assessment positions, in m
B37: 6 | D37: Determination of barrier correction - select barrier type | E37: open fencing | F37: close board fence (<18mm thick boards) | G37: close board fence (<18mm thick boards) | H37: close board fence (<18mm thick boards)
D38: Determination of barrier correction - select line of sight | E38: no view | F38: partial view | G38: no view | H38: no view
B39: 7 | D39: Calculate sound pressure level (total from all heat pumps) | E39: =Calculations!B88 -> #VALUE! | F39: =Calculations!C88 -> #NUM! | G39: =Calculations!D88 -> #NUM! | H39: =Calculations!E88 -> #NUM!
B40: 8 | D40: Pass/fail noise limit of 37.0 dB(A) | E40: =Calculations!B89 -> #VALUE! | F40: =Calculations!C89 -> #NUM! | G40: =Calculations!D89 -> #NUM! | H40: =Calculations!E89 -> #NUM!

Sheet Calculations
B3: =IF('Single Heat Pump'!D11=$M$5,2,(IF('Single Heat Pump'!D11=$M$6,4,8))) -> 4 | C3: =IF('Single Heat Pump'!E11=$M$5,2,(IF('Single Heat Pump'!E11=$M$6,4,8))) -> 4 | D3: =IF('Single Heat Pump'!F11=$M$5,2,(IF('Single Heat Pump'!F11=$M$6,4,8))) -> 4 | E3: =IF('Single Heat Pump'!G11=$M$5,2,(IF('Single Heat Pump'!G11=$M$6,4,8))) -> 2
M4: reflective surfaces | O4: barriers | Q4: line of sight
B5: =10*LOG(B3/(4*PI()*('Single Heat Pump'!D12^2))) -> -37.012699 | C5: =10*LOG(C3/(4*PI()*('Single Heat Pump'!E12^2))) -> -34.513924 | D5: =10*LOG(D3/(4*PI()*('Single Heat Pump'!F12^2))) -> #DIV/0! | E5: =10*LOG(E3/(4*PI()*('Single Heat Pump'!G12^2))) -> #DIV/0! | M5: one reflective surface | O5: solid wall (mass >=10kg/m2) | Q5: no view
B6: =IF(OR('Single Heat Pump'!D13=$O$5,'Single Heat Pump'!D13=$O$6),-10,IF('Single Heat Pump'!D13=$O$7,-5,0)) -> 0 | C6: =IF(OR('Single Heat Pump'!E13=$O$5,'Single Heat Pump'!E13=$O$6),-10,IF('Single Heat Pump'!E13=$O$7,-5,0)) -> 0 | D6: =IF(OR('Single Heat Pump'!F13=$O$5,'Single Heat Pump'!F13=$O$6),-10,IF('Single Heat Pump'!F13=$O$7,-5,0)) -> -5 | E6: =IF(OR('Single Heat Pump'!G13=$O$5,'Single Heat Pump'!G13=$O$6),-10,IF('Single Heat Pump'!G13=$O$7,-5,0)) -> -5 | M6: two reflective surfaces | O6: close board fence (>=18mm thick boards) | Q6: partial view
B7: =IF(AND(B6=-10,'Single Heat Pump'!D14=$Q$5),-10,IF(AND(B6=-10,'Single Heat Pump'!D14=$Q$6),-5,IF(AND(B6=-5,'Single Heat Pump'!D14=$Q$5),-5,IF(AND(B6=-5,'Single Heat Pump'!D14=$Q$6),-2.5,0)))) -> 0 | C7: =IF(AND(C6=-10,'Single Heat Pump'!E14=$Q$5),-10,IF(AND(C6=-10,'Single Heat Pump'!E14=$Q$6),-5,IF(AND(C6=-5,'Single Heat Pump'!E14=$Q$5),-5,IF(AND(C6=-5,'Single Heat Pump'!E14=$Q$6),-2.5,0)))) -> 0 | D7: =IF(AND(D6=-10,'Single Heat Pump'!F14=$Q$5),-10,IF(AND(D6=-10,'Single Heat Pump'!F14=$Q$6),-5,IF(AND(D6=-5,'Single Heat Pump'!F14=$Q$5),-5,IF(AND(D6=-5,'Single Heat Pump'!F14=$Q$6),-2.5,0)))) -> -5 | E7: =IF(AND(E6=-10,'Single Heat Pump'!G14=$Q$5),-10,IF(AND(E6=-10,'Single Heat Pump'!G14=$Q$6),-5,IF(AND(E6=-5,'Single Heat Pump'!G14=$Q$5),-5,IF(AND(E6=-5,'Single Heat Pump'!G14=$Q$6),-2.5,0)))) -> -5 | M7: three reflective surfaces | O7: close board fence (<18mm thick boards) | Q7: full view
O8: open fencing
B9: =ROUND(B5+B7+'Single Heat Pump'!D10,1) -> 27 | C9: =ROUND(C5+C7+'Single Heat Pump'!E10,1) -> 29.5 | D9: =ROUND(D5+D7+'Single Heat Pump'!F10,1) -> #DIV/0! | E9: =ROUND(E5+E7+'Single Heat Pump'!G10,1) -> #DIV/0! | O9: vegetation
O10: no barrier
B11: =IF(B9<37.1,"pass","fail") -> pass | C11: =IF(C9<37.1,"pass","fail") -> pass | D11: =IF(D9<37.1,"pass","fail") -> #DIV/0! | E11: =IF(E9<37.1,"pass","fail") -> #DIV/0!
B15: =IF('Two Heat Pumps'!E13=$M$17,2,(IF('Two Heat Pumps'!E13=$M$18,4,8))) -> 4 | C15: =IF('Two Heat Pumps'!F13=$M$17,2,(IF('Two Heat Pumps'!F13=$M$18,4,8))) -> 4 | D15: =IF('Two Heat Pumps'!G13=$M$17,2,(IF('Two Heat Pumps'!G13=$M$18,4,8))) -> 4 | E15: =IF('Two Heat Pumps'!H13=$M$17,2,(IF('Two Heat Pumps'!H13=$M$18,4,8))) -> 2
M16: reflective surfaces | O16: barriers | Q16: line of sight
B17: =10*LOG(B15/(4*PI()*('Two Heat Pumps'!E14^2))) -> #DIV/0! | C17: =10*LOG(C15/(4*PI()*('Two Heat Pumps'!F14^2))) -> #DIV/0! | D17: =10*LOG(D15/(4*PI()*('Two Heat Pumps'!G14^2))) -> #DIV/0! | E17: =10*LOG(E15/(4*PI()*('Two Heat Pumps'!H14^2))) -> #DIV/0! | M17: one reflective surface | O17: solid wall (mass >=10kg/m2) | Q17: no view
B18: =IF(OR('Two Heat Pumps'!E15=$O$17,'Two Heat Pumps'!E15=$O$18),-10,IF('Two Heat Pumps'!E15=$O$19,-5,0)) -> 0 | C18: =IF(OR('Two Heat Pumps'!F15=$O$17,'Two Heat Pumps'!F15=$O$18),-10,IF('Two Heat Pumps'!F15=$O$19,-5,0)) -> 0 | D18: =IF(OR('Two Heat Pumps'!G15=$O$17,'Two Heat Pumps'!G15=$O$18),-10,IF('Two Heat Pumps'!G15=$O$19,-5,0)) -> -5 | E18: =IF(OR('Two Heat Pumps'!H15=$O$17,'Two Heat Pumps'!H15=$O$18),-10,IF('Two Heat Pumps'!H15=$O$19,-5,0)) -> -5 | M18: two reflective surfaces | O18: close board fence (>=18mm thick boards) | Q18: partial view
B19: =IF(AND(B18=-10,'Two Heat Pumps'!E16=$Q$17),-10,IF(AND(B18=-10,'Two Heat Pumps'!E16=$Q$18),-5,IF(AND(B18=-5,'Two Heat Pumps'!E16=$Q$17),-5,IF(AND(B18=-5,'Two Heat Pumps'!E16=$Q$18),-2.5,0)))) -> 0 | C19: =IF(AND(C18=-10,'Two Heat Pumps'!F16=$Q$17),-10,IF(AND(C18=-10,'Two Heat Pumps'!F16=$Q$18),-5,IF(AND(C18=-5,'Two Heat Pumps'!F16=$Q$17),-5,IF(AND(C18=-5,'Two Heat Pumps'!F16=$Q$18),-2.5,0)))) -> 0 | D19: =IF(AND(D18=-10,'Two Heat Pumps'!G16=$Q$17),-10,IF(AND(D18=-10,'Two Heat Pumps'!G16=$Q$18),-5,IF(AND(D18=-5,'Two Heat Pumps'!G16=$Q$17),-5,IF(AND(D18=-5,'Two Heat Pumps'!G16=$Q$18),-2.5,0)))) -> -5 | E19: =IF(AND(E18=-10,'Two Heat Pumps'!H16=$Q$17),-10,IF(AND(E18=-10,'Two Heat Pumps'!H16=$Q$18),-5,IF(AND(E18=-5,'Two Heat Pumps'!H16=$Q$17),-5,IF(AND(E18=-5,'Two Heat Pumps'!H16=$Q$18),-2.5,0)))) -> -5 | M19: three reflective surfaces | O19: close board fence (<18mm thick boards) | Q19: full view
O20: open fencing
B21: =ROUND(B17+B19+'Two Heat Pumps'!E12,1) -> #DIV/0! | C21: =ROUND(C17+C19+'Two Heat Pumps'!F12,1) -> #DIV/0! | D21: =ROUND(D17+D19+'Two Heat Pumps'!G12,1) -> #DIV/0! | E21: =ROUND(E17+E19+'Two Heat Pumps'!H12,1) -> #DIV/0! | O21: vegetation
B22: =10^(B21/10) -> #DIV/0! | C22: =10^(C21/10) -> #DIV/0! | D22: =10^(D21/10) -> #DIV/0! | E22: =10^(E21/10) -> #DIV/0! | O22: no barrier
B26: =IF('Two Heat Pumps'!E19=$M$17,2,(IF('Two Heat Pumps'!E19=$M$18,4,8))) -> 4 | C26: =IF('Two Heat Pumps'!F19=$M$17,2,(IF('Two Heat Pumps'!F19=$M$18,4,8))) -> 4 | D26: =IF('Two Heat Pumps'!G19=$M$17,2,(IF('Two Heat Pumps'!G19=$M$18,4,8))) -> 4 | E26: =IF('Two Heat Pumps'!H19=$M$17,2,(IF('Two Heat Pumps'!H19=$M$18,4,8))) -> 2
B28: =10*LOG(B26/(4*PI()*('Two Heat Pumps'!E20^2))) -> #DIV/0! | C28: =10*LOG(C26/(4*PI()*('Two Heat Pumps'!F20^2))) -> #DIV/0! | D28: =10*LOG(D26/(4*PI()*('Two Heat Pumps'!G20^2))) -> #DIV/0! | E28: =10*LOG(E26/(4*PI()*('Two Heat Pumps'!H20^2))) -> #DIV/0!
B29: =IF(OR('Two Heat Pumps'!E21=$O$17,'Two Heat Pumps'!E21=$O$18),-10,IF('Two Heat Pumps'!E21=$O$19,-5,0)) -> 0 | C29: =IF(OR('Two Heat Pumps'!F21=$O$17,'Two Heat Pumps'!F21=$O$18),-10,IF('Two Heat Pumps'!F21=$O$19,-5,0)) -> -5 | D29: =IF(OR('Two Heat Pumps'!G21=$O$17,'Two Heat Pumps'!G21=$O$18),-10,IF('Two Heat Pumps'!G21=$O$19,-5,0)) -> -5 | E29: =IF(OR('Two Heat Pumps'!H21=$O$17,'Two Heat Pumps'!H21=$O$18),-10,IF('Two Heat Pumps'!H21=$O$19,-5,0)) -> -5
B30: =IF(AND(B29=-10,'Two Heat Pumps'!E22=$Q$17),-10,IF(AND(B29=-10,'Two Heat Pumps'!E22=$Q$18),-5,IF(AND(B29=-5,'Two Heat Pumps'!E22=$Q$17),-5,IF(AND(B29=-5,'Two Heat Pumps'!E22=$Q$18),-2.5,0)))) -> 0 | C30: =IF(AND(C29=-10,'Two Heat Pumps'!F22=$Q$17),-10,IF(AND(C29=-10,'Two Heat Pumps'!F22=$Q$18),-5,IF(AND(C29=-5,'Two Heat Pumps'!F22=$Q$17),-5,IF(AND(C29=-5,'Two Heat Pumps'!F22=$Q$18),-2.5,0)))) -> -2.5 | D30: =IF(AND(D29=-10,'Two Heat Pumps'!G22=$Q$17),-10,IF(AND(D29=-10,'Two Heat Pumps'!G22=$Q$18),-5,IF(AND(D29=-5,'Two Heat Pumps'!G22=$Q$17),-5,IF(AND(D29=-5,'Two Heat Pumps'!G22=$Q$18),-2.5,0)))) -> -5 | E30: =IF(AND(E29=-10,'Two Heat Pumps'!H22=$Q$17),-10,IF(AND(E29=-10,'Two Heat Pumps'!H22=$Q$18),-5,IF(AND(E29=-5,'Two Heat Pumps'!H22=$Q$17),-5,IF(AND(E29=-5,'Two Heat Pumps'!H22=$Q$18),-2.5,0)))) -> -5
B32: =ROUND(B28+B30+'Two Heat Pumps'!E18,1) -> #DIV/0! | C32: =C28+C30+'Two Heat Pumps'!F18 -> #DIV/0! | D32: =D28+D30+'Two Heat Pumps'!G18 -> #DIV/0! | E32: =E28+E30+'Two Heat Pumps'!H18 -> #DIV/0!
B33: =10^(B32/10) -> #DIV/0! | C33: =10^(C32/10) -> #DIV/0! | D33: =10^(D32/10) -> #DIV/0! | E33: =10^(E32/10) -> #DIV/0!
B35: =ROUND(10*LOG(SUM(B22,B33)),1) -> #DIV/0! | C35: =ROUND(10*LOG(SUM(C22,C33)),1) -> #DIV/0! | D35: =ROUND(10*LOG(SUM(D22,D33)),1) -> #DIV/0! | E35: =ROUND(10*LOG(SUM(E22,E33)),1) -> #DIV/0!
B36: =IF(B35<37.1,"pass","fail") -> #DIV/0! | C36: =IF(C35<37.1,"pass","fail") -> #DIV/0! | D36: =IF(D35<37.1,"pass","fail") -> #DIV/0! | E36: =IF(E35<37.1,"pass","fail") -> #DIV/0!
B40: =IF('Four Heat Pumps'!E17=$M$42,2,(IF('Four Heat Pumps'!E17=$M$43,4,8))) -> 4 | C40: =IF('Four Heat Pumps'!F17=$M$42,2,(IF('Four Heat Pumps'!F17=$M$43,4,8))) -> 4 | D40: =IF('Four Heat Pumps'!G17=$M$42,2,(IF('Four Heat Pumps'!G17=$M$43,4,8))) -> 4 | E40: =IF('Four Heat Pumps'!H17=$M$42,2,(IF('Four Heat Pumps'!H17=$M$43,4,8))) -> 2
M41: reflective surfaces | O41: barriers | Q41: line of sight
B42: =IF('Four Heat Pumps'!E18>0,10*LOG(B40/(4*PI()*('Four Heat Pumps'!E18^2))),0) -> 0 | C42: =IF('Four Heat Pumps'!F18>0,10*LOG(C40/(4*PI()*('Four Heat Pumps'!F18^2))),0) -> 0 | D42: =IF('Four Heat Pumps'!G18>0,10*LOG(D40/(4*PI()*('Four Heat Pumps'!G18^2))),0) -> 0 | E42: =IF('Four Heat Pumps'!H18>0,10*LOG(E40/(4*PI()*('Four Heat Pumps'!H18^2))),0) -> 0 | M42: one reflective surface | O42: solid wall (mass >=10kg/m2) | Q42: no view
B43: =IF(OR('Four Heat Pumps'!E19=$O$42,'Four Heat Pumps'!E19=$O$43),-10,IF('Four Heat Pumps'!E19=$O$44,-5,0)) -> 0 | C43: =IF(OR('Four Heat Pumps'!F19=$O$42,'Four Heat Pumps'!F19=$O$43),-10,IF('Four Heat Pumps'!F19=$O$44,-5,0)) -> -5 | D43: =IF(OR('Four Heat Pumps'!G19=$O$42,'Four Heat Pumps'!G19=$O$43),-10,IF('Four Heat Pumps'!G19=$O$44,-5,0)) -> -5 | E43: =IF(OR('Four Heat Pumps'!H19=$O$42,'Four Heat Pumps'!H19=$O$43),-10,IF('Four Heat Pumps'!H19=$O$44,-5,0)) -> -5 | M43: two reflective surfaces | O43: close board fence (>=18mm thick boards) | Q43: partial view
B44: =IF(AND(B43=-10,'Four Heat Pumps'!E20=$Q$42),-10,IF(AND(B43=-10,'Four Heat Pumps'!E20=$Q$43),-5,IF(AND(B43=-5,'Four Heat Pumps'!E20=$Q$42),-5,IF(AND(B43=-5,'Four Heat Pumps'!E20=$Q$43),-2.5,0)))) -> 0 | C44: =IF(AND(C43=-10,'Four Heat Pumps'!F20=$Q$42),-10,IF(AND(C43=-10,'Four Heat Pumps'!F20=$Q$43),-5,IF(AND(C43=-5,'Four Heat Pumps'!F20=$Q$42),-5,IF(AND(C43=-5,'Four Heat Pumps'!F20=$Q$43),-2.5,0)))) -> -2.5 | D44: =IF(AND(D43=-10,'Four Heat Pumps'!G20=$Q$42),-10,IF(AND(D43=-10,'Four Heat Pumps'!G20=$Q$43),-5,IF(AND(D43=-5,'Four Heat Pumps'!G20=$Q$42),-5,IF(AND(D43=-5,'Four Heat Pumps'!G20=$Q$43),-2.5,0)))) -> -5 | E44: =IF(AND(E43=-10,'Four Heat Pumps'!H20=$Q$42),-10,IF(AND(E43=-10,'Four Heat Pumps'!H20=$Q$43),-5,IF(AND(E43=-5,'Four Heat Pumps'!H20=$Q$42),-5,IF(AND(E43=-5,'Four Heat Pumps'!H20=$Q$43),-2.5,0)))) -> -5 | M44: three reflective surfaces | O44: close board fence (<18mm thick boards) | Q44: full view
O45: open fencing
B46: =ROUND(B42+B44+'Four Heat Pumps'!E16,1) -> 0 | C46: =ROUND(C42+C44+'Four Heat Pumps'!F16,1) -> -2.5 | D46: =ROUND(D42+D44+'Four Heat Pumps'!G16,1) -> -5 | E46: =ROUND(E42+E44+'Four Heat Pumps'!H16,1) -> -5 | O46: vegetation
B47: =10^(B46/10) -> 1 | C47: =10^(C46/10) -> 0.56234133 | D47: =10^(D46/10) -> 0.31622777 | E47: =10^(E46/10) -> 0.31622777 | O47: no barrier
B51: =IF('Four Heat Pumps'!E23=$M$42,2,(IF('Four Heat Pumps'!E23=$M$43,4,8))) -> 4 | C51: =IF('Four Heat Pumps'!F23=$M$42,2,(IF('Four Heat Pumps'!F23=$M$43,4,8))) -> 4 | D51: =IF('Four Heat Pumps'!G23=$M$42,2,(IF('Four Heat Pumps'!G23=$M$43,4,8))) -> 4 | E51: =IF('Four Heat Pumps'!H23=$M$42,2,(IF('Four Heat Pumps'!H23=$M$43,4,8))) -> 2
B53: =IF('Four Heat Pumps'!E24>0,10*LOG(B51/(4*PI()*('Four Heat Pumps'!E24^2))),0) -> 0 | C53: =IF('Four Heat Pumps'!F24>0,10*LOG(C51/(4*PI()*('Four Heat Pumps'!F24^2))),0) -> 0 | D53: =IF('Four Heat Pumps'!G24>0,10*LOG(D51/(4*PI()*('Four Heat Pumps'!G24^2))),0) -> 0 | E53: =IF('Four Heat Pumps'!H24>0,10*LOG(E51/(4*PI()*('Four Heat Pumps'!H24^2))),0) -> 0
B54: =IF(OR('Four Heat Pumps'!E25=$O$42,'Four Heat Pumps'!E25=$O$43),-10,IF('Four Heat Pumps'!E25=$O$44,-5,0)) -> 0 | C54: =IF(OR('Four Heat Pumps'!F25=$O$42,'Four Heat Pumps'!F25=$O$43),-10,IF('Four Heat Pumps'!F25=$O$44,-5,0)) -> -5 | D54: =IF(OR('Four Heat Pumps'!G25=$O$42,'Four Heat Pumps'!G25=$O$43),-10,IF('Four Heat Pumps'!G25=$O$44,-5,0)) -> -5 | E54: =IF(OR('Four Heat Pumps'!H25=$O$42,'Four Heat Pumps'!H25=$O$43),-10,IF('Four Heat Pumps'!H25=$O$44,-5,0)) -> -5
B55: =IF(AND(B54=-10,'Four Heat Pumps'!E26=$Q$42),-10,IF(AND(B54=-10,'Four Heat Pumps'!E26=$Q$43),-5,IF(AND(B54=-5,'Four Heat Pumps'!E26=$Q$42),-5,IF(AND(B54=-5,'Four Heat Pumps'!E26=$Q$43),-2.5,0)))) -> 0 | C55: =IF(AND(C54=-10,'Four Heat Pumps'!F26=$Q$42),-10,IF(AND(C54=-10,'Four Heat Pumps'!F26=$Q$43),-5,IF(AND(C54=-5,'Four Heat Pumps'!F26=$Q$42),-5,IF(AND(C54=-5,'Four Heat Pumps'!F26=$Q$43),-2.5,0)))) -> -2.5 | D55: =IF(AND(D54=-10,'Four Heat Pumps'!G26=$Q$42),-10,IF(AND(D54=-10,'Four Heat Pumps'!G26=$Q$43),-5,IF(AND(D54=-5,'Four Heat Pumps'!G26=$Q$42),-5,IF(AND(D54=-5,'Four Heat Pumps'!G26=$Q$43),-2.5,0)))) -> -5 | E55: =IF(AND(E54=-10,'Four Heat Pumps'!H26=$Q$42),-10,IF(AND(E54=-10,'Four Heat Pumps'!H26=$Q$43),-5,IF(AND(E54=-5,'Four Heat Pumps'!H26=$Q$42),-5,IF(AND(E54=-5,'Four Heat Pumps'!H26=$Q$43),-2.5,0)))) -> -5
B57: =ROUND(B53+B55+'Four Heat Pumps'!E22,1) -> 0 | C57: =ROUND(C53+C55+'Four Heat Pumps'!F22,1) -> -2.5 | D57: =ROUND(D53+D55+'Four Heat Pumps'!G22,1) -> -5 | E57: =ROUND(E53+E55+'Four Heat Pumps'!H22,1) -> -5
B58: =10^(B57/10) -> 1 | C58: =10^(C57/10) -> 0.56234133 | D58: =10^(D57/10) -> 0.31622777 | E58: =10^(E57/10) -> 0.31622777
B62: =IF('Four Heat Pumps'!E29=$M$42,2,(IF('Four Heat Pumps'!E29=$M$43,4,8))) -> 4 | C62: =IF('Four Heat Pumps'!F29=$M$42,2,(IF('Four Heat Pumps'!F29=$M$43,4,8))) -> 4 | D62: =IF('Four Heat Pumps'!G29=$M$42,2,(IF('Four Heat Pumps'!G29=$M$43,4,8))) -> 4 | E62: =IF('Four Heat Pumps'!H29=$M$42,2,(IF('Four Heat Pumps'!H29=$M$43,4,8))) -> 2
B64: =IF('Four Heat Pumps'!E30>0,10*LOG(B62/(4*PI()*('Four Heat Pumps'!E30^2))),0) -> 0 | C64: =IF('Four Heat Pumps'!F30>0,10*LOG(C62/(4*PI()*('Four Heat Pumps'!F30^2))),0) -> 0 | D64: =IF('Four Heat Pumps'!G30>0,10*LOG(D62/(4*PI()*('Four Heat Pumps'!G30^2))),0) -> 0 | E64: =IF('Four Heat Pumps'!H30>0,10*LOG(E62/(4*PI()*('Four Heat Pumps'!H30^2))),0) -> 0
B65: =IF(OR('Four Heat Pumps'!E31=$O$42,'Four Heat Pumps'!E31=$O$43),-10,IF('Four Heat Pumps'!E31=$O$44,-5,0)) -> 0 | C65: =IF(OR('Four Heat Pumps'!F31=$O$42,'Four Heat Pumps'!F31=$O$43),-10,IF('Four Heat Pumps'!F31=$O$44,-5,0)) -> -5 | D65: =IF(OR('Four Heat Pumps'!G31=$O$42,'Four Heat Pumps'!G31=$O$43),-10,IF('Four Heat Pumps'!G31=$O$44,-5,0)) -> -5 | E65: =IF(OR('Four Heat Pumps'!H31=$O$42,'Four Heat Pumps'!H31=$O$43),-10,IF('Four Heat Pumps'!H31=$O$44,-5,0)) -> -5
B66: =IF(AND(B65=-10,'Four Heat Pumps'!E32=$Q$42),-10,IF(AND(B65=-10,'Four Heat Pumps'!E32=$Q$43),-5,IF(AND(B65=-5,'Four Heat Pumps'!E32=$Q$42),-5,IF(AND(B65=-5,'Four Heat Pumps'!E32=$Q$43),-2.5,0)))) -> 0 | C66: =IF(AND(C65=-10,'Four Heat Pumps'!F32=$Q$42),-10,IF(AND(C65=-10,'Four Heat Pumps'!F32=$Q$43),-5,IF(AND(C65=-5,'Four Heat Pumps'!F32=$Q$42),-5,IF(AND(C65=-5,'Four Heat Pumps'!F32=$Q$43),-2.5,0)))) -> -2.5 | D66: =IF(AND(D65=-10,'Four Heat Pumps'!G32=$Q$42),-10,IF(AND(D65=-10,'Four Heat Pumps'!G32=$Q$43),-5,IF(AND(D65=-5,'Four Heat Pumps'!G32=$Q$42),-5,IF(AND(D65=-5,'Four Heat Pumps'!G32=$Q$43),-2.5,0)))) -> -5 | E66: =IF(AND(E65=-10,'Four Heat Pumps'!H32=$Q$42),-10,IF(AND(E65=-10,'Four Heat Pumps'!H32=$Q$43),-5,IF(AND(E65=-5,'Four Heat Pumps'!H32=$Q$42),-5,IF(AND(E65=-5,'Four Heat Pumps'!H32=$Q$43),-2.5,0)))) -> -5
B68: =ROUND(B64+B66+'Four Heat Pumps'!E28,1) -> 0 | C68: =ROUND(C64+C66+'Four Heat Pumps'!F28,1) -> -2.5 | D68: =ROUND(D64+D66+'Four Heat Pumps'!G28,1) -> -5 | E68: =ROUND(E64+E66+'Four Heat Pumps'!H28,1) -> -5
B69: =10^(B68/10) -> 1 | C69: =10^(C68/10) -> 0.56234133 | D69: =10^(D68/10) -> 0.31622777 | E69: =10^(E68/10) -> 0.31622777
B73: =IF('Four Heat Pumps'!E35=$M$42,2,(IF('Four Heat Pumps'!E35=$M$43,4,8))) -> 4 | C73: =IF('Four Heat Pumps'!F35=$M$42,2,(IF('Four Heat Pumps'!F35=$M$43,4,8))) -> 4 | D73: =IF('Four Heat Pumps'!G35=$M$42,2,(IF('Four Heat Pumps'!G35=$M$43,4,8))) -> 4 | E73: =IF('Four Heat Pumps'!H35=$M$42,2,(IF('Four Heat Pumps'!H35=$M$43,4,8))) -> 2
B75: =IF('Four Heat Pumps'!E36>0,10*LOG(B73/(4*PI()*('Four Heat Pumps'!E36^2))),0) -> 0 | C75: =IF('Four Heat Pumps'!F36>0,10*LOG(C73/(4*PI()*('Four Heat Pumps'!F36^2))),0) -> 0 | D75: =IF('Four Heat Pumps'!G36>0,10*LOG(D73/(4*PI()*('Four Heat Pumps'!G36^2))),0) -> 0 | E75: =IF('Four Heat Pumps'!H36>0,10*LOG(E73/(4*PI()*('Four Heat Pumps'!H36^2))),0) -> 0
B76: =IF(OR('Four Heat Pumps'!E37=$O$42,'Four Heat Pumps'!E37=$O$43),-10,IF('Four Heat Pumps'!E37=$O$44,-5,0)) -> 0 | C76: =IF(OR('Four Heat Pumps'!F37=$O$42,'Four Heat Pumps'!F37=$O$43),-10,IF('Four Heat Pumps'!F37=$O$44,-5,0)) -> -5 | D76: =IF(OR('Four Heat Pumps'!G37=$O$42,'Four Heat Pumps'!G37=$O$43),-10,IF('Four Heat Pumps'!G37=$O$44,-5,0)) -> -5 | E76: =IF(OR('Four Heat Pumps'!H37=$O$42,'Four Heat Pumps'!H37=$O$43),-10,IF('Four Heat Pumps'!H37=$O$44,-5,0)) -> -5
B77: =IF(AND(B76=-10,'Four Heat Pumps'!E38=$Q$42),-10,IF(AND(B76=-10,'Four Heat Pumps'!E38=$Q$43),-5,IF(AND(B76=-5,'Four Heat Pumps'!E38=$Q$42),-5,IF(AND(B76=-5,'Four Heat Pumps'!E38=$Q$43),-2.5,0)))) -> 0 | C77: =IF(AND(C76=-10,'Four Heat Pumps'!F38=$Q$42),-10,IF(AND(C76=-10,'Four Heat Pumps'!F38=$Q$43),-5,IF(AND(C76=-5,'Four Heat Pumps'!F38=$Q$42),-5,IF(AND(C76=-5,'Four Heat Pumps'!F38=$Q$43),-2.5,0)))) -> -2.5 | D77: =IF(AND(D76=-10,'Four Heat Pumps'!G38=$Q$42),-10,IF(AND(D76=-10,'Four Heat Pumps'!G38=$Q$43),-5,IF(AND(D76=-5,'Four Heat Pumps'!G38=$Q$42),-5,IF(AND(D76=-5,'Four Heat Pumps'!G38=$Q$43),-2.5,0)))) -> -5 | E77: =IF(AND(E76=-10,'Four Heat Pumps'!H38=$Q$42),-10,IF(AND(E76=-10,'Four Heat Pumps'!H38=$Q$43),-5,IF(AND(E76=-5,'Four Heat Pumps'!H38=$Q$42),-5,IF(AND(E76=-5,'Four Heat Pumps'!H38=$Q$43),-2.5,0)))) -> -5
B79: =ROUND(B75+B77+'Four Heat Pumps'!E34,1) -> #VALUE! | C79: =ROUND(C75+C77+'Four Heat Pumps'!F34,1) -> -2.5 | D79: =ROUND(D75+D77+'Four Heat Pumps'!G34,1) -> -5 | E79: =ROUND(E75+E77+'Four Heat Pumps'!H34,1) -> -5
B80: =10^(B79/10) -> #VALUE! | C80: =10^(C79/10) -> 0.56234133 | D80: =10^(D79/10) -> 0.31622777 | E80: =10^(E79/10) -> 0.31622777
B83: =IF(B46>0,B47,0) -> 0 | C83: =IF(C46>0,C47,0) -> 0 | D83: =IF(D46>0,D47,0) -> 0 | E83: =IF(E46>0,E47,0) -> 0
B84: =IF(B57>0,B58,0) -> 0 | C84: =IF(C57>0,C58,0) -> 0 | D84: =IF(D57>0,D58,0) -> 0 | E84: =IF(E57>0,E58,0) -> 0
B85: =IF(B68>0,B69,0) -> 0 | C85: =IF(C68>0,C69,0) -> 0 | D85: =IF(D68>0,D69,0) -> 0 | E85: =IF(E68>0,E69,0) -> 0
B86: =IF(B79>0,B80,0) -> #VALUE! | C86: =IF(C79>0,C80,0) -> 0 | D86: =IF(D79>0,D80,0) -> 0 | E86: =IF(E79>0,E80,0) -> 0
B88: =ROUND(10*LOG(SUM(B83:B86)),1) -> #VALUE! | C88: =ROUND(10*LOG(SUM(C83:C86)),1) -> #NUM! | D88: =ROUND(10*LOG(SUM(D83:D86)),1) -> #NUM! | E88: =ROUND(10*LOG(SUM(E83:E86)),1) -> #NUM!
B89: =IF(B88<37.1,"pass","fail") -> #VALUE! | C89: =IF(C88<37.1,"pass","fail") -> #NUM! | D89: =IF(D88<37.1,"pass","fail") -> #NUM! | E89: =IF(E88<37.1,"pass","fail") -> #NUM!
